BEGIN:VCALENDAR
VERSION:2.0
PRODID:-//Wayshowers College Australia - ECPv6.15.16.1//NONSGML v1.0//EN
CALSCALE:GREGORIAN
METHOD:PUBLISH
X-WR-CALNAME:Wayshowers College Australia
X-ORIGINAL-URL:https://www.wayshowerscollege.net/au
X-WR-CALDESC:Events for Wayshowers College Australia
REFRESH-INTERVAL;VALUE=DURATION:PT1H
X-Robots-Tag:noindex
X-PUBLISHED-TTL:PT1H
BEGIN:VTIMEZONE
TZID:UTC
BEGIN:STANDARD
TZOFFSETFROM:+0000
TZOFFSETTO:+0000
TZNAME:UTC
DTSTART:20220101T000000
END:STANDARD
END:VTIMEZONE
BEGIN:VEVENT
DTSTART;TZID=UTC:20231119T130000
DTEND;TZID=UTC:20231119T160000
DTSTAMP:20260421T043639
CREATED:20231024T064148Z
LAST-MODIFIED:20231024T064148Z
UID:10000083-1700398800-1700409600@www.wayshowerscollege.net
SUMMARY:593: Discovering My Inner Pivot Point
DESCRIPTION:593: Discovering My Inner Pivot Point:\n \n1.      In this course you will realize the importance of discerning where you are at all times\, where you come from and where you are going in order to have clearer direction.\n\n2.      You will evaluate what it could mean to you to be on your own pivot point at all times in your daily life.\n\n3.      You will learn to truly help yourself by being in your own energy 100% and become an example of success to others by being in command of your situation.\n\n4.      You will discover the relationship between your pivot point and your ability to move mountains.\n\n5.      You will learn how your personal sensitivity and your communication with your Guidance can work together in helping you stay on your own Pivot point.\n\n6.      You Will find simple ways that will help you work more closely with Spirit in your daily actions.\n\n7.      You will gain a big picture of the many avenues available to you for your spiritual growth through Wayshowers College.\n \n\nThis class is In Person.
URL:https://www.wayshowerscollege.net/au/event/593-discovering-my-inner-pivot-point/
LOCATION:Spiritual Freedom Group\, Sydney\, 2231\, Australia
CATEGORIES:Field
ORGANIZER;CN="Julie Jara":MAILTO:julie@juliejara.com
END:VEVENT
END:VCALENDAR