BEGIN:VCALENDAR
VERSION:2.0
PRODID:-//Wayshowers College Australia - ECPv6.15.16.1//NONSGML v1.0//EN
CALSCALE:GREGORIAN
METHOD:PUBLISH
X-ORIGINAL-URL:https://www.wayshowerscollege.net/au
X-WR-CALDESC:Events for Wayshowers College Australia
REFRESH-INTERVAL;VALUE=DURATION:PT1H
X-Robots-Tag:noindex
X-PUBLISHED-TTL:PT1H
BEGIN:VTIMEZONE
TZID:UTC
BEGIN:STANDARD
TZOFFSETFROM:+0000
TZOFFSETTO:+0000
TZNAME:UTC
DTSTART:20230101T000000
END:STANDARD
END:VTIMEZONE
BEGIN:VEVENT
DTSTART;TZID=UTC:20240504T160000
DTEND;TZID=UTC:20240504T190000
DTSTAMP:20260422T194752
CREATED:20240321T202732Z
LAST-MODIFIED:20240412T202224Z
UID:10000123-1714838400-1714849200@www.wayshowerscollege.net
SUMMARY:3098: Your Mystical Feeling Perception - Balanced and Out of Balance
DESCRIPTION:3098: Your Mystical Feeling Perception – Balanced and Out of Balance:\nThis is the final workshop in the IPM International Progressive retreat that started on April 13 and occurred on Saturdays for 3 previous weeks with this course being the 4th part.  It is available to attend as a free standing course.  FMI: www.innerpeacewithin.com \n\nIn this course you will learn how the mystical perception of Feeling communicates when in balance or out-of-balance in some of its characteristics.\nYou will find out how the people with Feeling as their first avenue of communication motivate themselves and others.\nYou will find out some of the ways the Feeling perception reacts under pressure.\nYou will gain insight on some of the ways people with the Feeling perception as their first avenue of communication intimidate others.\nYou will gain understanding on how Feelers like to accomplish and what gives them the most fulfillment.\nYou will experience Techniques to unfold your Feeling perception in a positive and balanced way.\n\n\nThis class is Virtual.
URL:https://www.wayshowerscollege.net/au/event/3098-your-mystical-feeling-perception-balanced-and-out-of-balance-2/
CATEGORIES:Field
ORGANIZER;CN="IPM International":MAILTO:ipmiworld.org@yahoo.com
END:VEVENT
END:VCALENDAR