BEGIN:VCALENDAR
VERSION:2.0
PRODID:-//Wayshowers College Australia - ECPv6.15.16.1//NONSGML v1.0//EN
CALSCALE:GREGORIAN
METHOD:PUBLISH
X-WR-CALNAME:Wayshowers College Australia
X-ORIGINAL-URL:https://www.wayshowerscollege.net/au
X-WR-CALDESC:Events for Wayshowers College Australia
REFRESH-INTERVAL;VALUE=DURATION:PT1H
X-Robots-Tag:noindex
X-PUBLISHED-TTL:PT1H
BEGIN:VTIMEZONE
TZID:UTC
BEGIN:STANDARD
TZOFFSETFROM:+0000
TZOFFSETTO:+0000
TZNAME:UTC
DTSTART:20250101T000000
END:STANDARD
END:VTIMEZONE
BEGIN:VEVENT
DTSTART;TZID=UTC:20260326T140000
DTEND;TZID=UTC:20260326T233000
DTSTAMP:20260424T184048
CREATED:20260324T202701Z
LAST-MODIFIED:20260324T202701Z
UID:10000174-1774533600-1774567800@www.wayshowerscollege.net
SUMMARY:5001IL: Spiritual Freedom Orientation Lecture
DESCRIPTION:5001IL: Spiritual Freedom Orientation Lecture:\n\nWhat: SFS Orientation Lecture: Intuition\, Spirit Guides and Life Purpose \nDuring this Interactive Class You will experience: \n1. The power of your spiritual energy/aura \n2. Begin to understand your life purpose and how you can unfold it \n3. Learn about your team of guides and how you can be aware of their messages and how to \n4. Recognize ANYTIME your Spiritual Helpers want to communicate with you \n5. Discover how sensitive you are to your environment and why it is essential to raise your vibration to its highest positive point \n6. Explore the 7-year cycles and purpose of each cycle \n7. Learn the 4 ways you can use your intuitive (psychic) abilities and learn to develop all 4. \nInvestment: $15.00 Offered 3 different times on Oct 23\, 2 PM\, 7 PM and 10 PM EDT \nWhen: Mar 26\, 2026  2 PM\, 7 PM\, and 10 PM EDT\, New York\, USA \n\n \n\n\n\nThis class is Virtual.
URL:https://www.wayshowerscollege.net/au/event/5001il-spiritual-freedom-orientation-lecture-5/
CATEGORIES:Field
ORGANIZER;CN="IPM International":MAILTO:treasurer@ipminternational.org
END:VEVENT
END:VCALENDAR