BEGIN:VCALENDAR
VERSION:2.0
PRODID:-//Wayshowers College Australia - ECPv6.15.16.1//NONSGML v1.0//EN
CALSCALE:GREGORIAN
METHOD:PUBLISH
X-WR-CALNAME:Wayshowers College Australia
X-ORIGINAL-URL:https://www.wayshowerscollege.net/au
X-WR-CALDESC:Events for Wayshowers College Australia
REFRESH-INTERVAL;VALUE=DURATION:PT1H
X-Robots-Tag:noindex
X-PUBLISHED-TTL:PT1H
BEGIN:VTIMEZONE
TZID:UTC
BEGIN:STANDARD
TZOFFSETFROM:+0000
TZOFFSETTO:+0000
TZNAME:UTC
DTSTART:20210101T000000
END:STANDARD
END:VTIMEZONE
BEGIN:VEVENT
DTSTART;TZID=UTC:20220331T190000
DTEND;TZID=UTC:20220331T203000
DTSTAMP:20260422T115810
CREATED:20220308T210525Z
LAST-MODIFIED:20220308T210525Z
UID:10000015-1648753200-1648758600@www.wayshowerscollege.net
SUMMARY:700 IL: Astro Soul Orientation Lecture
DESCRIPTION:700 IL: Astro Soul Orientation Lecture:\n \nIn the Astro Soul Orientation Lecture you will expand your awareness of who you are as a soul.  Topics include: auras\, spiritual sensitivity\, inner guidance\, life after death and intuitive hunches.\n \n\nThis class is Virtual.
URL:https://www.wayshowerscollege.net/au/event/700-il-astro-soul-orientation-lecture-2/
CATEGORIES:Field
ORGANIZER;CN="Dawn Overstreet":MAILTO:enthusiasticdawn@gmail.com
END:VEVENT
BEGIN:VEVENT
DTSTART;TZID=UTC:20220331T190000
DTEND;TZID=UTC:20220331T203000
DTSTAMP:20260422T115810
CREATED:20220310T174825Z
LAST-MODIFIED:20220310T174825Z
UID:10000003-1648753200-1648758600@www.wayshowerscollege.net
SUMMARY:700 IL: Astro Soul Orientation Lecture
DESCRIPTION:700 IL: Astro Soul Orientation Lecture:\n \nIn the Astro Soul Orientation Lecture you will expand your awareness of who you are as a soul.  Topics include: auras\, spiritual sensitivity\, inner guidance\, life after death and intuitive hunches.\n \n\nThis class is .
URL:https://www.wayshowerscollege.net/au/event/700-il-astro-soul-orientation-lecture-3/
CATEGORIES:Field
ORGANIZER;CN="Dawn Overstreet":MAILTO:enthusiasticdawn@gmail.com
END:VEVENT
END:VCALENDAR