BEGIN:VCALENDAR
VERSION:2.0
PRODID:-//Wayshowers College Australia - ECPv6.15.16.1//NONSGML v1.0//EN
CALSCALE:GREGORIAN
METHOD:PUBLISH
X-WR-CALNAME:Wayshowers College Australia
X-ORIGINAL-URL:https://www.wayshowerscollege.net/au
X-WR-CALDESC:Events for Wayshowers College Australia
REFRESH-INTERVAL;VALUE=DURATION:PT1H
X-Robots-Tag:noindex
X-PUBLISHED-TTL:PT1H
BEGIN:VTIMEZONE
TZID:UTC
BEGIN:STANDARD
TZOFFSETFROM:+0000
TZOFFSETTO:+0000
TZNAME:UTC
DTSTART:20220101T000000
END:STANDARD
END:VTIMEZONE
BEGIN:VTIMEZONE
TZID:Australia/Sydney
BEGIN:STANDARD
TZOFFSETFROM:+1100
TZOFFSETTO:+1000
TZNAME:AEST
DTSTART:20220402T160000
END:STANDARD
BEGIN:DAYLIGHT
TZOFFSETFROM:+1000
TZOFFSETTO:+1100
TZNAME:AEDT
DTSTART:20221001T160000
END:DAYLIGHT
BEGIN:STANDARD
TZOFFSETFROM:+1100
TZOFFSETTO:+1000
TZNAME:AEST
DTSTART:20230401T160000
END:STANDARD
BEGIN:DAYLIGHT
TZOFFSETFROM:+1000
TZOFFSETTO:+1100
TZNAME:AEDT
DTSTART:20230930T160000
END:DAYLIGHT
BEGIN:STANDARD
TZOFFSETFROM:+1100
TZOFFSETTO:+1000
TZNAME:AEST
DTSTART:20240406T160000
END:STANDARD
BEGIN:DAYLIGHT
TZOFFSETFROM:+1000
TZOFFSETTO:+1100
TZNAME:AEDT
DTSTART:20241005T160000
END:DAYLIGHT
END:VTIMEZONE
BEGIN:VEVENT
DTSTART;TZID=UTC:20230401T130000
DTEND;TZID=UTC:20230401T190000
DTSTAMP:20260422T023926
CREATED:20230306T235418Z
LAST-MODIFIED:20230306T235418Z
UID:10000046-1680354000-1680375600@www.wayshowerscollege.net
SUMMARY:560: Expansion into Soul Consciousness
DESCRIPTION:560: Expansion into Soul Consciousness:\n \n1.      In this course you will regroup the wisdom you have within and rediscover your true self by understanding how you operate on both the physical and spiritual planes.\n\n2.      You will regain the feeling of oneness with all things by rediscovering that “childlike” part of you.\n\n3.      You will experience Techniques that focus on helping you understand tour real self.\n\n4.      You will gain a new perspective of yourself as a soul in higher school of learning as you examine your life purpose and where you can go to achieve it.\n \n\nThis class is In Person.
URL:https://www.wayshowerscollege.net/au/event/560-expansion-into-soul-consciousness/
LOCATION:Greenhills Neighbourhood House\, 2 Community Drive\, Greensborough\, 3088\, Australia
CATEGORIES:Field
ORGANIZER;CN="Pamela England":MAILTO:englandgroup01@gmail.com
END:VEVENT
BEGIN:VEVENT
DTSTART;TZID=UTC:20230408T130000
DTEND;TZID=UTC:20230408T190000
DTSTAMP:20260422T023926
CREATED:20230407T014140Z
LAST-MODIFIED:20230407T014140Z
UID:10000054-1680958800-1680980400@www.wayshowerscollege.net
SUMMARY:560: Expansion into Soul Consciousness
DESCRIPTION:560: Expansion into Soul Consciousness:\n \n1.      In this course you will regroup the wisdom you have within and rediscover your true self by understanding how you operate on both the physical and spiritual planes.\n\n2.      You will regain the feeling of oneness with all things by rediscovering that “childlike” part of you.\n\n3.      You will experience Techniques that focus on helping you understand tour real self.\n\n4.      You will gain a new perspective of yourself as a soul in higher school of learning as you examine your life purpose and where you can go to achieve it.\n \n\nThis class is In Person.
URL:https://www.wayshowerscollege.net/au/event/560-expansion-into-soul-consciousness-2/
LOCATION:Persoal Freedom\, 108 Elder Street\, Greensborough\, 3088\, Australia
CATEGORIES:Field
ORGANIZER;CN="Pamela England":MAILTO:englandgroup01@gmail.com
END:VEVENT
BEGIN:VEVENT
DTSTART;TZID=UTC:20230417T160000
DTEND;TZID=UTC:20230417T190000
DTSTAMP:20260422T023926
CREATED:20230331T014625Z
LAST-MODIFIED:20230331T014625Z
UID:10000050-1681747200-1681758000@www.wayshowerscollege.net
SUMMARY:700-EFD: Exploring the Fifth Dimension (Workshop)
DESCRIPTION:700-EFD: Exploring the Fifth Dimension (Workshop):\n \n1.      In this Second Step Workshop you will experience the Fifth Dimension through Techniques that help You explore your spiritual energy.\n\n2.      You will learn to keep your energy positive at all times through Spiritual Cleansing.\n\n3.      You will understand “out of body” experiences and learn to astro-travel as a free soul in the Universe.\n\n4.      You will learn to develop your clairaudience through the Technique called “Intuitive Impressions.”\n \n\nThis class is Virtual.
URL:https://www.wayshowerscollege.net/au/event/700-efd-exploring-the-fifth-dimension-workshop/
CATEGORIES:Field
ORGANIZER;CN="Shannon Schilling":MAILTO:growing4success@yahoo.com
END:VEVENT
BEGIN:VEVENT
DTSTART;TZID=Australia/Sydney:20230420T083000
DTEND;TZID=Australia/Sydney:20230427T110000
DTSTAMP:20260422T023926
CREATED:20230404T194314Z
LAST-MODIFIED:20230407T003520Z
UID:10000051-1681979400-1682593200@www.wayshowerscollege.net
SUMMARY:Symbolism of the Four Gospels
DESCRIPTION:604: Symbolism of the Four Gospels\nThis is a 2 day course. \n1.      In this course you will examine quotations from Matthew\, Mark\, Luke and John to discover the spiritual teachings on which Christianity is based.\n\n2.      You will explore several key symbols in the Bible and tune into your own interpretations.\n\n3.      You will be able to relate your thoughts and feelings of these symbols to your everyday life and sense their continued relevance to contemporary society.\n  \n\nThis class is Virtual.  April 20 & 27 8:30-11:00 am Sydney time
URL:https://www.wayshowerscollege.net/au/event/604-symbolism-of-the-four-gospels/
CATEGORIES:Field
ORGANIZER;CN="Mara Spencer":MAILTO:inspiringbelief@cox.net
END:VEVENT
BEGIN:VEVENT
DTSTART;TZID=Australia/Sydney:20230422T110000
DTEND;TZID=Australia/Sydney:20230425T000000
DTSTAMP:20260422T023926
CREATED:20230224T224708Z
LAST-MODIFIED:20230225T171036Z
UID:10000044-1682161200-1682380800@www.wayshowerscollege.net
SUMMARY:In-Depth Healing of the Chakra Centers
DESCRIPTION:Course 759-A: In-Depth Healing of the Chakra Centers\n\n  \n\nExperience this perfect follow-up to Tiger Coll’s Fall 2022 Tour. Journey into the mystical reality of each of your seven chakra centers in this Astro-Soul course that has not been offered in 15 years. \nGain unique information – not found elsewhere – on attitudes and habits that build or restrict the flow of energy through each chakra center. \nDiscover the keys to Elevate your energy system\, Innovate to accomplish your goals and live your dreams while fulfilling your life purpose. Immerse yourself in relaxation\, visualization and understanding yourself at a deeper level than ever before. \nPre-requisites:\n1001\, 1002-A profiles (suggested 1003-A profile). \n\nThis class is Virtual.
URL:https://www.wayshowerscollege.net/au/event/759-a-in-depth-healing-of-the-chakra-centres/
CATEGORIES:Field
ORGANIZER;CN="Mara Spencer":MAILTO:inspiringbelief@cox.net
END:VEVENT
BEGIN:VEVENT
DTSTART;TZID=UTC:20230422T140000
DTEND;TZID=UTC:20230422T200000
DTSTAMP:20260422T023926
CREATED:20230306T235942Z
LAST-MODIFIED:20230306T235942Z
UID:10000047-1682172000-1682193600@www.wayshowerscollege.net
SUMMARY:561: Directing Life Energy Behind My Goals
DESCRIPTION:561: Directing Life Energy Behind My Goals:\n \n1.      In this course you will look at your concepts of possessions\, wants\, loyalties and leadership to expand your standards into a more abundant state of consciousness.\n\n2.      You will begin to understand the importance of living in the present moment as you learn to set your own goals and evaluate your own leadership qualities and see how making a decision can get you anything you want.\n\n3.      You will unfold how you can use your spiritual gifts of Feeling and Intuition to channel your energy.\n\n4.      You will review the programs and opportunities for positions offered by the corporations and movements associated with Wayshowers College.\n \n\nThis class is In Person.
URL:https://www.wayshowerscollege.net/au/event/561-directing-life-energy-behind-my-goals/
LOCATION:Greenhills Neighbourhood House\, 2 Community Drive\, Greensborough\, 3088\, Australia
CATEGORIES:Field
ORGANIZER;CN="Pamela England":MAILTO:englandgroup01@gmail.com
END:VEVENT
END:VCALENDAR