BEGIN:VCALENDAR
VERSION:2.0
PRODID:-//Wayshowers College Australia - ECPv6.15.16.1//NONSGML v1.0//EN
CALSCALE:GREGORIAN
METHOD:PUBLISH
X-WR-CALNAME:Wayshowers College Australia
X-ORIGINAL-URL:https://www.wayshowerscollege.net/au
X-WR-CALDESC:Events for Wayshowers College Australia
REFRESH-INTERVAL;VALUE=DURATION:PT1H
X-Robots-Tag:noindex
X-PUBLISHED-TTL:PT1H
BEGIN:VTIMEZONE
TZID:UTC
BEGIN:STANDARD
TZOFFSETFROM:+0000
TZOFFSETTO:+0000
TZNAME:UTC
DTSTART:20220101T000000
END:STANDARD
END:VTIMEZONE
BEGIN:VTIMEZONE
TZID:Australia/Sydney
BEGIN:STANDARD
TZOFFSETFROM:+1100
TZOFFSETTO:+1000
TZNAME:AEST
DTSTART:20220402T160000
END:STANDARD
BEGIN:DAYLIGHT
TZOFFSETFROM:+1000
TZOFFSETTO:+1100
TZNAME:AEDT
DTSTART:20221001T160000
END:DAYLIGHT
BEGIN:STANDARD
TZOFFSETFROM:+1100
TZOFFSETTO:+1000
TZNAME:AEST
DTSTART:20230401T160000
END:STANDARD
BEGIN:DAYLIGHT
TZOFFSETFROM:+1000
TZOFFSETTO:+1100
TZNAME:AEDT
DTSTART:20230930T160000
END:DAYLIGHT
BEGIN:STANDARD
TZOFFSETFROM:+1100
TZOFFSETTO:+1000
TZNAME:AEST
DTSTART:20240406T160000
END:STANDARD
BEGIN:DAYLIGHT
TZOFFSETFROM:+1000
TZOFFSETTO:+1100
TZNAME:AEDT
DTSTART:20241005T160000
END:DAYLIGHT
END:VTIMEZONE
BEGIN:VEVENT
DTSTART;TZID=UTC:20230507T080000
DTEND;TZID=UTC:20230507T110000
DTSTAMP:20260421T145607
CREATED:20230327T000823Z
LAST-MODIFIED:20230404T205027Z
UID:10000049-1683446400-1683457200@www.wayshowerscollege.net
SUMMARY:Exploring Inner Dynamics (Workshop)
DESCRIPTION:Course 500-EID: Exploring Inner Dynamics (Workshop)\nIn Australia\, May 7th – 8am Sydney Time \n \n1      In this course you will obtain a bigger picture for your purpose in life and for your own personal plan while passing through Planet Earth.\n\n2.      You will find practical keys for your personal spiritual unfoldment that you can use at any time to be a successful leader of yourself.\n\n3.      You will experience the simplicity of techniques involving you to experience your own energy.\n\n4.      You will learn to discern your own energy from the energies of your environment.\n\n5.      You will also learn to keep your energy positive at all times.\n\n6.      You will understand and feel the power of your spiritual healing energy.\n  \n\nSIGN UP\, HAVE FUN AND MEET GREAT FOLKS! \nThis class is Virtual.
URL:https://www.wayshowerscollege.net/au/event/500-eid-exploring-inner-dynamics-workshop/
CATEGORIES:Field
ORGANIZER;CN="Dawn Overstreet":MAILTO:enthusiasticdawn@gmail.com
END:VEVENT
BEGIN:VEVENT
DTSTART;TZID=UTC:20230510T183000
DTEND;TZID=UTC:20230524T213000
DTSTAMP:20260421T145607
CREATED:20230506T003235Z
LAST-MODIFIED:20230506T003235Z
UID:10000055-1683743400-1684963800@www.wayshowerscollege.net
SUMMARY:021NSH: Evolution Calendars Workshop
DESCRIPTION:021NSH: Evolution Calendars Workshop:\n1. This Workshop will inspire you to work with the New Spiritual Horizons Evolution Calendars as a way to go deeper each day in your life to experience more of the richness that Spirit has to offer.\n2. The NSH Evolution Calendars are designed as working calendars\, interweaving personal spiritual growth with your daily life opportunities.\n3. They will assist you in better integrating your material world activities and your roles in your spiritual opportunities.\n4. It will make “your spiritual” a practical success when you realize that consistency and follow-through build energy. \n\n\nThis class is Virtual.
URL:https://www.wayshowerscollege.net/au/event/021nsh-evolution-calendars-workshop-3/
CATEGORIES:Field
ORGANIZER;CN="Kristina Coll":MAILTO:kristina@kristinacoll.com
END:VEVENT
BEGIN:VEVENT
DTSTART;TZID=Australia/Sydney:20230531T083000
DTEND;TZID=Australia/Sydney:20230608T010000
DTSTAMP:20260421T145607
CREATED:20230510T220505Z
LAST-MODIFIED:20230510T225855Z
UID:10000056-1685521800-1686186000@www.wayshowerscollege.net
SUMMARY:611: Sermon on the Mount
DESCRIPTION:Sermon on the Mount\n1.      In this course you will learn about concepts of suffering and false humility and begin to heal your limiting concepts.\n\n2.      You will learn to look at Biblical quotes from a positive point of view.\n\n3.      You will learn about how feelings of sacrificing and persecution have been stimulated in you.\n\n4.      You will learn to heal others by letting your light shine.\n\n  \n\nThis class is Virtual.
URL:https://www.wayshowerscollege.net/au/event/611-sermon-on-the-mount/
CATEGORIES:Field
ORGANIZER;CN="Mara Spencer":MAILTO:inspiringbelief@cox.net
END:VEVENT
END:VCALENDAR