BEGIN:VCALENDAR
VERSION:2.0
PRODID:-//Wayshowers College - ECPv6.15.16.1//NONSGML v1.0//EN
CALSCALE:GREGORIAN
METHOD:PUBLISH
X-ORIGINAL-URL:https://www.wayshowerscollege.net
X-WR-CALDESC:Events for Wayshowers College
REFRESH-INTERVAL;VALUE=DURATION:PT1H
X-Robots-Tag:noindex
X-PUBLISHED-TTL:PT1H
BEGIN:VTIMEZONE
TZID:Australia/Melbourne
BEGIN:STANDARD
TZOFFSETFROM:+1100
TZOFFSETTO:+1000
TZNAME:AEST
DTSTART:20170401T160000
END:STANDARD
BEGIN:DAYLIGHT
TZOFFSETFROM:+1000
TZOFFSETTO:+1100
TZNAME:AEDT
DTSTART:20170930T160000
END:DAYLIGHT
BEGIN:STANDARD
TZOFFSETFROM:+1100
TZOFFSETTO:+1000
TZNAME:AEST
DTSTART:20180331T160000
END:STANDARD
BEGIN:DAYLIGHT
TZOFFSETFROM:+1000
TZOFFSETTO:+1100
TZNAME:AEDT
DTSTART:20181006T160000
END:DAYLIGHT
BEGIN:STANDARD
TZOFFSETFROM:+1100
TZOFFSETTO:+1000
TZNAME:AEST
DTSTART:20190406T160000
END:STANDARD
BEGIN:DAYLIGHT
TZOFFSETFROM:+1000
TZOFFSETTO:+1100
TZNAME:AEDT
DTSTART:20191005T160000
END:DAYLIGHT
END:VTIMEZONE
BEGIN:VEVENT
DTSTART;VALUE=DATE:20180609
DTEND;VALUE=DATE:20180611
DTSTAMP:20260424T100138
CREATED:20180417T170229Z
LAST-MODIFIED:20180522T153358Z
UID:10000231-1528502400-1528675199@www.wayshowerscollege.net
SUMMARY:New Spiritual Horizons Retreat
DESCRIPTION:Learn techniques to develop your intuition and find your true inner power.\nAre you looking for a deeper connection within yourself\, with others around you and to find your purpose in life?\nNew Spiritual Horizons is the discovery\, study and experience of the REAL YOU offering the tools to tap into your inner guidance\, spiritual gifts and your innate abilities. \nThere is a lot of information available today on spiritual development\, consciousness expansion\, meditation\, life after death\, angels\, guides etc. Reading books\, listening to people talk about it and watching videos will fill you with lots of theories but the REAL POWER comes from your inner feelings\, when you experience it for yourself\, finding your own truth and applying it to your own life. \nNew Spiritual Horizons will help you to find your true inner power. \n“You came to Planet Earth to find yourself. Happiness\, success and abundance are already yours. All you need to do is become a master of yourself!” – Dr Francisco Coll \nTHIS RETREAT WILL HELP YOU: \n\n\n\nFind a greater depth of who you are\, why you came here and where you are going\nLearn and practice a simple but powerful technique to help you to stay spiritually cleansed and directed\nBegin to unfold and develop your own intuitive abilities through the gifts of Intuition\, Vision\, Prophecy and Feeling\nFind that Spiritual Guides\, Inner Guidance\, Angels\, Higher Self – whatever you prefer to call it – will become a reality in your every day life as you understand how to work with the resources available to you\nUnderstand your inner loyalty to yourself vs outer loyalty\nLearn techniques that can help you in your personal\, business and social life\nOpen your sensitivity and know how to make it work for you\n\n\n\nIf you feel your calling is to teach others\, you will have the tools to get your own groups of people together\, with ongoing support from Julie and our global team \nYour life will change. Are you ready for that?
URL:https://www.wayshowerscollege.net/event/new-spiritual-horizons-retreat/
LOCATION:Awareness Institute.\, Level 1\, 28 Chandos St\, St Leonards\, Sydney\, Australia
CATEGORIES:New Spiritual Horizons,Spiritual Development Course,Workshops
ATTACH;FMTTYPE=image/png:https://www.wayshowerscollege.net/wp-content/uploads/2018/03/wc-NSH_promo_image.png
ORGANIZER;CN="Julie Jara":MAILTO:julie@juliejara.com
GEO:-33.8218065;151.1959699
X-APPLE-STRUCTURED-LOCATION;VALUE=URI;X-ADDRESS=Awareness Institute. Level 1 28 Chandos St St Leonards Sydney Australia;X-APPLE-RADIUS=500;X-TITLE=Level 1\, 28 Chandos St\, St Leonards:geo:151.1959699,-33.8218065
END:VEVENT
END:VCALENDAR