BEGIN:VCALENDAR
VERSION:2.0
PRODID:-//Wayshowers College - ECPv6.15.16.1//NONSGML v1.0//EN
CALSCALE:GREGORIAN
METHOD:PUBLISH
X-WR-CALNAME:Wayshowers College
X-ORIGINAL-URL:https://www.wayshowerscollege.net
X-WR-CALDESC:Events for Wayshowers College
REFRESH-INTERVAL;VALUE=DURATION:PT1H
X-Robots-Tag:noindex
X-PUBLISHED-TTL:PT1H
BEGIN:VTIMEZONE
TZID:America/New_York
BEGIN:DAYLIGHT
TZOFFSETFROM:-0500
TZOFFSETTO:-0400
TZNAME:EDT
DTSTART:20170312T070000
END:DAYLIGHT
BEGIN:STANDARD
TZOFFSETFROM:-0400
TZOFFSETTO:-0500
TZNAME:EST
DTSTART:20171105T060000
END:STANDARD
BEGIN:DAYLIGHT
TZOFFSETFROM:-0500
TZOFFSETTO:-0400
TZNAME:EDT
DTSTART:20180311T070000
END:DAYLIGHT
BEGIN:STANDARD
TZOFFSETFROM:-0400
TZOFFSETTO:-0500
TZNAME:EST
DTSTART:20181104T060000
END:STANDARD
BEGIN:DAYLIGHT
TZOFFSETFROM:-0500
TZOFFSETTO:-0400
TZNAME:EDT
DTSTART:20190310T070000
END:DAYLIGHT
BEGIN:STANDARD
TZOFFSETFROM:-0400
TZOFFSETTO:-0500
TZNAME:EST
DTSTART:20191103T060000
END:STANDARD
END:VTIMEZONE
BEGIN:VTIMEZONE
TZID:America/Chicago
BEGIN:DAYLIGHT
TZOFFSETFROM:-0600
TZOFFSETTO:-0500
TZNAME:CDT
DTSTART:20170312T080000
END:DAYLIGHT
BEGIN:STANDARD
TZOFFSETFROM:-0500
TZOFFSETTO:-0600
TZNAME:CST
DTSTART:20171105T070000
END:STANDARD
BEGIN:DAYLIGHT
TZOFFSETFROM:-0600
TZOFFSETTO:-0500
TZNAME:CDT
DTSTART:20180311T080000
END:DAYLIGHT
BEGIN:STANDARD
TZOFFSETFROM:-0500
TZOFFSETTO:-0600
TZNAME:CST
DTSTART:20181104T070000
END:STANDARD
BEGIN:DAYLIGHT
TZOFFSETFROM:-0600
TZOFFSETTO:-0500
TZNAME:CDT
DTSTART:20190310T080000
END:DAYLIGHT
BEGIN:STANDARD
TZOFFSETFROM:-0500
TZOFFSETTO:-0600
TZNAME:CST
DTSTART:20191103T070000
END:STANDARD
END:VTIMEZONE
BEGIN:VEVENT
DTSTART;TZID=America/New_York:20180630T090000
DTEND;TZID=America/New_York:20180630T170000
DTSTAMP:20260424T194724
CREATED:20180616T121909Z
LAST-MODIFIED:20180616T131420Z
UID:10000101-1530349200-1530378000@www.wayshowerscollege.net
SUMMARY:How to present New Spiritual Horizons Lecture
DESCRIPTION:This course is designed for Spiritual Educators. Experience New Spiritual Horizons Lecture then learn how to present it to your community. News Spiritual Horizons is a department and Movement within Wayshowers College that stimulates participates to Discover and  Rediscover their true nature.  Learn to go beyond to gain new perspectives on life.  Through this process first release what no longer belongs and then master your energy. \nHow to Present New Spiritual Horizons Lecture is being offered at the Wayshowers College Keystone Camp 2018. To learn more about Summer Camp\, CLICK HERE. ($75 1st Time and $50 Refreshing)
URL:https://www.wayshowerscollege.net/event/how-to-present-the-new-spiritual-horizons/
LOCATION:International Conference Center\, 1447 U.S. 69\, Osceola\, IA 50213\, USA\, Osceola\, United States
CATEGORIES:Camps & Retreats,New Spiritual Horizons,Professional Training
ATTACH;FMTTYPE=image/png:https://www.wayshowerscollege.net/wp-content/uploads/2018/03/professional_training_graphic.png
GEO:41.0192773;-93.7636103
X-APPLE-STRUCTURED-LOCATION;VALUE=URI;X-ADDRESS=International Conference Center 1447 U.S. 69 Osceola IA 50213 USA Osceola United States;X-APPLE-RADIUS=500;X-TITLE=1447 U.S. 69\, Osceola\, IA 50213\, USA:geo:-93.7636103,41.0192773
END:VEVENT
BEGIN:VEVENT
DTSTART;TZID=America/Chicago:20180630T100000
DTEND;TZID=America/Chicago:20180630T170000
DTSTAMP:20260424T194724
CREATED:20180616T162438Z
LAST-MODIFIED:20180731T212223Z
UID:10000327-1530352800-1530378000@www.wayshowerscollege.net
SUMMARY:Angel Encounter Workshop
DESCRIPTION:Angel Encounter Workshop:\nLearn how to effectively talk with your angels\n \nPresented by Paul and Susan Kellogg\nNew approach to Angels – Spiritual Guidance\nThe Angel Encounter Workshop includes all the information described in the Angel Encounter Private Session. Because the workshop is six hours\, it allows us to go into greater depth and practice angel communication techniques. You will also learn four additional techniques than we have time for during the private session. \nThis is the greatest gift you can give yourself. A day getting to know yourself better and experiencing the unseen love and support from your Spirit Guides. \nIn this workshop you WILL establish a clear\, direct\, two-way communication with your Angels. This incredible ability will enrich your life. Never doubt your decisions again. Your life will never be the same. \nNew approach to angels in your life\nMany people cannot relate to commonly accepted ideas about angels that are based on traditional religious teachings and biblical references. Every culture tries to explain the :still small voice within” guidance the best it can. The understanding and awareness of angels is an evolving process and every generation builds upon the previous. \nThis workshop is unique\, innovative\, and it works. Using your Angels and ESP Style will help you start finding answers and personal security.\n \n During this intensive workshop \n\nLearn 4 innovative techniques for receiving practical & concise answers from your Angels. Learn how to tell when you receive information from your mind and when insights are coming from your Angels.\nDiscover your ESP Style of Clairaudience\, Clairvoyance\, Prophecy\, and Healing. Your ESP type helps you understand yourself and others better. Having this information will help you interact with your family\, friends\, and work associates. You will discover how ESP Styles help explain personality differences and learn to love everyone’s individual style of communicating.\nLearn how many personal angels you have for this lifetime and how each of them contact you\nLearn how to ask questions and receive concise and practical answers from your Angels\nActually feel and hear your Angels at your side. Know that you are NEVER ALONE\nRemarkably easy techniques\nYour Angels can help you discover a lifestyle free of stress and uncertainty\n\nThis workshop will have you effectively talking with your Angels before you leave. You will become more confident and assured with your decision making. You will realize there is a “Higher Power” that wants to help you attain a more successful and fulfilling life. The Angel Encounter Workshop is unique\, innovative\, and it works. A lifestyle of using your Angels and ESP Style will help you start finding answers and personal security. \nAngel Encounter Workshop includes: \n\nA personalized chart on your Angels and Intuition Style.\n30 page workbook to assist the success while at home.\n3 hours of practicing angel communication techniques.\n\nYou will never feel alone again….You can find answers and unique solutions to life’s challenges. Come and experience this fun\, dynamic angel workshop. \nSat\, June 30th\, 10:00 am – 5:00 pm (one hour for lunch)\nUnity Center of Des Moines\,   414 31st St\, Des Moines\nCost: $175.00\nNOTE: If you have previously experienced the private one hour angel session\, then your cost to attend is $100.00. \nClass size is limited to 12 people. Pre-registration is highly recommended.\nCall (toll free) 877/525-6335 or See below registration box. \nReserve your seat.\n \nFor people who have previously experienced the private angel session\n\n \nIf you have any questions call (toll free) 877/525-6335 \n \nWhat this workshop will mean to you\nEveryone has a “Sixth Sense.” This can also be known as avenues of perception\, spiritual sensitivity\, intuition\, or being psychic. We all have up to 30 – 45 of these intuitive impressions each day but many times overlook them or are not sure how to interpret them. This can lead to undue pressure or missed opportunities\, \nThere are four different types of these Sixth Sense impressions. Clear seeing (clairvoyant)\, Clear Hearing (clairaudient)\, Feeling (sensation)\, or Prophecy (inner knowing). In this private session you will discover your primary avenue of perception and how it can be used effectively. \nYou will also learn how to use your Inner Guidance (spirit guides). Many times we need to make decisions in our lives but are unsure of the appropriate direction to take. Our Inner Guidance is there to help in this process. Their purpose is to share helpful insights but not make the decision. \nJust imagine for a moment……What would it mean to you \n\nTo more effectively understand your hunches and first impressions\nTo effectively communicate with a team of spiritual helpers who will help guide you\n\nThis workshop will be a major turning point in your life and start removing uncertainty in you life purpose. \nLocation map below
URL:https://www.wayshowerscollege.net/event/angel-encounter-workshop-7/
LOCATION:Unity Center of Des Moines\, 414 31st St\, Des Moines\, IA\, 50312\, United States
CATEGORIES:New Spiritual Horizons,Workshops
ATTACH;FMTTYPE=image/jpeg:https://www.wayshowerscollege.net/wp-content/uploads/2017/09/wp-aew.jpg
ORGANIZER;CN="Roger Ringo":MAILTO:roger@modernspiritualliving.com
GEO:41.5830502;-93.659987
X-APPLE-STRUCTURED-LOCATION;VALUE=URI;X-ADDRESS=Unity Center of Des Moines 414 31st St Des Moines IA 50312 United States;X-APPLE-RADIUS=500;X-TITLE=414 31st St:geo:-93.659987,41.5830502
END:VEVENT
END:VCALENDAR