BEGIN:VCALENDAR
VERSION:2.0
PRODID:-//Wayshowers College - ECPv6.15.16.1//NONSGML v1.0//EN
CALSCALE:GREGORIAN
METHOD:PUBLISH
X-ORIGINAL-URL:https://www.wayshowerscollege.net
X-WR-CALDESC:Events for Wayshowers College
REFRESH-INTERVAL;VALUE=DURATION:PT1H
X-Robots-Tag:noindex
X-PUBLISHED-TTL:PT1H
BEGIN:VTIMEZONE
TZID:America/New_York
BEGIN:DAYLIGHT
TZOFFSETFROM:-0500
TZOFFSETTO:-0400
TZNAME:EDT
DTSTART:20170312T070000
END:DAYLIGHT
BEGIN:STANDARD
TZOFFSETFROM:-0400
TZOFFSETTO:-0500
TZNAME:EST
DTSTART:20171105T060000
END:STANDARD
BEGIN:DAYLIGHT
TZOFFSETFROM:-0500
TZOFFSETTO:-0400
TZNAME:EDT
DTSTART:20180311T070000
END:DAYLIGHT
BEGIN:STANDARD
TZOFFSETFROM:-0400
TZOFFSETTO:-0500
TZNAME:EST
DTSTART:20181104T060000
END:STANDARD
BEGIN:DAYLIGHT
TZOFFSETFROM:-0500
TZOFFSETTO:-0400
TZNAME:EDT
DTSTART:20190310T070000
END:DAYLIGHT
BEGIN:STANDARD
TZOFFSETFROM:-0400
TZOFFSETTO:-0500
TZNAME:EST
DTSTART:20191103T060000
END:STANDARD
END:VTIMEZONE
BEGIN:VEVENT
DTSTART;TZID=America/New_York:20180703T060000
DTEND;TZID=America/New_York:20180703T180000
DTSTAMP:20260424T081907
CREATED:20180616T125958Z
LAST-MODIFIED:20180616T130204Z
UID:10000107-1530597600-1530640800@www.wayshowerscollege.net
SUMMARY:Tapping the Soul Consciousness
DESCRIPTION:Take trips to the Universe to become more secure in any situation and find the best in all you do. (Prereq: 1003A Profile) \nCourse 707 is being offered at the Wayshowers College Keystone Camp 2018. To learn more about Summer Camp\, CLICK HERE.
URL:https://www.wayshowerscollege.net/event/tapping-the-soul-consciousness/
LOCATION:International Conference Center\, 1447 U.S. 69\, Osceola\, IA 50213\, USA\, Osceola\, United States
CATEGORIES:Camps & Retreats,Spiritual Development Course
ATTACH;FMTTYPE=image/png:https://www.wayshowerscollege.net/wp-content/uploads/2017/12/aslogomaster_new_073117.png
GEO:41.0192773;-93.7636103
X-APPLE-STRUCTURED-LOCATION;VALUE=URI;X-ADDRESS=International Conference Center 1447 U.S. 69 Osceola IA 50213 USA Osceola United States;X-APPLE-RADIUS=500;X-TITLE=1447 U.S. 69\, Osceola\, IA 50213\, USA:geo:-93.7636103,41.0192773
END:VEVENT
END:VCALENDAR