BEGIN:VCALENDAR
VERSION:2.0
PRODID:-//Wayshowers College - ECPv6.15.16.1//NONSGML v1.0//EN
CALSCALE:GREGORIAN
METHOD:PUBLISH
X-ORIGINAL-URL:https://www.wayshowerscollege.net
X-WR-CALDESC:Events for Wayshowers College
REFRESH-INTERVAL;VALUE=DURATION:PT1H
X-Robots-Tag:noindex
X-PUBLISHED-TTL:PT1H
BEGIN:VTIMEZONE
TZID:America/New_York
BEGIN:DAYLIGHT
TZOFFSETFROM:-0500
TZOFFSETTO:-0400
TZNAME:EDT
DTSTART:20170312T070000
END:DAYLIGHT
BEGIN:STANDARD
TZOFFSETFROM:-0400
TZOFFSETTO:-0500
TZNAME:EST
DTSTART:20171105T060000
END:STANDARD
BEGIN:DAYLIGHT
TZOFFSETFROM:-0500
TZOFFSETTO:-0400
TZNAME:EDT
DTSTART:20180311T070000
END:DAYLIGHT
BEGIN:STANDARD
TZOFFSETFROM:-0400
TZOFFSETTO:-0500
TZNAME:EST
DTSTART:20181104T060000
END:STANDARD
BEGIN:DAYLIGHT
TZOFFSETFROM:-0500
TZOFFSETTO:-0400
TZNAME:EDT
DTSTART:20190310T070000
END:DAYLIGHT
BEGIN:STANDARD
TZOFFSETFROM:-0400
TZOFFSETTO:-0500
TZNAME:EST
DTSTART:20191103T060000
END:STANDARD
END:VTIMEZONE
BEGIN:VEVENT
DTSTART;TZID=America/New_York:20180717T090000
DTEND;TZID=America/New_York:20180718T170000
DTSTAMP:20260423T120145
CREATED:20180616T155334Z
LAST-MODIFIED:20180616T155334Z
UID:10000335-1531818000-1531933200@www.wayshowerscollege.net
SUMMARY:Regrouping Your Concepts - A New Outlook on Life
DESCRIPTION:Course 100 Regrouping  Your Concepts will include the re-grouping and “experiencing” the LFN Calendars. You will not only review all the energy\, concepts and symbols but you will walk through them in a very unique way.  You will experience energy patterns hitting planet earth each month. Recieve practical ways on how to utilize the LFN calendar to give you foresight and an edge to bypass the concepts working against you. \nThis course is being offered at the Wayshowers College Keystone Camp 2018. To learn more about Summer Camp\, CLICK HERE. ($150)
URL:https://www.wayshowerscollege.net/event/regrouping-your-concepts-a-new-outlook-on-life/
LOCATION:International Conference Center\, 1447 U.S. 69\, Osceola\, IA 50213\, USA\, Osceola\, United States
CATEGORIES:Camps & Retreats,Professional Training,Spiritual Development Course,Workshops
ATTACH;FMTTYPE=image/jpeg:https://www.wayshowerscollege.net/wp-content/uploads/2017/08/working-cal.jpg
GEO:41.0192773;-93.7636103
X-APPLE-STRUCTURED-LOCATION;VALUE=URI;X-ADDRESS=International Conference Center 1447 U.S. 69 Osceola IA 50213 USA Osceola United States;X-APPLE-RADIUS=500;X-TITLE=1447 U.S. 69\, Osceola\, IA 50213\, USA:geo:-93.7636103,41.0192773
END:VEVENT
END:VCALENDAR