BEGIN:VCALENDAR
VERSION:2.0
PRODID:-//Wayshowers College - ECPv6.15.16.1//NONSGML v1.0//EN
CALSCALE:GREGORIAN
METHOD:PUBLISH
X-ORIGINAL-URL:https://www.wayshowerscollege.net
X-WR-CALDESC:Events for Wayshowers College
REFRESH-INTERVAL;VALUE=DURATION:PT1H
X-Robots-Tag:noindex
X-PUBLISHED-TTL:PT1H
BEGIN:VTIMEZONE
TZID:America/Los_Angeles
BEGIN:DAYLIGHT
TZOFFSETFROM:-0800
TZOFFSETTO:-0700
TZNAME:PDT
DTSTART:20170312T100000
END:DAYLIGHT
BEGIN:STANDARD
TZOFFSETFROM:-0700
TZOFFSETTO:-0800
TZNAME:PST
DTSTART:20171105T090000
END:STANDARD
BEGIN:DAYLIGHT
TZOFFSETFROM:-0800
TZOFFSETTO:-0700
TZNAME:PDT
DTSTART:20180311T100000
END:DAYLIGHT
BEGIN:STANDARD
TZOFFSETFROM:-0700
TZOFFSETTO:-0800
TZNAME:PST
DTSTART:20181104T090000
END:STANDARD
BEGIN:DAYLIGHT
TZOFFSETFROM:-0800
TZOFFSETTO:-0700
TZNAME:PDT
DTSTART:20190310T100000
END:DAYLIGHT
BEGIN:STANDARD
TZOFFSETFROM:-0700
TZOFFSETTO:-0800
TZNAME:PST
DTSTART:20191103T090000
END:STANDARD
END:VTIMEZONE
BEGIN:VEVENT
DTSTART;TZID=America/Los_Angeles:20180817T190000
DTEND;TZID=America/Los_Angeles:20180817T203000
DTSTAMP:20260424T222200
CREATED:20180725T191111Z
LAST-MODIFIED:20180817T200156Z
UID:10000291-1534532400-1534537800@www.wayshowerscollege.net
SUMMARY:5 Keys in Spiritual Direction
DESCRIPTION:  \nAre you searching for a deeper meaning to your life? \nDo you desire more peace and joy in this chaotic world? \nHave you been looking around and are ready for something more? \nThis is a New Spiritual Horizons Program Introductory Presentation: the discovery\, study\, &  experience of the meaning You. Offering tools to tap into your inner guidance\, spiritual gifts and innate wisdom. \nGain the 5 key approach in living your life with spiritual direction. Releasing doubts and trusting more of who you are. Building a strong foundation of spiritual concepts and heal ideas that no longer serve you. Becoming the master of yourself and the author of  your life. \nWhat will we do: \n\nGain a understanding of the 5 key approach in living with Spiritual Direction.\nLearn we all have a personal team of spiritual guidance.\nDiscover what a Spiritual Thrust is in relation to being of service.\nBalancing your Life\nClear Communication with your Psychic Abilities of Intuition\, Vision\, Prophecy\, & Feeling\nTechniques in energy vibration\nRhythms of consciousness.\n\nCome Join Us in this exciting journey of self-discovery!! \nInvestment $20.00
URL:https://www.wayshowerscollege.net/event/5-keys-in-spiritual-direction/
LOCATION:Eclectic Reikiology & Metaphysical Center\, 2760 Lake Sahara Dr. #106\, Las Vegas\, NV\, 89117\, United States
CATEGORIES:New Spiritual Horizons
ATTACH;FMTTYPE=image/jpeg:https://www.wayshowerscollege.net/wp-content/uploads/2018/07/spiritual-direction-image-for-website.jpg
GEO:36.1401296;-115.2835033
X-APPLE-STRUCTURED-LOCATION;VALUE=URI;X-ADDRESS=Eclectic Reikiology & Metaphysical Center 2760 Lake Sahara Dr. #106 Las Vegas NV 89117 United States;X-APPLE-RADIUS=500;X-TITLE=2760 Lake Sahara Dr. #106:geo:-115.2835033,36.1401296
END:VEVENT
END:VCALENDAR