BEGIN:VCALENDAR
VERSION:2.0
PRODID:-//Wayshowers College - ECPv6.15.16.1//NONSGML v1.0//EN
CALSCALE:GREGORIAN
METHOD:PUBLISH
X-WR-CALNAME:Wayshowers College
X-ORIGINAL-URL:https://www.wayshowerscollege.net
X-WR-CALDESC:Events for Wayshowers College
REFRESH-INTERVAL;VALUE=DURATION:PT1H
X-Robots-Tag:noindex
X-PUBLISHED-TTL:PT1H
BEGIN:VTIMEZONE
TZID:America/Chicago
BEGIN:DAYLIGHT
TZOFFSETFROM:-0600
TZOFFSETTO:-0500
TZNAME:CDT
DTSTART:20190310T080000
END:DAYLIGHT
BEGIN:STANDARD
TZOFFSETFROM:-0500
TZOFFSETTO:-0600
TZNAME:CST
DTSTART:20191103T070000
END:STANDARD
BEGIN:DAYLIGHT
TZOFFSETFROM:-0600
TZOFFSETTO:-0500
TZNAME:CDT
DTSTART:20200308T080000
END:DAYLIGHT
BEGIN:STANDARD
TZOFFSETFROM:-0500
TZOFFSETTO:-0600
TZNAME:CST
DTSTART:20201101T070000
END:STANDARD
BEGIN:DAYLIGHT
TZOFFSETFROM:-0600
TZOFFSETTO:-0500
TZNAME:CDT
DTSTART:20210314T080000
END:DAYLIGHT
BEGIN:STANDARD
TZOFFSETFROM:-0500
TZOFFSETTO:-0600
TZNAME:CST
DTSTART:20211107T070000
END:STANDARD
END:VTIMEZONE
BEGIN:VEVENT
DTSTART;TZID=America/Chicago:20200616T170000
DTEND;TZID=America/Chicago:20200616T200000
DTSTAMP:20260424T230711
CREATED:20200423T111653Z
LAST-MODIFIED:20200615T153035Z
UID:10000456-1592326800-1592337600@www.wayshowerscollege.net
SUMMARY:Your Mystical Gift of Feeling
DESCRIPTION:Motivation through Mystical Feeling\nYour mystical perception of Feeling (Healing\, Psychometery\, Automatic Writing) feels life. They can feel the energy of people and the environment. (Ever felt someone looking at you?) They enjoy details\, working with their hands and are artistic. Because this type turns energy into feeling it is important that they master keeping their energy high and clear. Your feeling gift is the doer in you. \n  \nInvest in the Course HERE
URL:https://www.wayshowerscollege.net/event/your-mystical-gift-of-feeling/
CATEGORIES:New Spiritual Horizons,Wellness,Workshops
ORGANIZER;CN="Kristina Coll":MAILTO:kristina@kristinacoll.com
END:VEVENT
END:VCALENDAR