BEGIN:VCALENDAR
VERSION:2.0
PRODID:-//Wayshowers College - ECPv6.15.16.1//NONSGML v1.0//EN
CALSCALE:GREGORIAN
METHOD:PUBLISH
X-ORIGINAL-URL:https://www.wayshowerscollege.net
X-WR-CALDESC:Events for Wayshowers College
REFRESH-INTERVAL;VALUE=DURATION:PT1H
X-Robots-Tag:noindex
X-PUBLISHED-TTL:PT1H
BEGIN:VTIMEZONE
TZID:America/New_York
BEGIN:DAYLIGHT
TZOFFSETFROM:-0500
TZOFFSETTO:-0400
TZNAME:EDT
DTSTART:20190310T070000
END:DAYLIGHT
BEGIN:STANDARD
TZOFFSETFROM:-0400
TZOFFSETTO:-0500
TZNAME:EST
DTSTART:20191103T060000
END:STANDARD
BEGIN:DAYLIGHT
TZOFFSETFROM:-0500
TZOFFSETTO:-0400
TZNAME:EDT
DTSTART:20200308T070000
END:DAYLIGHT
BEGIN:STANDARD
TZOFFSETFROM:-0400
TZOFFSETTO:-0500
TZNAME:EST
DTSTART:20201101T060000
END:STANDARD
BEGIN:DAYLIGHT
TZOFFSETFROM:-0500
TZOFFSETTO:-0400
TZNAME:EDT
DTSTART:20210314T070000
END:DAYLIGHT
BEGIN:STANDARD
TZOFFSETFROM:-0400
TZOFFSETTO:-0500
TZNAME:EST
DTSTART:20211107T060000
END:STANDARD
END:VTIMEZONE
BEGIN:VEVENT
DTSTART;TZID=America/New_York:20200629T120000
DTEND;TZID=America/New_York:20200703T170000
DTSTAMP:20260425T073357
CREATED:20200527T173232Z
LAST-MODIFIED:20200527T173232Z
UID:10000240-1593432000-1593795600@www.wayshowerscollege.net
SUMMARY:New Spiritual Horizons Expansion @ Summer Camp
DESCRIPTION:Week 1 of Summer Camp Track 1\nBegins June 29th at 1pm until July 3rd at 5pm\nIn this New Spiritual Horizons Expansion you will take a deep-dive into the ocean of the real you\, your intuition and your purpose. Experience techniques\, growth\, sharing and introspection weaving you through the NSH group sessions and associated courses.\nDuring this week you will: \n\nDeepen your communication with your guidance\nHeal yourself through understanding\nFind direction in your life’s purpose\nEstablish your feelings of belonging\nUnfold your four means of communication: Intuition\, Vision\, Prophecy and Feeling\nDiscover inklings of where you come from\, where you are going and what you are doing here\nOvercome your doubts through experiencing your feelings\nUnderstand your crystal clear motives\n\nAll of this occurs through powerful energy technique experience\, healing and connection with others in the class! \nInvestment: $500 for the week or $125 per day or $75 per ½ day\nPrerequisites: None\, it is recommended to have experienced the 1001 Orientation Profile. \nTo register click below OR contact the office at facts@www.wayshowerscollege.net or (641) 454-6335. \nRegister Today!
URL:https://www.wayshowerscollege.net/event/new-spiritual-horizons-expansion-summer-camp/
LOCATION:International Conference Center\, 1447 U.S. 69\, Osceola\, IA 50213\, USA\, Osceola\, United States
CATEGORIES:Camps & Retreats,New Spiritual Horizons,Spiritual Development Course,Workshops
ATTACH;FMTTYPE=image/png:https://www.wayshowerscollege.net/wp-content/uploads/2020/03/wc-NSH_promo_image.png
GEO:41.0192773;-93.7636103
X-APPLE-STRUCTURED-LOCATION;VALUE=URI;X-ADDRESS=International Conference Center 1447 U.S. 69 Osceola IA 50213 USA Osceola United States;X-APPLE-RADIUS=500;X-TITLE=1447 U.S. 69\, Osceola\, IA 50213\, USA:geo:-93.7636103,41.0192773
END:VEVENT
BEGIN:VEVENT
DTSTART;TZID=America/New_York:20200629T120000
DTEND;TZID=America/New_York:20200703T170000
DTSTAMP:20260425T073357
CREATED:20200527T173520Z
LAST-MODIFIED:20200527T173715Z
UID:10000241-1593432000-1593795600@www.wayshowerscollege.net
SUMMARY:Professional Profile Certification Training @ Summer Camp
DESCRIPTION:Week 1 Track 2 of Summer Camp\nBegins June 29th @ 1pm through July 3rd @ 5pm\nA special opportunity for profile certifications! This year you have the rare opportunity to refresh your profile certifications in a 3 hour time span\, instead of the standard 6am – 6pm! You will be able to refresh multiple profiles within this 4 and ½ day profile course experience and as the hours are from 9am-5pm each day\, there is plenty of time for morning meditation or exercise and evening socializing! \nSchedule of Profile Courses:\nOnly refreshers and life refreshers will be able to refresh in these 3 to 4 hour time spans.\n \nMonday June 29 1pm-5pm: 1002A Blockage Discovery Profile \nTuesday June 30 9am-12noon:1003A Percentage of Balance in the Glandular System Profile\nTuesday June 30 1pm-5pm:  1003B Depth Therapy Profile & 1003C Chakras Depth Chart \nWednesday July 1 9am-12noon: 1004 Balance of Thought and Feeling Profile\nWednesday July 1 1pm-5pm: 2001 Universal Energy Chart \nThursday July 2 9am-12noon:  2002 Soul Consciousness Profile\nThursday July 2 1pm-5pm: 1002B Policies and Procedures Profile \nFriday July 3 9am-12noon: 7000 Personal Thrust Profile\nFriday July 3 1pm-5pm: 7004 Inner Guidance and My Spiritual Thrust Profile \nInvestment: $500 Refreshing and $250 Lifetime for each profile training(15% discount for prepaid accounts) \nDuring the times when a person does not need to attend one of the profile refresher slots because they are already currently certified In that particular consultation\, they can weave in to the Track 1 New Spiritual Horizons experience at a discounted rate of $75 per day or $50 per half day. \nPrerequisites: To have already taken profile certification course. If you would like to take one of these profile courses for the first time\, you will be able to do during this week. The instructor will arrange for an extended timing that fits your schedule. \nTo register click below OR contact the office at facts@www.wayshowerscollege.net or (641) 454-6335. \nRegister Today!
URL:https://www.wayshowerscollege.net/event/professional-profile-certification-training-summer-camp/
LOCATION:International Conference Center\, 1447 U.S. 69\, Osceola\, IA 50213\, USA\, Osceola\, United States
CATEGORIES:Camps & Retreats,Professional Training
ATTACH;FMTTYPE=image/jpeg:https://www.wayshowerscollege.net/wp-content/uploads/2020/05/golden_ratio.jpg
GEO:41.0192773;-93.7636103
X-APPLE-STRUCTURED-LOCATION;VALUE=URI;X-ADDRESS=International Conference Center 1447 U.S. 69 Osceola IA 50213 USA Osceola United States;X-APPLE-RADIUS=500;X-TITLE=1447 U.S. 69\, Osceola\, IA 50213\, USA:geo:-93.7636103,41.0192773
END:VEVENT
END:VCALENDAR