BEGIN:VCALENDAR
VERSION:2.0
PRODID:-//Wayshowers College - ECPv6.15.16.1//NONSGML v1.0//EN
CALSCALE:GREGORIAN
METHOD:PUBLISH
X-ORIGINAL-URL:https://www.wayshowerscollege.net
X-WR-CALDESC:Events for Wayshowers College
REFRESH-INTERVAL;VALUE=DURATION:PT1H
X-Robots-Tag:noindex
X-PUBLISHED-TTL:PT1H
BEGIN:VTIMEZONE
TZID:America/Los_Angeles
BEGIN:DAYLIGHT
TZOFFSETFROM:-0800
TZOFFSETTO:-0700
TZNAME:PDT
DTSTART:20190310T100000
END:DAYLIGHT
BEGIN:STANDARD
TZOFFSETFROM:-0700
TZOFFSETTO:-0800
TZNAME:PST
DTSTART:20191103T090000
END:STANDARD
BEGIN:DAYLIGHT
TZOFFSETFROM:-0800
TZOFFSETTO:-0700
TZNAME:PDT
DTSTART:20200308T100000
END:DAYLIGHT
BEGIN:STANDARD
TZOFFSETFROM:-0700
TZOFFSETTO:-0800
TZNAME:PST
DTSTART:20201101T090000
END:STANDARD
BEGIN:DAYLIGHT
TZOFFSETFROM:-0800
TZOFFSETTO:-0700
TZNAME:PDT
DTSTART:20210314T100000
END:DAYLIGHT
BEGIN:STANDARD
TZOFFSETFROM:-0700
TZOFFSETTO:-0800
TZNAME:PST
DTSTART:20211107T090000
END:STANDARD
END:VTIMEZONE
BEGIN:VTIMEZONE
TZID:America/Chicago
BEGIN:DAYLIGHT
TZOFFSETFROM:-0600
TZOFFSETTO:-0500
TZNAME:CDT
DTSTART:20190310T080000
END:DAYLIGHT
BEGIN:STANDARD
TZOFFSETFROM:-0500
TZOFFSETTO:-0600
TZNAME:CST
DTSTART:20191103T070000
END:STANDARD
BEGIN:DAYLIGHT
TZOFFSETFROM:-0600
TZOFFSETTO:-0500
TZNAME:CDT
DTSTART:20200308T080000
END:DAYLIGHT
BEGIN:STANDARD
TZOFFSETFROM:-0500
TZOFFSETTO:-0600
TZNAME:CST
DTSTART:20201101T070000
END:STANDARD
BEGIN:DAYLIGHT
TZOFFSETFROM:-0600
TZOFFSETTO:-0500
TZNAME:CDT
DTSTART:20210314T080000
END:DAYLIGHT
BEGIN:STANDARD
TZOFFSETFROM:-0500
TZOFFSETTO:-0600
TZNAME:CST
DTSTART:20211107T070000
END:STANDARD
END:VTIMEZONE
BEGIN:VTIMEZONE
TZID:America/New_York
BEGIN:DAYLIGHT
TZOFFSETFROM:-0500
TZOFFSETTO:-0400
TZNAME:EDT
DTSTART:20190310T070000
END:DAYLIGHT
BEGIN:STANDARD
TZOFFSETFROM:-0400
TZOFFSETTO:-0500
TZNAME:EST
DTSTART:20191103T060000
END:STANDARD
BEGIN:DAYLIGHT
TZOFFSETFROM:-0500
TZOFFSETTO:-0400
TZNAME:EDT
DTSTART:20200308T070000
END:DAYLIGHT
BEGIN:STANDARD
TZOFFSETFROM:-0400
TZOFFSETTO:-0500
TZNAME:EST
DTSTART:20201101T060000
END:STANDARD
BEGIN:DAYLIGHT
TZOFFSETFROM:-0500
TZOFFSETTO:-0400
TZNAME:EDT
DTSTART:20210314T070000
END:DAYLIGHT
BEGIN:STANDARD
TZOFFSETFROM:-0400
TZOFFSETTO:-0500
TZNAME:EST
DTSTART:20211107T060000
END:STANDARD
END:VTIMEZONE
BEGIN:VEVENT
DTSTART;TZID=America/Los_Angeles:20200804T100000
DTEND;TZID=America/Los_Angeles:20200806T170000
DTSTAMP:20260422T051751
CREATED:20200728T211738Z
LAST-MODIFIED:20200804T211603Z
UID:10000472-1596535200-1596733200@www.wayshowerscollege.net
SUMMARY:Mastering My Changing World Free Online Class
DESCRIPTION:Join April with few of her  New Spiritual Horizons friends at 10:00 am PST Wednesday August 5th or choose another time with a few of her friends that is right for you. Either way is perfect!!\nJoin us for a Free Online Class August 4th\, \, 5th \, or 6th and find solutions for successful living. Be a part of an online spiritual community that is making a difference everywhere. \nLearn more and register here: www.newspiritualhorizons.com/free-lesson5/ \nAre you ready to let go of worry\, fear\, and the stress of living from the unknown? Attend our class and start making changes immediately. \nNew Spiritual Horizons Online Classes will help you learn how to use your Intuition\, discover your Life Purpose\, and discover your Higher Power. \nThese three areas guide you to the flow in the middle of the stream. \nThis is an opportunity in living well and seizing your personal soul’s growth. \nImportant insights and techniques you will experience: \n? You are an empath whether you realize it or not. Experience a technique where\nyou will feel your aura and its unique frequency. \n? Also experience a unique technique for energizing your aura. This will help buffer\nyou from anxiety of other people. \n? Become immune to negative influences that want to create discouragement. \n? Discerning your true feelings vs emotions and how to stay authentic to your truth. \nMisunderstanding in this area creates anxiety and doubt. \n? Learn how to strengthen the 7 Chakra Centers for improved physical and mental health. \n? Become a positive healing influence for loved ones and friends. \nBecome an example of a solution-oriented person. \n? Uniting your healing energy with a team of master spiritual healers to uplift and cleanse your world environment. There is a lot going on in the world that can pull on your peace of mind at this time. \nAllow yourself to let go of the endless loop of anxiety and fear in this New Spiritual Horizons On-line Class now. \nFree Online Classes: August 4th \, 5th \, and 6th . 10:00 am Pacific Time Zone or 8:00 pm Eastern Time Zone\nLearn more and register here: http://www.newspiritualhorizons.com/free-lesson5/
URL:https://www.wayshowerscollege.net/event/mastering-my-changing-world-free-online-class/
LOCATION:online
CATEGORIES:New Spiritual Horizons
END:VEVENT
BEGIN:VEVENT
DTSTART;TZID=America/Chicago:20200804T120000
DTEND;TZID=America/Chicago:20200804T130000
DTSTAMP:20260422T051751
CREATED:20200731T113028Z
LAST-MODIFIED:20200804T114521Z
UID:10000476-1596542400-1596546000@www.wayshowerscollege.net
SUMMARY:Mastering Your Changing World – The Real You is NOT Shut Down!
DESCRIPTION:  \n6 Free Talks:  August 4th\, 5th\, or 6th  \nTime: 1:00 or 7:00 pm Central \nDuration: 1:00 hour \n  \n  \nJoin us for a Free Online Class August 4th\, 5th\, or 6th and find solutions for successful living. Be a part of an online spiritual community that is making a difference. \nAre you ready to let go of worry\, fear\, and the stress of living from the unknown? Attend our class and start making changes immediately. \nNew Spiritual Horizons Online Classes will help you learn how to use your Intuition\, discover your Life Purpose\, and discover your Higher Power. These three areas guide you to the flow in the middle of the stream. \nThis is an opportunity in living well and seizing your personal soul’s growth. \nImportant insights and techniques you will experience: \n\nYou are an empath whether you realize it or not. Experience a technique where you will feel your aura and its unique frequency.\nAlso experience a unique technique for energizing your aura. This will help buffer you from anxiety of other people.\nBecome immune to negative influences that want to create discouragement.\nDiscerning your true feelings vs emotions and how to stay authentic to your truth. Misunderstanding in this area creates anxiety and doubt.\nLearn how to strengthen the 7 Chakra Centers for improved physical and mental health\nBecome a positive healing influence for loved ones and friends. Become an example of a solution-oriented person.\nUniting your healing energy with a team of master spiritual healers to uplift and cleanse your world environment\n\nThere is a lot going on in the world that can pull on your peace of mind at this time. Allow yourself to let go of the endless loop of anxiety and fear in this New Spiritual Horizons On-line Class now. \nFree Online Classes: August 4th\, 5th\, and 6th. 12:00 or 7:00 pm CT \nLearn more and register here: \n https://newspiritualhorizons.com/free-lesson5/ \n  \nWhat people just like you are saying: \n“I found I have so much backing to course correct and take charge of anything I feel is out of control in my life.  I am an overly sensitive empath and often feel a lot of negativity that is not mine. I can relax with that sensitivity! I can take in energy that is only best for my interests. I can create the change and life I need and deserve.  J. Blume\, New Mexico \n“I know we can pass healing energy to one another\, but to be able to do it on-line while across the country from each other is amazing. I also know Guides and Angels are energy but for some reason tonight I truly got it. I can use this energy to communicate with them!”  JJ Bowlsby\, Iowa \n“I learned in the session to utilize the power of the energy techniques that can enable me to work better with other people. The techniques have a way to help me tune into my true feelings and the vibration of true love.”   A. Zepeda\, Washington\, DC
URL:https://www.wayshowerscollege.net/event/mastering-your-changing-world-the-real-you-is-not-shut-down/
LOCATION:On-line Class
END:VEVENT
BEGIN:VEVENT
DTSTART;TZID=America/New_York:20200804T200000
DTEND;TZID=America/New_York:20200804T210000
DTSTAMP:20260422T051751
CREATED:20200729T234546Z
LAST-MODIFIED:20200804T000122Z
UID:10000474-1596571200-1596574800@www.wayshowerscollege.net
SUMMARY:Free Online Class: Mastering My Changing World
DESCRIPTION:Mastering My Changing World – The Real You is not shut down!\nJoin us for a Free Online Class August 4th\, 5th\, or 6th and find solutions for successful living. Be a part of an online spiritual community that is making a difference. \nAre you ready to let go of worry\, fear\, and the stress of living from the unknown? Attend our class and start making changes immediately. \nNew Spiritual Horizons Online Classes will help you learn how to use your Intuition\, discover your Life Purpose\, and discover your Higher Power. These three areas guide you to the flow in the middle of the stream. \nThis is an opportunity in living well and seizing your personal soul’s growth. \nImportant insights and techniques you will experience:\n\nYou are an empath whether you realize it or not. Experience a technique where you will feel your aura and its unique frequency.\nAlso experience a unique technique for energizing your aura. This will help buffer you from anxiety of other people.\nBecome immune to negative influences that want to create discouragement.\nDiscerning your true feelings vs emotions and how to stay authentic to your truth. Misunderstanding in this area creates anxiety and doubt.\nLearn how to strengthen the 7 Chakra Centers for improved physical and mental health\nBecome a positive healing influence for loved ones and friends. Become an example of a solution-oriented person.\nUniting your healing energy with a team of master spiritual healers to uplift and cleanse your world environment\n\nThere is a lot going on in the world that can pull on your peace of mind at this time. Allow yourself to let go of the endless loop of anxiety and fear in this New Spiritual Horizons On-line Class now. \nFree Online Classes – Choose a day and time best for you:\nAugust 4th\, 5th\, and 6th. 1:00 or 8:00 pm Eastern Time Zone\n \nLearn More & Register Now for this Online Class\nWhat people just like you are saying:\n\n“I found I have so much backing to course correct and take charge of anything I feel is out of control in my life.  I am an overly sensitive empath and often feel a lot of negativity that is not mine. I can relax with that sensitivity! I can take in energy that is only best for my interests. I can create the change and life I need and deserve.”\nJ Blume\, New Mexico \n\n\n“I know we can pass healing energy to one another\, but to be able to do it on-line while across the country from each other is amazing. I also know Guides and Angels are energy but for some reason tonight I truly got it. I can use this energy to communicate with them!”\nJJ Bowlsby\, Iowa \n\n\n“I learned in the session to utilize the power of the energy techniques that can enable me to work better with other people. The techniques have a way to help me tune into my true feelings and the vibration of true love.”\nZepeda\, Washington\, DC
URL:https://www.wayshowerscollege.net/event/free-online-class-mastering-my-changing-world/
LOCATION:Online or by Phone
CATEGORIES:New Spiritual Horizons
ORGANIZER;CN="Roger Ringo":MAILTO:roger@modernspiritualliving.com
END:VEVENT
END:VCALENDAR