BEGIN:VCALENDAR
VERSION:2.0
PRODID:-//Wayshowers College - ECPv6.15.16.1//NONSGML v1.0//EN
CALSCALE:GREGORIAN
METHOD:PUBLISH
X-ORIGINAL-URL:https://www.wayshowerscollege.net
X-WR-CALDESC:Events for Wayshowers College
REFRESH-INTERVAL;VALUE=DURATION:PT1H
X-Robots-Tag:noindex
X-PUBLISHED-TTL:PT1H
BEGIN:VTIMEZONE
TZID:America/New_York
BEGIN:DAYLIGHT
TZOFFSETFROM:-0500
TZOFFSETTO:-0400
TZNAME:EDT
DTSTART:20200308T070000
END:DAYLIGHT
BEGIN:STANDARD
TZOFFSETFROM:-0400
TZOFFSETTO:-0500
TZNAME:EST
DTSTART:20201101T060000
END:STANDARD
BEGIN:DAYLIGHT
TZOFFSETFROM:-0500
TZOFFSETTO:-0400
TZNAME:EDT
DTSTART:20210314T070000
END:DAYLIGHT
BEGIN:STANDARD
TZOFFSETFROM:-0400
TZOFFSETTO:-0500
TZNAME:EST
DTSTART:20211107T060000
END:STANDARD
BEGIN:DAYLIGHT
TZOFFSETFROM:-0500
TZOFFSETTO:-0400
TZNAME:EDT
DTSTART:20220313T070000
END:DAYLIGHT
BEGIN:STANDARD
TZOFFSETFROM:-0400
TZOFFSETTO:-0500
TZNAME:EST
DTSTART:20221106T060000
END:STANDARD
END:VTIMEZONE
BEGIN:VTIMEZONE
TZID:America/Los_Angeles
BEGIN:DAYLIGHT
TZOFFSETFROM:-0800
TZOFFSETTO:-0700
TZNAME:PDT
DTSTART:20200308T100000
END:DAYLIGHT
BEGIN:STANDARD
TZOFFSETFROM:-0700
TZOFFSETTO:-0800
TZNAME:PST
DTSTART:20201101T090000
END:STANDARD
BEGIN:DAYLIGHT
TZOFFSETFROM:-0800
TZOFFSETTO:-0700
TZNAME:PDT
DTSTART:20210314T100000
END:DAYLIGHT
BEGIN:STANDARD
TZOFFSETFROM:-0700
TZOFFSETTO:-0800
TZNAME:PST
DTSTART:20211107T090000
END:STANDARD
BEGIN:DAYLIGHT
TZOFFSETFROM:-0800
TZOFFSETTO:-0700
TZNAME:PDT
DTSTART:20220313T100000
END:DAYLIGHT
BEGIN:STANDARD
TZOFFSETFROM:-0700
TZOFFSETTO:-0800
TZNAME:PST
DTSTART:20221106T090000
END:STANDARD
END:VTIMEZONE
BEGIN:VEVENT
DTSTART;TZID=America/New_York:20210328T090000
DTEND;TZID=America/New_York:20210328T210000
DTSTAMP:20260424T170732
CREATED:20210209T014407Z
LAST-MODIFIED:20210316T194614Z
UID:10000495-1616922000-1616965200@www.wayshowerscollege.net
SUMMARY:Sparkle With Enthusiasm - Regrouping Your Concepts\, A New Outlook at Life in USA
DESCRIPTION:Via Zoom March 28th – 9 a.m. – 9 p.m. (approx) New York\, USA time.\nWayshowers College Course 100 is a regrouping and guide designed to expand and broaden your spiritual basis. You will see how to work with the energy and concepts maps of La Familia Nuestra program\, thereby gaining a greater understanding of energy patterns. \nExperiencing the energy patterns hitting planet earth each month you will navigate with special techniques.  You will have practical ways to utilize the monthly maps and understand how the use of the maps will give you foresight and an edge in order to bypass concepts that can work against you. \nUnderstanding the link from the past to the present helps clarify your situation now and influence a more successful future. Having the capability to know best timing of activities will enable you to accomplish the most in the least amount of time. \nYou will learn to use the energy patterns for greater success in: \n\nBusiness – Know best timing when planning your direction\nPersonal – Know the best time for regrouping and setting priorities\nSocial – Know when the energy is best for fellowshipping or sharing with others.\n\nYou will also become familiar with the characteristics of the “stickmen” who represent concepts. You will learn to discern the energy of these concepts in order to avoid the pitfalls they could create. \nMarch 28th – 9 a.m. – 9 p.m. (approx) New York\, USA time. \nPrerequisites: 1001 is highly recommended. \nFee: $150 USA First Timer; $100 USA Refreshers \nUSA REGISTRATION \nLFN Calendars                  LFN Calendars \n \n  \n  \n  \nInstructors: Ewart Gazzard\, Jan Burke\, Tomas Burke.
URL:https://www.wayshowerscollege.net/event/sparkle-with-enthusiasm-regrouping-your-concepts-a-new-outlook-at-life-in-usa/
LOCATION:ZOOM Program
CATEGORIES:Online Programs,Spiritual Development Course,Workshops
END:VEVENT
BEGIN:VEVENT
DTSTART;TZID=America/Los_Angeles:20210328T110000
DTEND;TZID=America/Los_Angeles:20210328T143000
DTSTAMP:20260424T170732
CREATED:20210223T181744Z
LAST-MODIFIED:20210328T211623Z
UID:10000500-1616929200-1616941800@www.wayshowerscollege.net
SUMMARY:The Wealth of Your Metaphysical Nature Course
DESCRIPTION:Do you often doubt the messages that come from your psychic senses?\n\nWhat is the essence of your meta-physical truth?\n\nGain a better understanding of your inner communication system you were born with making it practical in your daily life.\n\nWhat you will experience:\n\n*Experience unique techniques to help you unfold your Clairaudient and Clairvoyant metaphysical natures.\n*Astro-travel to the source.\n\n*Learn a tool to clear your Aura.\n*Discover the four avenues of your inner communication system of Prophecy\, Intuition\, Vision\, and Feeling.\n\n*Feel without touch\n*Register here for this live event:\nhttp://www.eclecticreikiology.com/events-1/the-wealth-of-your-metaphysical-nature-certificate-by-mail\n\nBecome connected with others and share yourself in this fun\, joyful\, dynamic class.\n\nInvestment: $55.\nA certificate will be mailed to you from Wayshowers College for attending this class.
URL:https://www.wayshowerscollege.net/event/the-wealth-of-your-metaphysical-nature-course/
LOCATION:Eclectic Reikiology & Metaphysical Center\, 2760 Lake Sahara Dr. #106\, Las Vegas\, NV\, 89117\, United States
CATEGORIES:New Spiritual Horizons
GEO:36.1401296;-115.2835033
X-APPLE-STRUCTURED-LOCATION;VALUE=URI;X-ADDRESS=Eclectic Reikiology & Metaphysical Center 2760 Lake Sahara Dr. #106 Las Vegas NV 89117 United States;X-APPLE-RADIUS=500;X-TITLE=2760 Lake Sahara Dr. #106:geo:-115.2835033,36.1401296
END:VEVENT
END:VCALENDAR