BEGIN:VCALENDAR
VERSION:2.0
PRODID:-//Wayshowers College - ECPv6.15.16.1//NONSGML v1.0//EN
CALSCALE:GREGORIAN
METHOD:PUBLISH
X-ORIGINAL-URL:https://www.wayshowerscollege.net
X-WR-CALDESC:Events for Wayshowers College
REFRESH-INTERVAL;VALUE=DURATION:PT1H
X-Robots-Tag:noindex
X-PUBLISHED-TTL:PT1H
BEGIN:VTIMEZONE
TZID:America/New_York
BEGIN:DAYLIGHT
TZOFFSETFROM:-0500
TZOFFSETTO:-0400
TZNAME:EDT
DTSTART:20200308T070000
END:DAYLIGHT
BEGIN:STANDARD
TZOFFSETFROM:-0400
TZOFFSETTO:-0500
TZNAME:EST
DTSTART:20201101T060000
END:STANDARD
BEGIN:DAYLIGHT
TZOFFSETFROM:-0500
TZOFFSETTO:-0400
TZNAME:EDT
DTSTART:20210314T070000
END:DAYLIGHT
BEGIN:STANDARD
TZOFFSETFROM:-0400
TZOFFSETTO:-0500
TZNAME:EST
DTSTART:20211107T060000
END:STANDARD
BEGIN:DAYLIGHT
TZOFFSETFROM:-0500
TZOFFSETTO:-0400
TZNAME:EDT
DTSTART:20220313T070000
END:DAYLIGHT
BEGIN:STANDARD
TZOFFSETFROM:-0400
TZOFFSETTO:-0500
TZNAME:EST
DTSTART:20221106T060000
END:STANDARD
END:VTIMEZONE
BEGIN:VEVENT
DTSTART;TZID=America/New_York:20210507T180000
DTEND;TZID=America/New_York:20210508T213000
DTSTAMP:20260423T100708
CREATED:20210426T203132Z
LAST-MODIFIED:20210507T202200Z
UID:10000511-1620410400-1620509400@www.wayshowerscollege.net
SUMMARY:Online International Regrouping Workshop
DESCRIPTION:Welcome to the special\n‘Zoom’ 2021 International Regrouping ‘Workshop’ \n“The world can be your playground. It is up to you however to claim it … it is up to you to be free in it. And when you do\, the Universe opens up to you; everything becomes useful and you become childlike.”\nTiger Coll\nIf I told you the last year was a building year\, would you believe me? It was! That which is inside you is building. \nEven with all you have done for yourself\, there is more. Yes\, it is safe to say we are moving through challenges in the world. And\, it is also safe to say\, we will successfully pass through them. What is important is to know\, see\, understand\, and feel what you are gaining from it all. Imagine having fun and being abundant through all your opportunities … that is what is being presented now! This International Regrouping Workshop will help you pave the way for a year of growth & success. This is your time. Join me and your brothers and sisters for a new wave of spiritual freedom. A new era of flow … the era of the Pure You. \n“Pure Flowing Freedom”\n\nYour IR Program: \nThis program is a compacted version of what was experienced at the 2021 International Regrouping\, in Florida Keys\, this last March. It will be a 7 hour program spread over two days. There will be personal regrouping\, spiritual insights & guidance and tools and techniques for the spiritual year. It is an excellent way to regroup and advance in the opportunity that is at hand. \nJust A Few Areas We’ll be Covering: \n\nRegrouping: Present – Past – Future\nThe Real You\nBalance of Thought & Feeling\nProphecy\nPure Flowing Freedom\n\n \nTiming:\nAustralia: Saturday & Sunday May 8th & 9th 8 AM – 11:30 AM SydneyNew Zealand: Saturday & Sunday May 8th & 9th 10 AM – 1:30 AP AucklandUnited Kingdom: Friday & Saturday May 7th & 8th 11 PM – 2:30 AM LondonUnited States: Friday & Saturday May 7th & 8th 6 PM – 9:30 PM Eastern \n \nPrice: \n$275 early registration – by 4 May 2021\n$300 Regular\nPrerequisites: To have experienced the 1001\, 1002A\, and 1003A profiles. Please contact the office if you need assistance meeting these prerequisites. \nREGISTRATION CLOSED \n 
URL:https://www.wayshowerscollege.net/event/online-international-regrouping-workshop/
LOCATION:Zoom Meetings\, Online Format\, United States
CATEGORIES:International,Online Programs,Workshops
ATTACH;FMTTYPE=image/png:https://www.wayshowerscollege.net/wp-content/uploads/2020/04/logo.png
END:VEVENT
END:VCALENDAR