BEGIN:VCALENDAR
VERSION:2.0
PRODID:-//Wayshowers College - ECPv6.15.16.1//NONSGML v1.0//EN
CALSCALE:GREGORIAN
METHOD:PUBLISH
X-ORIGINAL-URL:https://www.wayshowerscollege.net
X-WR-CALDESC:Events for Wayshowers College
REFRESH-INTERVAL;VALUE=DURATION:PT1H
X-Robots-Tag:noindex
X-PUBLISHED-TTL:PT1H
BEGIN:VTIMEZONE
TZID:America/New_York
BEGIN:DAYLIGHT
TZOFFSETFROM:-0500
TZOFFSETTO:-0400
TZNAME:EDT
DTSTART:20200308T070000
END:DAYLIGHT
BEGIN:STANDARD
TZOFFSETFROM:-0400
TZOFFSETTO:-0500
TZNAME:EST
DTSTART:20201101T060000
END:STANDARD
BEGIN:DAYLIGHT
TZOFFSETFROM:-0500
TZOFFSETTO:-0400
TZNAME:EDT
DTSTART:20210314T070000
END:DAYLIGHT
BEGIN:STANDARD
TZOFFSETFROM:-0400
TZOFFSETTO:-0500
TZNAME:EST
DTSTART:20211107T060000
END:STANDARD
BEGIN:DAYLIGHT
TZOFFSETFROM:-0500
TZOFFSETTO:-0400
TZNAME:EDT
DTSTART:20220313T070000
END:DAYLIGHT
BEGIN:STANDARD
TZOFFSETFROM:-0400
TZOFFSETTO:-0500
TZNAME:EST
DTSTART:20221106T060000
END:STANDARD
END:VTIMEZONE
BEGIN:VEVENT
DTSTART;TZID=America/New_York:20210612T090000
DTEND;TZID=America/New_York:20210612T190000
DTSTAMP:20260421T035456
CREATED:20210522T090415Z
LAST-MODIFIED:20210601T071035Z
UID:10000299-1623488400-1623524400@www.wayshowerscollege.net
SUMMARY:LFN Course 100: Regrouping your Concepts: a New Outlook at Life
DESCRIPTION:Learn about the energy patterns that hit planet earth to organise your day for more success.\nLearn about the concepts and how they can influence you both positively and negatively.\n\nThe course is a regrouping and a guide designed to expand and broaden your spiritual basis. \nLife is to be enjoyed every moment! \nEvent is on Zoom\, Timing is EDT Saturday\, 12 June \n \nRegistration  \nFirstTimers: $185.00\, Refreshers: $120.00 \nSend payment to: \nPayPal.me/ToFrDaBu \n 
URL:https://www.wayshowerscollege.net/event/lfn-course-100-regrouping-your-concepts-a-new-outlook-at-life/
LOCATION:Zoom from Atlanta\, GA\, Atlanta\, GA\, United States
CATEGORIES:La Familia Nuestra
GEO:-43.3787838;172.6623102
END:VEVENT
END:VCALENDAR