BEGIN:VCALENDAR
VERSION:2.0
PRODID:-//Wayshowers College - ECPv6.15.16.1//NONSGML v1.0//EN
CALSCALE:GREGORIAN
METHOD:PUBLISH
X-ORIGINAL-URL:https://www.wayshowerscollege.net
X-WR-CALDESC:Events for Wayshowers College
REFRESH-INTERVAL;VALUE=DURATION:PT1H
X-Robots-Tag:noindex
X-PUBLISHED-TTL:PT1H
BEGIN:VTIMEZONE
TZID:America/New_York
BEGIN:DAYLIGHT
TZOFFSETFROM:-0500
TZOFFSETTO:-0400
TZNAME:EDT
DTSTART:20210314T070000
END:DAYLIGHT
BEGIN:STANDARD
TZOFFSETFROM:-0400
TZOFFSETTO:-0500
TZNAME:EST
DTSTART:20211107T060000
END:STANDARD
BEGIN:DAYLIGHT
TZOFFSETFROM:-0500
TZOFFSETTO:-0400
TZNAME:EDT
DTSTART:20220313T070000
END:DAYLIGHT
BEGIN:STANDARD
TZOFFSETFROM:-0400
TZOFFSETTO:-0500
TZNAME:EST
DTSTART:20221106T060000
END:STANDARD
BEGIN:DAYLIGHT
TZOFFSETFROM:-0500
TZOFFSETTO:-0400
TZNAME:EDT
DTSTART:20230312T070000
END:DAYLIGHT
BEGIN:STANDARD
TZOFFSETFROM:-0400
TZOFFSETTO:-0500
TZNAME:EST
DTSTART:20231105T060000
END:STANDARD
END:VTIMEZONE
BEGIN:VEVENT
DTSTART;TZID=America/New_York:20220313T130000
DTEND;TZID=America/New_York:20220313T160000
DTSTAMP:20260420T161421
CREATED:20220225T183019Z
LAST-MODIFIED:20220225T184521Z
UID:10000586-1647176400-1647187200@www.wayshowerscollege.net
SUMMARY:On Schedule with Your Plans – Course 596
DESCRIPTION:Are you on schedule with your Dream Come True?\nEngage your Soul Thrust in the Big Picture with your Imagination Journey!\nDiscover the relationship of the 7 Chakras and Your Abundant Life; and how to release blockages in the flow that affect Your Success! \nEstablish goals balancing your Spiritual and Material Life Experience \n$50 – 3 hours  Mar. 13\, 2022 :  10 am – 1 pm PST;   that is\, 11 am – 2 pm MST; Noon – 3 pm CST;  1 pm – 4 pm EST.\n\n                                  To Register: https://www.paypal.com/cgi-bin/webscr?cmd=_s-xclick&hosted_button_id=YJAMKR7PJ7RSQ \n\nYou will receive a Zoom Link the day before the class.
URL:https://www.wayshowerscollege.net/event/on-schedule-with-my-plan-course-596/
LOCATION:Online using Zoom
CATEGORIES:Online Programs
END:VEVENT
END:VCALENDAR