BEGIN:VCALENDAR
VERSION:2.0
PRODID:-//Wayshowers College - ECPv6.15.16.1//NONSGML v1.0//EN
CALSCALE:GREGORIAN
METHOD:PUBLISH
X-ORIGINAL-URL:https://www.wayshowerscollege.net
X-WR-CALDESC:Events for Wayshowers College
REFRESH-INTERVAL;VALUE=DURATION:PT1H
X-Robots-Tag:noindex
X-PUBLISHED-TTL:PT1H
BEGIN:VTIMEZONE
TZID:America/New_York
BEGIN:DAYLIGHT
TZOFFSETFROM:-0500
TZOFFSETTO:-0400
TZNAME:EDT
DTSTART:20210314T070000
END:DAYLIGHT
BEGIN:STANDARD
TZOFFSETFROM:-0400
TZOFFSETTO:-0500
TZNAME:EST
DTSTART:20211107T060000
END:STANDARD
BEGIN:DAYLIGHT
TZOFFSETFROM:-0500
TZOFFSETTO:-0400
TZNAME:EDT
DTSTART:20220313T070000
END:DAYLIGHT
BEGIN:STANDARD
TZOFFSETFROM:-0400
TZOFFSETTO:-0500
TZNAME:EST
DTSTART:20221106T060000
END:STANDARD
BEGIN:DAYLIGHT
TZOFFSETFROM:-0500
TZOFFSETTO:-0400
TZNAME:EDT
DTSTART:20230312T070000
END:DAYLIGHT
BEGIN:STANDARD
TZOFFSETFROM:-0400
TZOFFSETTO:-0500
TZNAME:EST
DTSTART:20231105T060000
END:STANDARD
END:VTIMEZONE
BEGIN:VEVENT
DTSTART;TZID=America/New_York:20221119T130000
DTEND;TZID=America/New_York:20221120T180000
DTSTAMP:20260422T170422
CREATED:20221128T180048Z
LAST-MODIFIED:20221128T180048Z
UID:10000627-1668862800-1668967200@www.wayshowerscollege.net
SUMMARY:421: Professional Spiritual Instructorship
DESCRIPTION:421: Professional Spiritual Instructorship:\n\nThe bountiful wisdom that you have acquired throughout your life\nexperiences has enabled you to aspire to a unique and professional opportunity\nto pass this wisdom on. Keeping yourself refreshed in the mechanics of your\nopportunity shows the inner security you have in accomplishing what you came to\ndo. \nThe Spiritual Educator: \n\n·         Take a deeper look at\nyourself as a Spiritual Educator and evaluate your feelings towards your\nspiritual opportunities. \n·         Utilize your purpose\nand spiritual thrust to inspire and life others. \n·         Clarify and understand\nyour motives as a Spiritual Educator as you utilize your innate standards. \n·         Service verses\nServant. \n·         Ethics and your\nrelationship to the College. \n·         The mechanics of\nsetting up program and promoting for success. \n·         Your relationship with\nparticipants of your programs. \n\nJoin your colleagues to learn and grow\, polish your professional\nimage\, and celebrate the rewards of being a Spiritual Educator. \nPrerequisites: \n1001 and 1002A Consultations \nFee: $75\, both for the first-time\nattendee and for the person recertifying.  Wayshowers College requires updating certification every two years to be\nable to instruct courses. After registration\, zoom link will be sent 48 hours\nin advance of course. \n\n\n\n\n\n\n\n\nThis class is Virtual.
URL:https://www.wayshowerscollege.net/event/421-professional-spiritual-instructorship/
CATEGORIES:Field
ORGANIZER;CN="Kathleen Ellis":MAILTO:kellis2worlds@yahoo.com
END:VEVENT
END:VCALENDAR