BEGIN:VCALENDAR
VERSION:2.0
PRODID:-//Wayshowers College - ECPv6.15.16.1//NONSGML v1.0//EN
CALSCALE:GREGORIAN
METHOD:PUBLISH
X-ORIGINAL-URL:https://www.wayshowerscollege.net
X-WR-CALDESC:Events for Wayshowers College
REFRESH-INTERVAL;VALUE=DURATION:PT1H
X-Robots-Tag:noindex
X-PUBLISHED-TTL:PT1H
BEGIN:VTIMEZONE
TZID:America/New_York
BEGIN:DAYLIGHT
TZOFFSETFROM:-0500
TZOFFSETTO:-0400
TZNAME:EDT
DTSTART:20230312T070000
END:DAYLIGHT
BEGIN:STANDARD
TZOFFSETFROM:-0400
TZOFFSETTO:-0500
TZNAME:EST
DTSTART:20231105T060000
END:STANDARD
BEGIN:DAYLIGHT
TZOFFSETFROM:-0500
TZOFFSETTO:-0400
TZNAME:EDT
DTSTART:20240310T070000
END:DAYLIGHT
BEGIN:STANDARD
TZOFFSETFROM:-0400
TZOFFSETTO:-0500
TZNAME:EST
DTSTART:20241103T060000
END:STANDARD
BEGIN:DAYLIGHT
TZOFFSETFROM:-0500
TZOFFSETTO:-0400
TZNAME:EDT
DTSTART:20250309T070000
END:DAYLIGHT
BEGIN:STANDARD
TZOFFSETFROM:-0400
TZOFFSETTO:-0500
TZNAME:EST
DTSTART:20251102T060000
END:STANDARD
END:VTIMEZONE
BEGIN:VEVENT
DTSTART;TZID=America/New_York:20240320T220000
DTEND;TZID=America/New_York:20240321T213000
DTSTAMP:20260421T024231
CREATED:20240317T214629Z
LAST-MODIFIED:20240317T214629Z
UID:10000857-1710972000-1711056600@www.wayshowerscollege.net
SUMMARY:5001IL: Spiritual Freedom Orientation Lecture
DESCRIPTION:5001IL: Spiritual Freedom Orientation Lecture:\n\nTap the energy and spiritual resources you need to succeed in the venture you planned for yourself. This class will give you the tools and understanding you are looking for in order to:\n\n\nExperience greater inner peace\n\n\nTrust your impressions and sensitivity\n\n\nUnderstand how your creative energy works\n\n\nBe more open to inner guidance\n\n\nLive from the authentic you\n\n\n\n \n\n\n\nThis class is Virtual.
URL:https://www.wayshowerscollege.net/event/5001il-spiritual-freedom-orientation-lecture-9/
CATEGORIES:Field
ORGANIZER;CN="IPM International":MAILTO:ipmiworld.org@yahoo.com
END:VEVENT
END:VCALENDAR