BEGIN:VCALENDAR
VERSION:2.0
PRODID:-//Wayshowers College - ECPv6.15.16.1//NONSGML v1.0//EN
CALSCALE:GREGORIAN
METHOD:PUBLISH
X-ORIGINAL-URL:https://www.wayshowerscollege.net
X-WR-CALDESC:Events for Wayshowers College
REFRESH-INTERVAL;VALUE=DURATION:PT1H
X-Robots-Tag:noindex
X-PUBLISHED-TTL:PT1H
BEGIN:VTIMEZONE
TZID:America/New_York
BEGIN:DAYLIGHT
TZOFFSETFROM:-0500
TZOFFSETTO:-0400
TZNAME:EDT
DTSTART:20230312T070000
END:DAYLIGHT
BEGIN:STANDARD
TZOFFSETFROM:-0400
TZOFFSETTO:-0500
TZNAME:EST
DTSTART:20231105T060000
END:STANDARD
BEGIN:DAYLIGHT
TZOFFSETFROM:-0500
TZOFFSETTO:-0400
TZNAME:EDT
DTSTART:20240310T070000
END:DAYLIGHT
BEGIN:STANDARD
TZOFFSETFROM:-0400
TZOFFSETTO:-0500
TZNAME:EST
DTSTART:20241103T060000
END:STANDARD
BEGIN:DAYLIGHT
TZOFFSETFROM:-0500
TZOFFSETTO:-0400
TZNAME:EDT
DTSTART:20250309T070000
END:DAYLIGHT
BEGIN:STANDARD
TZOFFSETFROM:-0400
TZOFFSETTO:-0500
TZNAME:EST
DTSTART:20251102T060000
END:STANDARD
END:VTIMEZONE
BEGIN:VEVENT
DTSTART;TZID=America/New_York:20240323T140000
DTEND;TZID=America/New_York:20240323T173000
DTSTAMP:20260421T135456
CREATED:20240317T220725Z
LAST-MODIFIED:20240317T220725Z
UID:10000858-1711202400-1711215000@www.wayshowerscollege.net
SUMMARY:500-EID: Exploring Inner Dynamics (Workshop)\,500IL EID: Man and the Universe Orientation Lecture and Exploring Inner Dynamics Workshop
DESCRIPTION:500-EID: Exploring Inner Dynamics (Workshop):\n \n1      In this course you will obtain a bigger picture for your purpose in life and for your own personal plan while passing through Planet Earth.\n\n2.      You will find practical keys for your personal spiritual unfoldment that you can use at any time to be a successful leader of yourself.\n\n3.      You will experience the simplicity of techniques involving you to experience your own energy.\n\n4.      You will learn to discern your own energy from the energies of your environment.\n\n5.      You will also learn to keep your energy positive at all times.\n\n6.      You will understand and feel the power of your spiritual healing energy.\n \n\n \n:\n\nThis class is Virtual.
URL:https://www.wayshowerscollege.net/event/500-eid-exploring-inner-dynamics-workshop500il-eid-man-and-the-universe-orientation-lecture-and-exploring-inner-dynamics-workshop/
CATEGORIES:Field
ORGANIZER;CN="IPM International":MAILTO:ipmiworld.org@yahoo.com
END:VEVENT
END:VCALENDAR