BEGIN:VCALENDAR
VERSION:2.0
PRODID:-//Wayshowers College - ECPv6.15.16.1//NONSGML v1.0//EN
CALSCALE:GREGORIAN
METHOD:PUBLISH
X-ORIGINAL-URL:https://www.wayshowerscollege.net
X-WR-CALDESC:Events for Wayshowers College
REFRESH-INTERVAL;VALUE=DURATION:PT1H
X-Robots-Tag:noindex
X-PUBLISHED-TTL:PT1H
BEGIN:VTIMEZONE
TZID:America/New_York
BEGIN:DAYLIGHT
TZOFFSETFROM:-0500
TZOFFSETTO:-0400
TZNAME:EDT
DTSTART:20230312T070000
END:DAYLIGHT
BEGIN:STANDARD
TZOFFSETFROM:-0400
TZOFFSETTO:-0500
TZNAME:EST
DTSTART:20231105T060000
END:STANDARD
BEGIN:DAYLIGHT
TZOFFSETFROM:-0500
TZOFFSETTO:-0400
TZNAME:EDT
DTSTART:20240310T070000
END:DAYLIGHT
BEGIN:STANDARD
TZOFFSETFROM:-0400
TZOFFSETTO:-0500
TZNAME:EST
DTSTART:20241103T060000
END:STANDARD
BEGIN:DAYLIGHT
TZOFFSETFROM:-0500
TZOFFSETTO:-0400
TZNAME:EDT
DTSTART:20250309T070000
END:DAYLIGHT
BEGIN:STANDARD
TZOFFSETFROM:-0400
TZOFFSETTO:-0500
TZNAME:EST
DTSTART:20251102T060000
END:STANDARD
END:VTIMEZONE
BEGIN:VEVENT
DTSTART;TZID=America/New_York:20240416T190000
DTEND;TZID=America/New_York:20240416T203000
DTSTAMP:20260420T050513
CREATED:20240401T183500Z
LAST-MODIFIED:20240403T150202Z
UID:10000859-1713294000-1713299400@www.wayshowerscollege.net
SUMMARY:100A: Universal Family: A New Outlook on Life
DESCRIPTION:100A: Universal Family: A New Outlook on Life:\n \n1.         This course is an introduction to the\nUniversal Energies and Concepts of Planet Earth (La Familia Nuestra (LFN). It\nis a guide to expand and broaden their spiritual basis.  The 2 workshops are designed to give them a\nsolid understanding for the energy patterns that flow in and out of Planet\nEarth each day\, week\, month\, year.\n\n2.      They will be introduced to the energy\npatterns and concepts that are contained in the LFN calendars.\n\n3.      They will be given practical ways on how to\nutilize the monthly maps and realize how the use of these maps can give them\nforesight and an edge in order to bypass concepts working against them.  \n\n4.      They will see the link from the past to the\npresent and how clarifying their situation NOW can influence their better\nfuture. Discerning when the timing is best for certain activities will enable\nthem to accomplish the most in the least amount of time.\n\n5.     Reference is made to the difference between\nfeelings and emotions.\n\n\n\nCost: $20.00 \n \n\n\nThis class is Virtual.
URL:https://www.wayshowerscollege.net/event/100a-universal-family-a-new-outlook-on-life/
CATEGORIES:Field
ORGANIZER;CN="Jan Burke":MAILTO:janburke@hotmail.co.nz
END:VEVENT
END:VCALENDAR