BEGIN:VCALENDAR
VERSION:2.0
PRODID:-//Wayshowers College - ECPv6.15.16.1//NONSGML v1.0//EN
CALSCALE:GREGORIAN
METHOD:PUBLISH
X-ORIGINAL-URL:https://www.wayshowerscollege.net
X-WR-CALDESC:Events for Wayshowers College
REFRESH-INTERVAL;VALUE=DURATION:PT1H
X-Robots-Tag:noindex
X-PUBLISHED-TTL:PT1H
BEGIN:VTIMEZONE
TZID:America/New_York
BEGIN:DAYLIGHT
TZOFFSETFROM:-0500
TZOFFSETTO:-0400
TZNAME:EDT
DTSTART:20230312T070000
END:DAYLIGHT
BEGIN:STANDARD
TZOFFSETFROM:-0400
TZOFFSETTO:-0500
TZNAME:EST
DTSTART:20231105T060000
END:STANDARD
BEGIN:DAYLIGHT
TZOFFSETFROM:-0500
TZOFFSETTO:-0400
TZNAME:EDT
DTSTART:20240310T070000
END:DAYLIGHT
BEGIN:STANDARD
TZOFFSETFROM:-0400
TZOFFSETTO:-0500
TZNAME:EST
DTSTART:20241103T060000
END:STANDARD
BEGIN:DAYLIGHT
TZOFFSETFROM:-0500
TZOFFSETTO:-0400
TZNAME:EDT
DTSTART:20250309T070000
END:DAYLIGHT
BEGIN:STANDARD
TZOFFSETFROM:-0400
TZOFFSETTO:-0500
TZNAME:EST
DTSTART:20251102T060000
END:STANDARD
END:VTIMEZONE
BEGIN:VEVENT
DTSTART;TZID=America/New_York:20240420T090000
DTEND;TZID=America/New_York:20240421T170000
DTSTAMP:20260423T083008
CREATED:20240317T191932Z
LAST-MODIFIED:20240418T004200Z
UID:10000855-1713603600-1713718800@www.wayshowerscollege.net
SUMMARY:Tiger Coll Hosts 2024 Mini International Regrouping - New Jersey
DESCRIPTION:Price:  $300 Discount Price;  $350 late registration or at the door. \nPrerequisites: 1001 Profile\, Thrust Profile.  1003 is recommended. \nLocation:  Homewood Suites by Hilton Mahwah\, 375 Corporate Drive\, Mahwah\, NJ\, 07430\, 1-201-760-9994 \nRandolph Macon College-Copley\n114 College Avenue\nAshland\, VA 23005\nPayne Building # 82\, third floor\, room number
URL:https://www.wayshowerscollege.net/event/__trashed-2/
LOCATION:Homewood Suites by Hilton Mahwah\, 375 Corporate Drive\, Mahwah\, NJ\, 07430\, United States
ATTACH;FMTTYPE=image/png:https://www.wayshowerscollege.net/wp-content/uploads/2024/03/The-Business-of-You-NEW-JERSEY-2.png
ORGANIZER;CN="Francisco Coll":MAILTO:facts@www.wayshowerscollege.net
END:VEVENT
BEGIN:VEVENT
DTSTART;TZID=America/New_York:20240420T160000
DTEND;TZID=America/New_York:20240420T190000
DTSTAMP:20260423T083008
CREATED:20240321T200551Z
LAST-MODIFIED:20240321T200551Z
UID:10000863-1713628800-1713639600@www.wayshowerscollege.net
SUMMARY:3096: Your Mystical Vision - Balanced and Out of Balance
DESCRIPTION:3096: Your Mystical Vision – Balanced and Out of Balance:\nThis is the second course in a  IPM International Progressive  Retreat.  The plan is to offer one 3 hour workshop each Saturday  which started April 13 to May 4\, 2024.  These in-depth workshops from Wayshower College department of Profound Mystical Meditation provide insights into deepening the participants effective inner communication. It is possible to attend each course separately however\,  for more information and to receive significant discounts in attending all 4 gift courses go to www.innerpeacewithin.com  \n1.      In this course you will learn how the mystical perception of Vision communicates when in balance of out-of-balance in some of its characteristics. \n\n2.      You will find out how the people with Vision as their first avenue of perception motivate themselves and others. \n\n3.      You will find out some of the ways the Visionary perception reacts under pressure. \n\n4.      You will gain insight on some of the ways people with the Visionary perception as their first gift communicate others. \n\n5.      You will gain an understanding of how Visionaries like to accomplish and what gives them fulfillment. \n\n6.      You will experience unique Techniques to unfold your Visionary gift in a positive and balanced way. \n\n7.      You will obtain a bigger picture of Wayshowers College and what it has to offer for more in-depth understanding of the Visionary perception.\n \n\n\nThis class is Virtual.
URL:https://www.wayshowerscollege.net/event/3096-your-mystical-vision-balanced-and-out-of-balance/
CATEGORIES:Field
ORGANIZER;CN="IPM International":MAILTO:ipmiworld.org@yahoo.com
END:VEVENT
END:VCALENDAR