BEGIN:VCALENDAR
VERSION:2.0
PRODID:-//Wayshowers College - ECPv6.15.16.1//NONSGML v1.0//EN
CALSCALE:GREGORIAN
METHOD:PUBLISH
X-WR-CALNAME:Wayshowers College
X-ORIGINAL-URL:https://www.wayshowerscollege.net
X-WR-CALDESC:Events for Wayshowers College
REFRESH-INTERVAL;VALUE=DURATION:PT1H
X-Robots-Tag:noindex
X-PUBLISHED-TTL:PT1H
BEGIN:VTIMEZONE
TZID:America/New_York
BEGIN:DAYLIGHT
TZOFFSETFROM:-0500
TZOFFSETTO:-0400
TZNAME:EDT
DTSTART:20230312T070000
END:DAYLIGHT
BEGIN:STANDARD
TZOFFSETFROM:-0400
TZOFFSETTO:-0500
TZNAME:EST
DTSTART:20231105T060000
END:STANDARD
BEGIN:DAYLIGHT
TZOFFSETFROM:-0500
TZOFFSETTO:-0400
TZNAME:EDT
DTSTART:20240310T070000
END:DAYLIGHT
BEGIN:STANDARD
TZOFFSETFROM:-0400
TZOFFSETTO:-0500
TZNAME:EST
DTSTART:20241103T060000
END:STANDARD
BEGIN:DAYLIGHT
TZOFFSETFROM:-0500
TZOFFSETTO:-0400
TZNAME:EDT
DTSTART:20250309T070000
END:DAYLIGHT
BEGIN:STANDARD
TZOFFSETFROM:-0400
TZOFFSETTO:-0500
TZNAME:EST
DTSTART:20251102T060000
END:STANDARD
END:VTIMEZONE
BEGIN:VEVENT
DTSTART;TZID=America/New_York:20240707T060000
DTEND;TZID=America/New_York:20240707T180000
DTSTAMP:20260420T043645
CREATED:20240617T210648Z
LAST-MODIFIED:20240617T210648Z
UID:10000885-1720332000-1720375200@www.wayshowerscollege.net
SUMMARY:760: Searching Within and Beyond Astro Soul Groups
DESCRIPTION:760: Searching Within and Beyond Astro Soul Groups:\n1. This course provides the procedures for the leadership of “Searching Within and Beyond” Astro Soul groups.\n2. Through an organized group structure\, you will learn more about yourself while practising discernment and communication with your Guidance.\n3. You will also practice developing your spiritual gifts to a higher degree.\n4. Through deep meditation\, semi-trance and trance\, you will expand your consciousness by delving into deeper realms of the Universe. \n\n\nThis class is In Person.
URL:https://www.wayshowerscollege.net/event/760-searching-within-and-beyond-astro-soul-groups/
LOCATION:Camp 2024\, 1447 HWY 69\, Osceola\, IA\, 50213
CATEGORIES:Camps
ATTACH;FMTTYPE=image/jpeg:https://www.wayshowerscollege.net/wp-content/uploads/2024/05/SummerCamp2024p.jpg
ORGANIZER;CN="Shannon Schilling":MAILTO:growing4success@yahoo.com
END:VEVENT
END:VCALENDAR