BEGIN:VCALENDAR
VERSION:2.0
PRODID:-//Wayshowers College - ECPv6.15.16.1//NONSGML v1.0//EN
CALSCALE:GREGORIAN
METHOD:PUBLISH
X-WR-CALNAME:Wayshowers College
X-ORIGINAL-URL:https://www.wayshowerscollege.net
X-WR-CALDESC:Events for Wayshowers College
REFRESH-INTERVAL;VALUE=DURATION:PT1H
X-Robots-Tag:noindex
X-PUBLISHED-TTL:PT1H
BEGIN:VTIMEZONE
TZID:America/New_York
BEGIN:DAYLIGHT
TZOFFSETFROM:-0500
TZOFFSETTO:-0400
TZNAME:EDT
DTSTART:20230312T070000
END:DAYLIGHT
BEGIN:STANDARD
TZOFFSETFROM:-0400
TZOFFSETTO:-0500
TZNAME:EST
DTSTART:20231105T060000
END:STANDARD
BEGIN:DAYLIGHT
TZOFFSETFROM:-0500
TZOFFSETTO:-0400
TZNAME:EDT
DTSTART:20240310T070000
END:DAYLIGHT
BEGIN:STANDARD
TZOFFSETFROM:-0400
TZOFFSETTO:-0500
TZNAME:EST
DTSTART:20241103T060000
END:STANDARD
BEGIN:DAYLIGHT
TZOFFSETFROM:-0500
TZOFFSETTO:-0400
TZNAME:EDT
DTSTART:20250309T070000
END:DAYLIGHT
BEGIN:STANDARD
TZOFFSETFROM:-0400
TZOFFSETTO:-0500
TZNAME:EST
DTSTART:20251102T060000
END:STANDARD
END:VTIMEZONE
BEGIN:VEVENT
DTSTART;TZID=America/New_York:20241102T090000
DTEND;TZID=America/New_York:20241103T170000
DTSTAMP:20260425T115447
CREATED:20240913T141648Z
LAST-MODIFIED:20241007T173843Z
UID:10000927-1730538000-1730653200@www.wayshowerscollege.net
SUMMARY:Tiger Coll Fall Tour - New Jersey
DESCRIPTION:Saturday 9 AM to 6 PM; Sunday 9 AM to 5 PM.\nWe are now entering a time for renewal and restoration of foundations and fundamentals.\nLike gravity\, or a current\, we are moving towards it and nothing will resist it . . .  instead we flow with it.\n\nWhat is needed now is to begin by strengthening your own “foundations and fundamentals.”  For what comes after is a ‘Spiritual Renaissance.’  A Spring-of-Opportunity and delight.\n\nWe will be regrouping and strengthening your foundations.  We will be refreshing and building on your fundamentals.  And we will then set your energy to build and have fun doing it.\n\n* Clearer and deeper communication with Spirit.\n* Greater practical use of your Gifts.\n* Capitalize on Challenge\n* Transforming negatives to Positives\n* Leading your energy in ‘Slipstream’.\n* Refresh purpose as a way of life.\n* Seek & find opportunities to become a Master Soul.\n\nPrerequisites: Experienced profiles through the 1003A and having experienced one of the profiles where they get their thrust: 7001\, 7004\, or 7000. \nFee: Regular $300; $250 if registered by October 4\, 2024 \n\n\n  \n\nThis class is In Person.
URL:https://www.wayshowerscollege.net/event/0107-tiger-coll-fall-tour/
LOCATION:Homewood Suites – Mahwah 375 Corporate Drive Mahwah\, NJ\, 07480\, 375 Corporate Drive\, Mahwah\, NJ\, 07480\, United States
CATEGORIES:Field
ATTACH;FMTTYPE=image/png:https://www.wayshowerscollege.net/wp-content/uploads/2024/09/Banner.png
ORGANIZER;CN="Francisco Coll":MAILTO:facts@wayshowerscollege.com
GEO:41.0863123;-74.1561544
X-APPLE-STRUCTURED-LOCATION;VALUE=URI;X-ADDRESS=Homewood Suites – Mahwah 375 Corporate Drive Mahwah NJ 07480 375 Corporate Drive Mahwah NJ 07480 United States;X-APPLE-RADIUS=500;X-TITLE=375 Corporate Drive:geo:-74.1561544,41.0863123
END:VEVENT
END:VCALENDAR