BEGIN:VCALENDAR
VERSION:2.0
PRODID:-//Wayshowers College - ECPv6.15.16.1//NONSGML v1.0//EN
CALSCALE:GREGORIAN
METHOD:PUBLISH
X-WR-CALNAME:Wayshowers College
X-ORIGINAL-URL:https://www.wayshowerscollege.net
X-WR-CALDESC:Events for Wayshowers College
REFRESH-INTERVAL;VALUE=DURATION:PT1H
X-Robots-Tag:noindex
X-PUBLISHED-TTL:PT1H
BEGIN:VTIMEZONE
TZID:America/New_York
BEGIN:DAYLIGHT
TZOFFSETFROM:-0500
TZOFFSETTO:-0400
TZNAME:EDT
DTSTART:20240310T070000
END:DAYLIGHT
BEGIN:STANDARD
TZOFFSETFROM:-0400
TZOFFSETTO:-0500
TZNAME:EST
DTSTART:20241103T060000
END:STANDARD
BEGIN:DAYLIGHT
TZOFFSETFROM:-0500
TZOFFSETTO:-0400
TZNAME:EDT
DTSTART:20250309T070000
END:DAYLIGHT
BEGIN:STANDARD
TZOFFSETFROM:-0400
TZOFFSETTO:-0500
TZNAME:EST
DTSTART:20251102T060000
END:STANDARD
BEGIN:DAYLIGHT
TZOFFSETFROM:-0500
TZOFFSETTO:-0400
TZNAME:EDT
DTSTART:20260308T070000
END:DAYLIGHT
BEGIN:STANDARD
TZOFFSETFROM:-0400
TZOFFSETTO:-0500
TZNAME:EST
DTSTART:20261101T060000
END:STANDARD
END:VTIMEZONE
BEGIN:VEVENT
DTSTART;TZID=America/New_York:20250213T203000
DTEND;TZID=America/New_York:20250227T223000
DTSTAMP:20260420T194311
CREATED:20250127T165411Z
LAST-MODIFIED:20250127T165411Z
UID:10000968-1739478600-1740695400@www.wayshowerscollege.net
SUMMARY:701-A: The Dynamics of Astro Soul
DESCRIPTION:701-A: The Dynamics of Astro Soul:\n \n1.      This course sets the footings for a strong foundation of involvement in the entire Astro Soul Program.\n\n2.      You will work closely with your team of master souls to find experiences in your memory bank that will give you understanding for the feelings you have today.\n\n3.      You will learn about the zones of consciousness and how they affect you.\n\n4.      You will discover your life purpose and the depth of your commitment to that purpose.\n \n\nThis class is Virtual.
URL:https://www.wayshowerscollege.net/event/701-a-the-dynamics-of-astro-soul-3/
CATEGORIES:Field
ORGANIZER;CN="Melissa Kitto":MAILTO:melissa@communicatewithangels.com
END:VEVENT
BEGIN:VEVENT
DTSTART;TZID=America/New_York:20250222T160000
DTEND;TZID=America/New_York:20250222T213000
DTSTAMP:20260420T194311
CREATED:20250208T021509Z
LAST-MODIFIED:20250208T021509Z
UID:10000973-1740240000-1740259800@www.wayshowerscollege.net
SUMMARY:4407: Universal Laws of Abundance
DESCRIPTION:THE LAWS OF\nABUNDANCE are in your own hands.  You\ncame into this world with everything you need to be abundant.  If you are not enjoying a successful life it\nis because you are getting in your own way.  The first 7 years can make or break you\, but you can learn to unravel\nconfusions on abundance. \n\nHappiness\, success and abundance are\nalready yours.   All you need to do is claim them for yourself.  Dr. Francisco Coll \n Through course techniques\,\nyou will identify the thoughts and habits which are limiting your abundance\,\nsuch as doubts\, “shoulds”\, competition\, dependence\,\nexpecting and responsibility. \n See how to tap\nyour own inner resources and utilize them to create an unlimited flow of\nenergy. \n Learn to be inner\nmotivated by understanding what you are learning spiritually in whatever you\ndo. \nCourse of the Month for Feb 2025: Regular Price $250 but if register by 2/18/25 (4 days ahead of course) $175\, 30% OFF. 5 hour course\, pre-req. to have experienced 1001 profile. 1/2 hour meal break will occur after the first 3 hours of the course. \n\n\nThis class is Virtual.
URL:https://www.wayshowerscollege.net/event/4407-universal-laws-of-abundance/
CATEGORIES:Field
ORGANIZER;CN="IPM International":MAILTO:ipmiworld.org@yahoo.com
END:VEVENT
END:VCALENDAR