BEGIN:VCALENDAR
VERSION:2.0
PRODID:-//Wayshowers College - ECPv6.15.16.1//NONSGML v1.0//EN
CALSCALE:GREGORIAN
METHOD:PUBLISH
X-ORIGINAL-URL:https://www.wayshowerscollege.net
X-WR-CALDESC:Events for Wayshowers College
REFRESH-INTERVAL;VALUE=DURATION:PT1H
X-Robots-Tag:noindex
X-PUBLISHED-TTL:PT1H
BEGIN:VTIMEZONE
TZID:America/New_York
BEGIN:DAYLIGHT
TZOFFSETFROM:-0500
TZOFFSETTO:-0400
TZNAME:EDT
DTSTART:20240310T070000
END:DAYLIGHT
BEGIN:STANDARD
TZOFFSETFROM:-0400
TZOFFSETTO:-0500
TZNAME:EST
DTSTART:20241103T060000
END:STANDARD
BEGIN:DAYLIGHT
TZOFFSETFROM:-0500
TZOFFSETTO:-0400
TZNAME:EDT
DTSTART:20250309T070000
END:DAYLIGHT
BEGIN:STANDARD
TZOFFSETFROM:-0400
TZOFFSETTO:-0500
TZNAME:EST
DTSTART:20251102T060000
END:STANDARD
BEGIN:DAYLIGHT
TZOFFSETFROM:-0500
TZOFFSETTO:-0400
TZNAME:EDT
DTSTART:20260308T070000
END:DAYLIGHT
BEGIN:STANDARD
TZOFFSETFROM:-0400
TZOFFSETTO:-0500
TZNAME:EST
DTSTART:20261101T060000
END:STANDARD
END:VTIMEZONE
BEGIN:VEVENT
DTSTART;TZID=America/New_York:20250821T203000
DTEND;TZID=America/New_York:20250918T223000
DTSTAMP:20260420T001306
CREATED:20250818T175953Z
LAST-MODIFIED:20250818T175953Z
UID:10001025-1755808200-1758234600@www.wayshowerscollege.net
SUMMARY:714: My Past\, My Present and My Destiny
DESCRIPTION:714: My Past\, My Present and My Destiny:\n \n1.      This course is an in-depth search into your first seven years to help you see the attitudes which have been passed on to you and the role they play in your life today. \n\n2.      You will see how feelings of loneliness and resentment can be stimulated within you. \n\n3.      You take a look at your self-image and understand tendencies you have developed over lifetimes. \n\n4.      You will determine the kind of person you want to be and outline realistic steps to achieve this goal.\n \n\nThis class is Virtual.
URL:https://www.wayshowerscollege.net/event/714-my-past-my-present-and-my-destiny-3/
CATEGORIES:Field
ORGANIZER;CN="Melissa Kitto":MAILTO:melissa@communicatewithangels.com
END:VEVENT
BEGIN:VEVENT
DTSTART;TZID=America/New_York:20250918T140000
DTEND;TZID=America/New_York:20250918T163000
DTSTAMP:20260420T001306
CREATED:20250909T213101Z
LAST-MODIFIED:20250909T213101Z
UID:10001029-1758204000-1758213000@www.wayshowerscollege.net
SUMMARY:SFS Orientation Lecture: Intuition\, Spirit Guides and Life Purpose
DESCRIPTION:Presented by IPM International\, Inc.\nDuring this Interactive Class You will experience:\n\nThe power of your spiritual energy/aura\nBegin to understand your life purpose and how you can unfold it\nLearn about your team of guides and how you can be aware of their messages and how to\nRecognize ANYTIME your Spiritual Helpers want to communicate with you\nDiscover how sensitive you are to your environment and why it is essential to raise your vibration to its highest positive point\nExplore the 7-year cycles and purpose of each cycle\nLearn the 4 ways you can use your intuitive (psychic) abilities and learn to develop all 4.\n\nInvestment: $15.00 Offered 3 different times on Sept. 18\, 2 PM\, 7 PM and 10 PM EDT\nWhen: Sept 18\, 2 PM\, 7 PM\, and 10 PM EDT\, New York\, USA\nWhere: virtual event on Zoom\, to register—newspiritualhorizons.com/sfs-step-1
URL:https://www.wayshowerscollege.net/event/sfs-orientation-lecture-intuition-spirit-guides-and-life-purpose/2025-09-18/
LOCATION:ONLINE – IPMI
CATEGORIES:New Spiritual Horizons
ATTACH;FMTTYPE=image/png:https://www.wayshowerscollege.net/wp-content/uploads/2025/09/Intuition-Spirit-Guides-and-Life-Purpose-wave.png
ORGANIZER;CN="Kathleen Ellis":MAILTO:kellis2worlds@yahoo.com
END:VEVENT
END:VCALENDAR