BEGIN:VCALENDAR
VERSION:2.0
PRODID:-//Wayshowers College - ECPv6.15.16.1//NONSGML v1.0//EN
CALSCALE:GREGORIAN
METHOD:PUBLISH
X-ORIGINAL-URL:https://www.wayshowerscollege.net
X-WR-CALDESC:Events for Wayshowers College
REFRESH-INTERVAL;VALUE=DURATION:PT1H
X-Robots-Tag:noindex
X-PUBLISHED-TTL:PT1H
BEGIN:VTIMEZONE
TZID:America/New_York
BEGIN:DAYLIGHT
TZOFFSETFROM:-0500
TZOFFSETTO:-0400
TZNAME:EDT
DTSTART:20240310T070000
END:DAYLIGHT
BEGIN:STANDARD
TZOFFSETFROM:-0400
TZOFFSETTO:-0500
TZNAME:EST
DTSTART:20241103T060000
END:STANDARD
BEGIN:DAYLIGHT
TZOFFSETFROM:-0500
TZOFFSETTO:-0400
TZNAME:EDT
DTSTART:20250309T070000
END:DAYLIGHT
BEGIN:STANDARD
TZOFFSETFROM:-0400
TZOFFSETTO:-0500
TZNAME:EST
DTSTART:20251102T060000
END:STANDARD
BEGIN:DAYLIGHT
TZOFFSETFROM:-0500
TZOFFSETTO:-0400
TZNAME:EDT
DTSTART:20260308T070000
END:DAYLIGHT
BEGIN:STANDARD
TZOFFSETFROM:-0400
TZOFFSETTO:-0500
TZNAME:EST
DTSTART:20261101T060000
END:STANDARD
END:VTIMEZONE
BEGIN:VEVENT
DTSTART;TZID=America/New_York:20251004T130000
DTEND;TZID=America/New_York:20251004T140000
DTSTAMP:20260422T225310
CREATED:20251001T174257Z
LAST-MODIFIED:20251001T174257Z
UID:10001035-1759582800-1759586400@www.wayshowerscollege.net
SUMMARY:5001IL: Spiritual Freedom Orientation Lecture
DESCRIPTION:5001IL: Spiritual Freedom Orientation Lecture:\n \n\n\nThis class is In Person.
URL:https://www.wayshowerscollege.net/event/5001il-spiritual-freedom-orientation-lecture-20/
LOCATION:Comfort Inn University Center\, 11180 Fairfax Blvd.\, Fairfax\, VA\, 22030\, United States
CATEGORIES:Field
ORGANIZER;CN="Mara Spencer":MAILTO:inspiringbelief@cox.net
END:VEVENT
BEGIN:VEVENT
DTSTART;TZID=America/New_York:20251004T140000
DTEND;TZID=America/New_York:20251004T170000
DTSTAMP:20260422T225310
CREATED:20251001T174714Z
LAST-MODIFIED:20251001T174714Z
UID:10001036-1759586400-1759597200@www.wayshowerscollege.net
SUMMARY:5002: Embrace Your Spiritual Freedom Workshop Part 1
DESCRIPTION:5002: Embrace Your Spiritual Freedom Workshop Part 1:\n \n1.       This is the second step in the Spiritual Freedom Series of the Wayshowers College.\n\n2.      This program is broken down into two parts – Part 1 (5002) deals with expanding your concepts of who you really are\, how you work with your Guidance and understanding your loyalties. \n\n3.      Part 2 (5003) will work with discovering your “niche” in life and learning to direct your energy for success and the many choices you have. \n\n4.      You will experience many techniques to help you clear your energy\, heal concepts and expand your spiritual freedom. \n\n5.      You will come away with basic tools to help you fulfil your purpose. \n\n \n\nThis class is In Person.
URL:https://www.wayshowerscollege.net/event/5002-embrace-your-spiritual-freedom-workshop-part-1-3/
LOCATION:Comfort Inn University Center\, 11180 Fairfax Blvd.\, Fairfax\, VA\, 22030\, United States
CATEGORIES:Field
ORGANIZER;CN="Mara Spencer":MAILTO:inspiringbelief@cox.net
END:VEVENT
BEGIN:VEVENT
DTSTART;TZID=America/New_York:20251011T130000
DTEND;TZID=America/New_York:20251011T160000
DTSTAMP:20260422T225310
CREATED:20251001T175802Z
LAST-MODIFIED:20251001T175802Z
UID:10001037-1760187600-1760198400@www.wayshowerscollege.net
SUMMARY:5003: Spiritual Freedom Series Workshop Part 2
DESCRIPTION:5003: Spiritual Freedom Series Workshop Part 2:\n \n1.       This is the second step in the Spiritual Freedom Series of the Wayshowers College.\n\n2.      This program is broken down into two parts – Part 1 (5002) deals with expanding your concepts of who you really are\, how you work with your Guidance and understanding your loyalties. \n\n3.      Part 2 (5003) will work with discovering your “niche” in life and learning to direct your energy for success and the many choices you have. \n\n4.      You will experience many techniques to help you clear your energy\, heal concepts and expand your spiritual freedom. \n\n5.      You will come away with basic tools to help you fulfil your purpose. \n\n \n\nThis class is In Person.
URL:https://www.wayshowerscollege.net/event/5003-spiritual-freedom-series-workshop-part-2-3/
LOCATION:Comfort Inn University Center\, 11180 Fairfax Blvd.\, Fairfax\, VA\, 22030\, United States
CATEGORIES:Field
ORGANIZER;CN="Mara Spencer":MAILTO:inspiringbelief@cox.net
END:VEVENT
BEGIN:VEVENT
DTSTART;TZID=America/New_York:20251014T200000
DTEND;TZID=America/New_York:20251125T213000
DTSTAMP:20260422T225310
CREATED:20251007T191042Z
LAST-MODIFIED:20251007T191042Z
UID:10001049-1760472000-1764106200@www.wayshowerscollege.net
SUMMARY:759-A: In-Depth Healing of the Chakra Centres
DESCRIPTION:759-A: In-Depth Healing of the Chakra Centres:\n \n1.      With this course\, you will learn about yourself\, more than ever before throughout the whole week. \n\n2.      You will be involved in relaxing Techniques\, and consistently tune into respecting yourself and your environment. \n\n3.      As you become more relaxed\, the more energy your chakras will receive\, which they can release to the rest of your physical body. \n\n4.      As you understand yourself better each day of the week\, you will be able to use your system for the purposes you have chosen\, and can achieve the goals you have set for yourself.\n \n\nThis class is Virtual.
URL:https://www.wayshowerscollege.net/event/759-a-in-depth-healing-of-the-chakra-centres-4/
CATEGORIES:Field
ORGANIZER;CN="Melissa Kitto":MAILTO:melissa@communicatewithangels.com
END:VEVENT
BEGIN:VEVENT
DTSTART;TZID=America/New_York:20251017T013000
DTEND;TZID=America/New_York:20251017T014500
DTSTAMP:20260422T225310
CREATED:20251015T131057Z
LAST-MODIFIED:20251015T131057Z
UID:10001050-1760664600-1760665500@www.wayshowerscollege.net
SUMMARY:AEW: AEW Connect with Your Angels Workshop
DESCRIPTION:AEW: AEW Connect with Your Angels Workshop:\n \n1.      During this Workshop you will establish a clear\, direct\, lifelong communication with your spiritual Guidance. \n\n 2.      You will spend the entire day getting to know your personal team of Angels and find out how many angels you have brought with you and learn how to receive immediate answers from them concerning your life’s direction. \n\n3.      You will learn powerful techniques that fully awaken your spiritual abilities of clairvoyance (Vision)\, clairaudience (Intuition)\, Prophecy and Feeling. \n\n4.      You will learn special techniques on how to raise and keep your energy Levels high and how to keep your environment clear as well as how to Keep your life more directed and organized.\n\n \n\nThis class is Virtual.
URL:https://www.wayshowerscollege.net/event/aew-aew-connect-with-your-angels-workshop-2/
CATEGORIES:Field
ORGANIZER;CN="Lillibet Obrecht":MAILTO:lillibetmiller@gmail.com
END:VEVENT
BEGIN:VEVENT
DTSTART;TZID=America/New_York:20251031T180000
DTEND;TZID=America/New_York:20251031T200000
DTSTAMP:20260422T225310
CREATED:20251020T153120Z
LAST-MODIFIED:20251021T185920Z
UID:10001053-1761933600-1761940800@www.wayshowerscollege.net
SUMMARY:October Monthly Regrouping
DESCRIPTION:Woo Ho Nothing Spooky about this event\, unless you come in costume.\nJoin your colleagues to get regrouped and look forward to the energy of the upcoming month of November.\n\n  \n\nThis class is Virtual.
URL:https://www.wayshowerscollege.net/event/000-monthly-regrouping-33/
CATEGORIES:Field
ATTACH;FMTTYPE=image/png:https://www.wayshowerscollege.net/wp-content/uploads/2025/10/Banner-October-2025.png
ORGANIZER;CN="Francisco Coll":MAILTO:facts@www.wayshowerscollege.net
END:VEVENT
END:VCALENDAR