BEGIN:VCALENDAR
VERSION:2.0
PRODID:-//Wayshowers College - ECPv6.15.16.1//NONSGML v1.0//EN
CALSCALE:GREGORIAN
METHOD:PUBLISH
X-WR-CALNAME:Wayshowers College
X-ORIGINAL-URL:https://www.wayshowerscollege.net
X-WR-CALDESC:Events for Wayshowers College
REFRESH-INTERVAL;VALUE=DURATION:PT1H
X-Robots-Tag:noindex
X-PUBLISHED-TTL:PT1H
BEGIN:VTIMEZONE
TZID:America/New_York
BEGIN:DAYLIGHT
TZOFFSETFROM:-0500
TZOFFSETTO:-0400
TZNAME:EDT
DTSTART:20240310T070000
END:DAYLIGHT
BEGIN:STANDARD
TZOFFSETFROM:-0400
TZOFFSETTO:-0500
TZNAME:EST
DTSTART:20241103T060000
END:STANDARD
BEGIN:DAYLIGHT
TZOFFSETFROM:-0500
TZOFFSETTO:-0400
TZNAME:EDT
DTSTART:20250309T070000
END:DAYLIGHT
BEGIN:STANDARD
TZOFFSETFROM:-0400
TZOFFSETTO:-0500
TZNAME:EST
DTSTART:20251102T060000
END:STANDARD
BEGIN:DAYLIGHT
TZOFFSETFROM:-0500
TZOFFSETTO:-0400
TZNAME:EDT
DTSTART:20260308T070000
END:DAYLIGHT
BEGIN:STANDARD
TZOFFSETFROM:-0400
TZOFFSETTO:-0500
TZNAME:EST
DTSTART:20261101T060000
END:STANDARD
END:VTIMEZONE
BEGIN:VEVENT
DTSTART;TZID=America/New_York:20251206T160000
DTEND;TZID=America/New_York:20251206T190000
DTSTAMP:20260423T195217
CREATED:20251107T175023Z
LAST-MODIFIED:20251107T203700Z
UID:10001054-1765036800-1765047600@www.wayshowerscollege.net
SUMMARY:699: Discipline: The Reverence To Be
DESCRIPTION:699: Discipline: The Reverence To Be:\n\nIn this course you will gain an understanding of the game of Planet Earth and of your purpose for being here on the planet.\nYou will see the importance of doing the best we know how\, for reaching an inner balance\, and observe how we need to define our own discipline in order to live our own life and still play the game.\nYou will gain insights into the purpose of all religions and living a simple\, fulfilling life.\nYou will gain insights into a false sense of prestige that hinders out spiritual expansion.\nYou will obtain a new outlook into the meaning of prayer.\n\nThis class is Virtual.
URL:https://www.wayshowerscollege.net/event/699-discipline-the-reverence-to-be/
CATEGORIES:Field
ORGANIZER;CN="PCCI International":MAILTO:pcciworld0@gmail.com
END:VEVENT
BEGIN:VEVENT
DTSTART;TZID=America/New_York:20251226T180000
DTEND;TZID=America/New_York:20251226T200000
DTSTAMP:20260423T195217
CREATED:20251217T152520Z
LAST-MODIFIED:20251217T162425Z
UID:10001060-1766772000-1766779200@www.wayshowerscollege.net
SUMMARY:December Monthly Regrouping
DESCRIPTION:You are cordially invited to wrap up 2025 and all its bountiful accomplishments\, learning experiences and ready for the new year.\n\n\n \nSee you there!\n\n  \n\nThis class is Virtual.
URL:https://www.wayshowerscollege.net/event/000-monthly-regrouping-35/
CATEGORIES:Field,Other Programs
ATTACH;FMTTYPE=image/png:https://www.wayshowerscollege.net/wp-content/uploads/2025/12/December-banner.png
ORGANIZER;CN="Francisco Coll":MAILTO:facts@www.wayshowerscollege.net
END:VEVENT
END:VCALENDAR