BEGIN:VCALENDAR
VERSION:2.0
PRODID:-//Wayshowers College - ECPv6.15.16.1//NONSGML v1.0//EN
CALSCALE:GREGORIAN
METHOD:PUBLISH
X-WR-CALNAME:Wayshowers College
X-ORIGINAL-URL:https://www.wayshowerscollege.net
X-WR-CALDESC:Events for Wayshowers College
REFRESH-INTERVAL;VALUE=DURATION:PT1H
X-Robots-Tag:noindex
X-PUBLISHED-TTL:PT1H
BEGIN:VTIMEZONE
TZID:America/New_York
BEGIN:DAYLIGHT
TZOFFSETFROM:-0500
TZOFFSETTO:-0400
TZNAME:EDT
DTSTART:20220313T070000
END:DAYLIGHT
BEGIN:STANDARD
TZOFFSETFROM:-0400
TZOFFSETTO:-0500
TZNAME:EST
DTSTART:20221106T060000
END:STANDARD
BEGIN:DAYLIGHT
TZOFFSETFROM:-0500
TZOFFSETTO:-0400
TZNAME:EDT
DTSTART:20230312T070000
END:DAYLIGHT
BEGIN:STANDARD
TZOFFSETFROM:-0400
TZOFFSETTO:-0500
TZNAME:EST
DTSTART:20231105T060000
END:STANDARD
BEGIN:DAYLIGHT
TZOFFSETFROM:-0500
TZOFFSETTO:-0400
TZNAME:EDT
DTSTART:20240310T070000
END:DAYLIGHT
BEGIN:STANDARD
TZOFFSETFROM:-0400
TZOFFSETTO:-0500
TZNAME:EST
DTSTART:20241103T060000
END:STANDARD
END:VTIMEZONE
BEGIN:VEVENT
DTSTART;TZID=America/New_York:20230612T103000
DTEND;TZID=America/New_York:20230616T120000
DTSTAMP:20260421T014948
CREATED:20230512T163639Z
LAST-MODIFIED:20230512T164401Z
UID:10000745-1686565800-1686916800@www.wayshowerscollege.net
SUMMARY:541: Inner Communication and Guidance
DESCRIPTION:541: Inner Communication and Guidance:\n1.      In this course you will discover where you fit with the universe and Planet Earth as you unfold your relationship with your environment and loved ones.\n\n2.      Through your Feeling nature\, gain a deeper understanding of yourself and the life you chose on Planet Earth as a time to learn\, grow and share your love.\n\n3.      Find new keys to reaching that inner balance and thereby becoming master of your situation.\n\n4.      You will understand why you need to be your own first loyalty.5. You will gain a deeper awareness of the relationship you have with your spiritual helpers and learn how to be in constant clear communication with them and use their Guidance they provide to be the success you have inside.\n\nLive & Online
URL:https://www.wayshowerscollege.net/event/541-inner-communication-and-guidance/
LOCATION:International Conference Center\, 1447 HWY 69  50213\, Osceola\, IA\,\, 50213\, United States
CATEGORIES:Camps,Online Programs
ORGANIZER;CN="Esther Karhu":MAILTO:facts@www.wayshowerscollege.net
GEO:41.0509467;-93.7648256
X-APPLE-STRUCTURED-LOCATION;VALUE=URI;X-ADDRESS=International Conference Center 1447 HWY 69  50213 Osceola IA 50213 United States;X-APPLE-RADIUS=500;X-TITLE=1447 HWY 69  50213:geo:-93.7648256,41.0509467
END:VEVENT
END:VCALENDAR