BEGIN:VCALENDAR
VERSION:2.0
PRODID:-//Wayshowers College - ECPv6.15.16.1//NONSGML v1.0//EN
CALSCALE:GREGORIAN
METHOD:PUBLISH
X-ORIGINAL-URL:https://www.wayshowerscollege.net
X-WR-CALDESC:Events for Wayshowers College
REFRESH-INTERVAL;VALUE=DURATION:PT1H
X-Robots-Tag:noindex
X-PUBLISHED-TTL:PT1H
BEGIN:VTIMEZONE
TZID:America/New_York
BEGIN:DAYLIGHT
TZOFFSETFROM:-0500
TZOFFSETTO:-0400
TZNAME:EDT
DTSTART:20200308T070000
END:DAYLIGHT
BEGIN:STANDARD
TZOFFSETFROM:-0400
TZOFFSETTO:-0500
TZNAME:EST
DTSTART:20201101T060000
END:STANDARD
BEGIN:DAYLIGHT
TZOFFSETFROM:-0500
TZOFFSETTO:-0400
TZNAME:EDT
DTSTART:20210314T070000
END:DAYLIGHT
BEGIN:STANDARD
TZOFFSETFROM:-0400
TZOFFSETTO:-0500
TZNAME:EST
DTSTART:20211107T060000
END:STANDARD
BEGIN:DAYLIGHT
TZOFFSETFROM:-0500
TZOFFSETTO:-0400
TZNAME:EDT
DTSTART:20220313T070000
END:DAYLIGHT
BEGIN:STANDARD
TZOFFSETFROM:-0400
TZOFFSETTO:-0500
TZNAME:EST
DTSTART:20221106T060000
END:STANDARD
END:VTIMEZONE
BEGIN:VTIMEZONE
TZID:America/Los_Angeles
BEGIN:DAYLIGHT
TZOFFSETFROM:-0800
TZOFFSETTO:-0700
TZNAME:PDT
DTSTART:20200308T100000
END:DAYLIGHT
BEGIN:STANDARD
TZOFFSETFROM:-0700
TZOFFSETTO:-0800
TZNAME:PST
DTSTART:20201101T090000
END:STANDARD
BEGIN:DAYLIGHT
TZOFFSETFROM:-0800
TZOFFSETTO:-0700
TZNAME:PDT
DTSTART:20210314T100000
END:DAYLIGHT
BEGIN:STANDARD
TZOFFSETFROM:-0700
TZOFFSETTO:-0800
TZNAME:PST
DTSTART:20211107T090000
END:STANDARD
BEGIN:DAYLIGHT
TZOFFSETFROM:-0800
TZOFFSETTO:-0700
TZNAME:PDT
DTSTART:20220313T100000
END:DAYLIGHT
BEGIN:STANDARD
TZOFFSETFROM:-0700
TZOFFSETTO:-0800
TZNAME:PST
DTSTART:20221106T090000
END:STANDARD
END:VTIMEZONE
BEGIN:VEVENT
DTSTART;VALUE=DATE:20210101
DTEND;VALUE=DATE:20210103
DTSTAMP:20260424T044252
CREATED:20201130T230704Z
LAST-MODIFIED:20201231T204759Z
UID:10000273-1609459200-1609631999@www.wayshowerscollege.net
SUMMARY:Astro Soul Course 783:  Magnetizing My Future With Positive Energy
DESCRIPTION:Start your New Year with D-Zone energy!\nTap your Prophetic part to discern your future.\nEnable the Wayshower within to be of Full Service this year.\nEmpower your opportunities to attract more people who want what you have mastered.\nFriday\, January 1\, 2021: 7-10pm EST and\nSaturday\, January 2\, 2021: 10am-7pm EST\nSpirit has a big picture plan to help you navigate your life with greater ease\, inner security and right timing throughout 2021. In Astro Soul Course 783: Magnetizing My Future With Positive Energy\, you will regroup your past six months\, and then give and receive 3 monthly Magnetizing Your Future charts.\nIn this powerful online program you will:\n\n\nRegroup and see what you have been doing for yourself spiritually these last six months.\n\n\nFind out how you may be blocking and wasting some of your energy by being under the pressure of man-made time or by yearning.\n\n\nBuild a stronger pivot point and positive magnetic field! Discover new ways to utilize your time and energy and live this life to the fullest.\n\n\nTake an astral trip to past lifetimes and see yourself and the unique value you have created through the evolution of your soul.\n\n\nLearn a special technique to magnetize your plans and expand your success as a leader. Get a big picture of what you will be doing spiritually for the next three months by experiencing “Magnetizing My Future.”\n\n\nPractice being a clear channel for Spirit to share the keywords and insights to help another.\n\n\n11 hours. Early bird discount – $99 if you preregister by December 28\, 2020\nPrerequisites: 1002A Blockage Profile & some groupwork.* 1002B and 7004 Profiles are recommended.\nNote: * If you haven’t experienced groupwork and you are interested in taking this course\, let us know.\n Course participants will have the opportunity to be involved in a monthly mastermind group and a quarterly regrouping and projection for future months.\nTo preregister click:\n\n“The Magnetizing My Future chart is one of the most valuable tools in my spiritual tool kit. Paul and I had taken course 783 a number of times. Years ago\, we decided to make a consistent spiritual routine of exchanging Magnetizing My Future charts each month and have continued this practice for the past 30+ years. I am always amazed at the depth of insights that unfold themselves in the keywords.”  Susan Kellogg
URL:https://www.wayshowerscollege.net/event/astro-soul-course-783-magnetizing-my-future-with-positive-energy/
LOCATION:ONLINE
ORGANIZER;CN="Dr. Paul Kellogg":MAILTO:paul@soul2soulliving.com
GEO:37.09024;-95.712891
END:VEVENT
BEGIN:VEVENT
DTSTART;TZID=America/New_York:20210109T090000
DTEND;TZID=America/New_York:20210110T160000
DTSTAMP:20260424T044252
CREATED:20201203T172217Z
LAST-MODIFIED:20201218T194900Z
UID:10000486-1610182800-1610294400@www.wayshowerscollege.net
SUMMARY:Directing Life Energy Behind Your Goals - Las Vegas
DESCRIPTION:You have no limitations.\nYou are energy … and you can be anything you want to be.\nThis 2 day in-depth retreat with Tiger Coll will allow you to step back into the energy of attracting and magnetizing what you desire in your life and fulfill your life’s purpose in the process. \nIf you have experiencing challenges in fulfilling your purpose and creating your material goals;  it is because you have unconsciously accepted limitations that don’t truly fit. \n“Troubles” arise when you don’t truly know what you need\, at this time in your life’s evolution and purpose.  This two days will assist you to clarify what you truly need spiritually\, your heart’s desires and the core essence of why you want what you want. \nWhen you understand that your needs and desires are part of the expression of your thrust and the flow of your purpose; you can truly embrace them and organize yourself to achieve them. \nTake some time for yourself this holiday season to regroup\, organize and direct yourself towards your soul’s needs and wants NOW. Without this time to regroup and clarify your direction\, it is easy to get distracted and let life “get in the way”. \nIf you are ready to take the next step in your growth\, join us in this powerful program.\n\nHere is just a few areas of what we will cover: \n\nRegrouping where you are and your recent experiences\nLook at your concepts of possessions\, wants\, loyalties and leadership.\nExpand your inner standards into a more abundant state of consciousness.\nA new understanding of the importance of living in the present moment.\nSet fresh goals and renew old ones.\nConnect with the Spiritual Power of ‘Decision’.\nUnfold your spiritual gifts more to channel your energy towards creating your heart’s desires.\nHow to have more fun and fulfillment in your daily activities.\n\nAdditionally\, Tiger will be helping you to regroup your energy and Personal Direction. As it checks with Spirit\, Tiger will give individuals in the class deeper personal insights and regrouping. \nBy participating you will receive certification in the Wayshowers College course 561: Directing Life Energy Behind My Goals \nRegroup and connect with like-minded people who are interested in growing personally as you are. \nMake 2021 a year of spiritual and material expansion. \nIt’s time to come together and do what you’ve come to do! \n*Live Event – Las Vegas*\n9th and 10th of January\nSaturday 9 AM to 6 PM\, Sunday 9 AM to 4 PM\nLocation: 5500 South Eastern Ave.\nLas Vegas\, Nevada 89119 \nSpecial Price:\n$275 USD\n \n50% discount for any second event that you attend\, please contact the office to receive this discount.\nPrerequisite: Experienced 1001 Orientation Profile (Gifts & Guidance)\nRecommended: Experienced 1002A Blockage Discovery Profile
URL:https://www.wayshowerscollege.net/event/directing-life-energy-behind-your-goals-las-vegas/
LOCATION:5500 South Eastern Las Vegas\, Nevada 89119\, 5500 S Eastern Ave.\, Las Vegas\, IA\, 89119\, United States
CATEGORIES:Camps & Retreats,Spiritual Development Course,Workshops
ORGANIZER;CN="Wayshowers College":MAILTO:facts@www.wayshowerscollege.net
GEO:36.0895463;-115.1183464
X-APPLE-STRUCTURED-LOCATION;VALUE=URI;X-ADDRESS=5500 South Eastern Las Vegas Nevada 89119 5500 S Eastern Ave. Las Vegas IA 89119 United States;X-APPLE-RADIUS=500;X-TITLE=5500 S Eastern Ave.:geo:-115.1183464,36.0895463
END:VEVENT
BEGIN:VEVENT
DTSTART;TZID=America/Los_Angeles:20210112T190000
DTEND;TZID=America/Los_Angeles:20210112T203000
DTSTAMP:20260424T044252
CREATED:20210109T232350Z
LAST-MODIFIED:20210109T232350Z
UID:10000491-1610478000-1610483400@www.wayshowerscollege.net
SUMMARY:**Intuition - Guide To The Life Experience I Want!** Astro Soul® Program
DESCRIPTION:**This is an Introductory Presentation sponsored by www.NorthWestMystical.com in partnership with the International program Astro Soul®.  Over 250\,000 people have attended this presentation internationally over its 50+ year history with ongoing program today in the USA\, Canada\, Australia and the United Kingdom. \nDr. Coll’s good work has stood the test of time! Astro Soul® has no philosophy or membership as Each Group is Autonomous with Course and Group Work tailored to help each person Achieve Working Level Expertise with their Intuition and Communication with their Spirit Guides or Angels. \nThis Content Rich and Unique presentation will cover the topics of Intuition\, Reincarnation\, Astro Travel and Healing including Why They Are Important to Creating The Life Experience I Want! This is an Introduction to the Tools and Techniques of the Astro® Soul program that will lead to an Exciting Opportunity of Intuitive Self Discovery that will Enrich the spiritual or religious practice you may already be involved in. \nThe presenter will be John Pease\, an Intuition Facilitator and Spiritual Consultant for www.NorthWestMystical.com\, a spiritual community in the Pacific Northwest dedicated to help the sincere searcher Lead their Own Lives By Their Intuition\, Inner Guidance and Be of Service to People and Cultures Around The World. Our goal is To Fulfill the “Dream Within” that is Unique To Each of Us! What will be shared has been refined by over fifty years of experience through many courses and programs internationally. \nFor more information reach out to John:\nwww.meetup.com/Portland-New-Spiritual-Horizons\nhttps://www.facebook.com/NorthWestMystical/\njohn@NWMystical.com\n503.869.9104
URL:https://www.wayshowerscollege.net/event/intuition-guide-to-the-life-experience-i-want-astro-soul-program/
LOCATION:Zoom Meetings\, Online Format\, United States
CATEGORIES:Lectures & Seminars,Lectures & Workshops,Online Programs,Spiritual Development Course
ORGANIZER;CN="John Pease":MAILTO:johnhpeasejr@gmail.com
END:VEVENT
BEGIN:VEVENT
DTSTART;TZID=America/New_York:20210116T110000
DTEND;TZID=America/New_York:20210116T210000
DTSTAMP:20260424T044252
CREATED:20201224T164436Z
LAST-MODIFIED:20210111T163409Z
UID:10000487-1610794800-1610830800@www.wayshowerscollege.net
SUMMARY:Expand Your Service As A Spiritual Educator
DESCRIPTION:You are a Spiritual Educator\nThe bountiful wisdom that you have acquired throughout your life experiences has enabled you to aspire to a unique and professional opportunity to pass this wisdom on. Keeping yourself refreshed in the mechanics of your opportunity shows the inner security you have in accomplishing what you came to do. \nThe Spiritual Educator: \n\nTake a deeper look at yourself as a Spiritual Educator and evaluate your feelings towards your spiritual opportunities.\n\n\nUtilize your purpose and spiritual thrust to inspire and life others.\n\n\nClarify and understand your motives as a Spiritual Educator as you utilize your innate standards.\n\n\nService verses Servant.\n\n\nEthics and your relationship to the College.\n\n\nThe mechanics of setting up program and promoting for success.\n\n\nYour relationship with participants of your programs.\n\nJoin your colleagues to learn and grow\, polish your professional image\, and celebrate the rewards of being a Spiritual Educator. \nPrerequisites:  1001 and 1002A Consultations \nFee: $75\nZoom Links will be sent out by January 14th.  Registration is through PayPal. If other arrangements are needed or you have questions contact Dawn Overstreet\, 540-524-0996. \nCourse will begin promptly at 11 a.m.\, Saturday\, January 16\, 2021. \nLunch – 1-2 p.m. – Dinner – 6-7 p.m.
URL:https://www.wayshowerscollege.net/event/expand-your-service-as-a-spiritual-educator/
LOCATION:Zoom Meetings\, Online Format\, United States
CATEGORIES:Online Programs,Professional Training
ATTACH;FMTTYPE=image/jpeg:https://www.wayshowerscollege.net/wp-content/uploads/2020/12/421_jan16_promo_image.jpg
END:VEVENT
BEGIN:VEVENT
DTSTART;TZID=America/Los_Angeles:20210123T090000
DTEND;TZID=America/Los_Angeles:20210124T170000
DTSTAMP:20260424T044252
CREATED:20201122T230325Z
LAST-MODIFIED:20210102T131216Z
UID:10000270-1611392400-1611507600@www.wayshowerscollege.net
SUMMARY:New Spiritual Horizons Submersion Workshop
DESCRIPTION:New Spiritual Horizons Submersion Workshop\n\n\nNew Spiritual Horizons™ is the discovery\, study and experience of the REAL YOU offering tools to tap into your inner guidance\, your spiritual gifts and your innate abilities. \nAre you looking for a deeper connection within yourself\, with others around you and to find your purpose in life? \nThere is a lot of information available today on spiritual development\, consciousness expansion\, meditation\, life after death\, angels\, guides etc. Reading books\, listening to people talk about it and watching videos will fill you with lots of theories but the REAL POWER comes from your inner feelings\, when you experience it for yourself\, finding your own truth and applying it to your own life. \nNew Spiritual Horizons will help you to find your own answers by tapping into your true inner power. \nNew Spiritual Horizons programs are presented by Certified Instructors through Wayshowers College; one of the first colleges in the world to help you clarify your spiritual life from birth to death and understand what you have come to accomplish while you are here. It is a college of experience. \n“You came to Planet Earth to find yourself. Happiness\, success and abundance are already yours. All you need to do is become a master of yourself!” – Dr Francisco Coll \n  \n\n\nNEW SPIRITUAL HORIZONS SUBMERSION WORKSHOP FACET 1: My Life Purpose as a Spiritual Being\nThis two-day workshop will help you to understand what it means to be a soul with a physical body\, not a physical body with a soul. Learn about your purpose on planet earth. Delve into the relationship between science and spirituality and why we need to have both in our society. Learn what happens when you are out of balance in either your intellect or your feeling part\, and how to bring back that balance. \nThis Workshop Will Help You:\n\nFind a greater depth of who you are\, why you came here and where you are going\nLearn and practice a simple but powerful technique to help you to stay spiritually cleansed and directed\nDevelop your own intuitive abilities through the gifts of Intuition\, Vision\, Prophecy and Feeling\nFind that Spiritual Guides\, Inner Guidance\, Angels\, Higher Self will become a reality in your every day life as you experience how to work with the resources available to you\nUnderstand your inner loyalty to yourself vs. outer loyalty\nLearn techniques to help you in your personal\, business and social life\nOpen to your inner sensitivity and find ways to make it work for you\nIf you feel your calling is to teach others\, you will have the tools to get your own groups of people together\, with ongoing support from our global team\nYour life will change. Are you ready for that?\n\nCourse Content:\nYou will experience 16 techniques including spiritual cleansing\, positive punch\, energy elevator\, security circle\, polarity switch\, intuitive impressions\, word meditation\, magnetizing your future and MANY MORE. You receive a workbook to work with and take notes. Just bring a pen. \nLearning Outcomes:\nThe Submersion experience allows you to explore your spiritual growth over a 2 day period. You will experience practical techniques\, back to back\, which is like swimming in an ocean of healing\, insights and love. You will gain a feeling of celebration for accomplishing so much growth in such a short amount of time. You will experience a new level of self-respect\, self-confidence\, self-esteem and raising your own level of consciousness that will help you stand mountain to mountain with others. When you begin to look inside\, that is when real and permanent change happens. Are you ready for change? Then this is for you. \n\nNext Programs:\n\nNEW SPIRITUAL HORIZONS SUBMERSION WORKSHOP FACET 2: States of Consciousness through the Levels\n\nNEW SPIRITUAL HORIZONS SUBMERSION WORKSHOP FACET 3: Evolution through the 7-Year Cycles\nNEW SPIRITUAL HORIZONS SUBMERSION WORKSHOP FACET 4: Communication through the 4 Gifts\nInvestment $225.00 Call April Today to register & to see if you qualify. 702-501-4491 \nYou Must Have had Your (1001 Orientation) Psychic Gift & Angel Profile beforehand to attend. 
URL:https://www.wayshowerscollege.net/event/new-spiritual-horizons-submersion-workshop-2/
CATEGORIES:New Spiritual Horizons
END:VEVENT
BEGIN:VEVENT
DTSTART;TZID=America/New_York:20210123T170000
DTEND;TZID=America/New_York:20210123T200000
DTSTAMP:20260424T044252
CREATED:20210108T135925Z
LAST-MODIFIED:20210119T012955Z
UID:10000490-1611421200-1611432000@www.wayshowerscollege.net
SUMMARY:The Wisdom of your 3rd Church
DESCRIPTION:Are you fully aware of the richness and the effects of your experiences during your teenage years? The Third Church & the Third Cycle is an opportunity to delve into the wisdom from your youth\, as well as concepts you hold regarding your home and environment. \nDuring this online 3-hour course you will: \n\nGain an overview of the four churches as states of consciousness and the vibration of the first four cycles of your life.\nDiscover thoughts and feelings in the 14 – 21 cycle that affect your life now.\nUnderstand this cycle of searching for your own identity.\nAppreciate the value of your home\, your parents or those who raised you; and where your physical body lives.\nSee the effects on your life today of rebelling and proving yourself to yourself in that cycle.\n\nThis is the third course in a series of 4 based on the four churches\, you do not have to have experienced the first and second church courses to attend. An overview of all the churches is given. \nPrerequisite: 1001 Orientation Profile. Please contact Dorinda at fox4joy@aol.com if you need assistance. \nWhen: Saturday\, January 23\, 2021\, 5 pm – 8 pm Eastern in USA\nSunday\, January 24\, 2021\, 9am – 12pm Eastern in AUS \nCost: $45 \nREGISTER FOR COURSE!\nThis is course 697 from the Wayshowers College department of Religion and Philosophy. Offered online via Zoom by instructors Dorinda Fox\, D.D. and Licensed Teacher Amanda Jackson.
URL:https://www.wayshowerscollege.net/event/the-wisdom-of-your-3rd-church/
LOCATION:Zoom Meetings\, Online Format\, United States
CATEGORIES:Online Programs,Spiritual Development Course
END:VEVENT
BEGIN:VEVENT
DTSTART;TZID=America/Los_Angeles:20210124T110000
DTEND;TZID=America/Los_Angeles:20210124T150000
DTSTAMP:20260424T044252
CREATED:20201216T021643Z
LAST-MODIFIED:20210124T153030Z
UID:10000485-1611486000-1611500400@www.wayshowerscollege.net
SUMMARY:Success & Motives Course
DESCRIPTION:  \n \nGet Your Tickets Here:  https://www.eclecticreikiology.com/events-1/success-motives-class-1 \n\nApril Azzolino is your instructor for this course.\n\nShe is a Certified Spiritual Educator with Wayshowers College.\n\n\n\nAre you motivated to become more successful in 2021 but already are aware you have some fears to release.\n\n\n\nIn this class begin balancing your thoughts and feelings to become more clear on what you want out of life.\n\n\n\nAllowing yourself to expand your super-service to others while being sincere in respecting your true heart’s desires.\n\n\n\nExperience the feelings of abundance as you grow your state of consciousness & motivate your soul to get what you want now.\n\n\n\nWhat you will experience in this Wayshowers College course:\n\n\n\n*Develop a stronger inner discipline.\n*Learn a technique to spiritually raise your vibration.\n*Gain an understanding of where your success blocks came from.\n*Learn the 3 symptoms that may be holding you back in life.\n* Begin feeling more inner security.\n*Discern your True Motives.\n*Receive a ‘Love Feast’.\n\nRegister here:  http://www.eclecticreikiology.com\n\n\n\n\nWalk-away with a clear direction in life to organize yourself to become successful in what you came to do this lifetime?\n\nInvestment $55.00\n\n\n\nApril Azzolino\, www.aprilazzolino.com is a Certified Wayshowers College Spiritual Educator for personal development. She has been presenting workshops throughout the US since 2011 and loves teaching practical spiritual living as a way of life!! She is also a Certified Consulting Hypnotist.
URL:https://www.wayshowerscollege.net/event/success-motives-course/
LOCATION:Eclectic Reikiology & Metaphysical Center\, 2760 Lake Sahara Dr. #106\, Las Vegas\, NV\, 89117\, United States
CATEGORIES:Lectures & Workshops,New Spiritual Horizons
GEO:36.1401296;-115.2835033
X-APPLE-STRUCTURED-LOCATION;VALUE=URI;X-ADDRESS=Eclectic Reikiology & Metaphysical Center 2760 Lake Sahara Dr. #106 Las Vegas NV 89117 United States;X-APPLE-RADIUS=500;X-TITLE=2760 Lake Sahara Dr. #106:geo:-115.2835033,36.1401296
END:VEVENT
BEGIN:VEVENT
DTSTART;TZID=America/New_York:20210131T090000
DTEND;TZID=America/New_York:20210131T190000
DTSTAMP:20260424T044252
CREATED:20210108T165647Z
LAST-MODIFIED:20210122T223940Z
UID:10000488-1612083600-1612119600@www.wayshowerscollege.net
SUMMARY:Course: 421 Professional Spiritual Instructorship in Australia
DESCRIPTION:Get up to speed with the all new Professional Spiritual Instructorship System\nGain an overview of how to work with Zoom & other online platforms. \nYour team Ewart\, Leonie\, Tom & Jan look forward to being of service to help you reach out with high standards and attract more success than you have dreamed of! \n \nCourse: 421 Professional Spiritual Instructorship \nSunday 31 Jan 21\, 9 am – 7 pm (approx) – Sydney Australia time –  Zoom Online Format \nGain the fulfillment of educating. Bring yourself to the affluent level. \nToo easy! the link will be emailed when you register. \n  \nCLICK HERE FOR FULL FLYER \nContacts: \nEwart – +61 425 797 761; Mobile – +61 3 9513 2660; ewartg@gmail.com \nLeonie – ibrb8856@hotmail.com; Jan – janburke@hotmail.co.nz; Tomas – cptomas@gmail.com \nREGISTER HERE
URL:https://www.wayshowerscollege.net/event/course-421-professional-spiritual-instructorship-in-australia/
LOCATION:Zoom Meetings\, Online Format\, World Wide
CATEGORIES:International,Online Programs,Professional Training
END:VEVENT
END:VCALENDAR