BEGIN:VCALENDAR
VERSION:2.0
PRODID:-//Wayshowers College - ECPv6.15.16.1//NONSGML v1.0//EN
CALSCALE:GREGORIAN
METHOD:PUBLISH
X-ORIGINAL-URL:https://www.wayshowerscollege.net
X-WR-CALDESC:Events for Wayshowers College
REFRESH-INTERVAL;VALUE=DURATION:PT1H
X-Robots-Tag:noindex
X-PUBLISHED-TTL:PT1H
BEGIN:VTIMEZONE
TZID:America/New_York
BEGIN:DAYLIGHT
TZOFFSETFROM:-0500
TZOFFSETTO:-0400
TZNAME:EDT
DTSTART:20200308T070000
END:DAYLIGHT
BEGIN:STANDARD
TZOFFSETFROM:-0400
TZOFFSETTO:-0500
TZNAME:EST
DTSTART:20201101T060000
END:STANDARD
BEGIN:DAYLIGHT
TZOFFSETFROM:-0500
TZOFFSETTO:-0400
TZNAME:EDT
DTSTART:20210314T070000
END:DAYLIGHT
BEGIN:STANDARD
TZOFFSETFROM:-0400
TZOFFSETTO:-0500
TZNAME:EST
DTSTART:20211107T060000
END:STANDARD
BEGIN:DAYLIGHT
TZOFFSETFROM:-0500
TZOFFSETTO:-0400
TZNAME:EDT
DTSTART:20220313T070000
END:DAYLIGHT
BEGIN:STANDARD
TZOFFSETFROM:-0400
TZOFFSETTO:-0500
TZNAME:EST
DTSTART:20221106T060000
END:STANDARD
END:VTIMEZONE
BEGIN:VTIMEZONE
TZID:America/Los_Angeles
BEGIN:DAYLIGHT
TZOFFSETFROM:-0800
TZOFFSETTO:-0700
TZNAME:PDT
DTSTART:20200308T100000
END:DAYLIGHT
BEGIN:STANDARD
TZOFFSETFROM:-0700
TZOFFSETTO:-0800
TZNAME:PST
DTSTART:20201101T090000
END:STANDARD
BEGIN:DAYLIGHT
TZOFFSETFROM:-0800
TZOFFSETTO:-0700
TZNAME:PDT
DTSTART:20210314T100000
END:DAYLIGHT
BEGIN:STANDARD
TZOFFSETFROM:-0700
TZOFFSETTO:-0800
TZNAME:PST
DTSTART:20211107T090000
END:STANDARD
BEGIN:DAYLIGHT
TZOFFSETFROM:-0800
TZOFFSETTO:-0700
TZNAME:PDT
DTSTART:20220313T100000
END:DAYLIGHT
BEGIN:STANDARD
TZOFFSETFROM:-0700
TZOFFSETTO:-0800
TZNAME:PST
DTSTART:20221106T090000
END:STANDARD
END:VTIMEZONE
BEGIN:VEVENT
DTSTART;TZID=America/New_York:20210213T160000
DTEND;TZID=America/New_York:20210213T190000
DTSTAMP:20260419T143613
CREATED:20210203T132305Z
LAST-MODIFIED:20210204T234225Z
UID:10000494-1613232000-1613242800@www.wayshowerscollege.net
SUMMARY:Springboard to Maturity: PCC Seminary Course 698: 4th Church and the 4th Cycle
DESCRIPTION:Delve into your early adult years and the influences of the environment on your meeting your needs \nExperience an in-depth regrouping regarding you and your environment in these critical years \nUnderstand the spiritual need for fellowship \nGain insights into limitations that still limit your success today that had roots in this cycle \nRelease lack of consideration and over concern for prestige\, embracing love and trust to neutralize all fears \nWhen: Feb 13\, 4 to 7 PM ET (New York time) \nWhere: Online only via Zoom link \nWhy: to expand your healing and release the past and recapture your zest for your opportunity to create your dreams. \nInstructors: Rev. Kathleen Ellis\, Rev. LaJenne Dukes \nTo register:  please send registration fee and your preferred contact information\, $45 if registered by 2/11/21; $50 if registered after2/12/21. \n \n  \nThis Wayshowers College Course is sponsored by Peace Community Church International and a portion of the proceeds of the registration fee will go to that organization for their expansion fund.
URL:https://www.wayshowerscollege.net/event/springboard-to-maturity-pcc-seminary-course-698-4th-church-and-the-4th-cycle/
LOCATION:GA\, United States
CATEGORIES:Online Programs,Spiritual Development Course,Workshops
GEO:-37.727;144.942
END:VEVENT
BEGIN:VEVENT
DTSTART;TZID=America/Los_Angeles:20210214T110000
DTEND;TZID=America/Los_Angeles:20210214T143000
DTSTAMP:20260419T143613
CREATED:20210201T161657Z
LAST-MODIFIED:20210214T174717Z
UID:10000493-1613300400-1613313000@www.wayshowerscollege.net
SUMMARY:Love: My True Reality Course
DESCRIPTION:  \nDiscover how your love energy works for you this February in expressing your authentic self.\n\nHow loyal are you to yourself balancing giving and receiving of love?\n\n Do you have a fear of love? Are you challenged in accepting more love into your life?\n\nApril Azzolino\, www.aprilazzolino.com\, will be facilitating this Wayshowers College Educational Course.\n\nRegister Today! https://www.eclecticreikiology.com/…/love-my-true-reality\n\nWhat you will be experiencing in this course:\n\n* Find out about the laws of love.\n*Experience your own love vibration energy.\n* Notice concepts that have integrated within yourself which are working against you now.\n* Understand the balance of giving & receiving inside yourself in order to know where you are now.\n*Get clarity on your personal decision of where you desire to be with your love vibration.\n*Learn to release old habits & be the magnetizing love frequency you already are.\n* Techniques to cleanse and amplify your love vibration\, release old habits\, and discern energy.\n\nExpand your love vibration and trust your sensitivity with others in this dynamic class!!\nRegister Today! https://www.eclecticreikiology.com/…/love-my-true-reality\nInvestment $55.00
URL:https://www.wayshowerscollege.net/event/love-my-true-reality-course/
LOCATION:Eclectic Reikiology & Metaphysical Center\, 2760 Lake Sahara Dr. #106\, Las Vegas\, NV\, 89117\, United States
CATEGORIES:New Spiritual Horizons
GEO:36.1401296;-115.2835033
X-APPLE-STRUCTURED-LOCATION;VALUE=URI;X-ADDRESS=Eclectic Reikiology & Metaphysical Center 2760 Lake Sahara Dr. #106 Las Vegas NV 89117 United States;X-APPLE-RADIUS=500;X-TITLE=2760 Lake Sahara Dr. #106:geo:-115.2835033,36.1401296
END:VEVENT
BEGIN:VEVENT
DTSTART;TZID=America/New_York:20210220T060000
DTEND;TZID=America/New_York:20210221T180000
DTSTAMP:20260419T143613
CREATED:20210105T000408Z
LAST-MODIFIED:20210108T165312Z
UID:10000489-1613800800-1613930400@www.wayshowerscollege.net
SUMMARY:Trance Healing Training In Australia
DESCRIPTION:764B Experiencing the Spiritual Mysticism of Trance Healing\n\nRealize the role that your four spiritual gifts play in the Trance Healing Experiences\nUnderstand the areas of GUILT and WORRY and how they can effect your life.\nLearn how to bring your own life into balance so that you will not attract outside confusion.\nStudy Freud’s theory of the mind as divided into the areas of the ID\, EGO and SUPEREGO.\nFind ways you can get rid of your daily life of DEPRESSION\, GUILT and WORRY so you can live a spiritually balanced life in a cleansed environment.\n\nWHEN: 19th – 21st February 2021\nTIME: (Check In after 4:00pm Friday 19th) Course 6:00am Sat to 6:00pm Sun\nVENUE: Staughton Vale Outdoor Education Center\n551 Staughton Vale. Rd\, STAUGHTON VALE. Vic. 3340\nFEE: $425 for First Time Participants\n$221 to Refresh \nCourse Prerequisites: 764-A Training Must have experienced the #1002B Profile at least 3 times: 1003A Profile is recommended \nFor Additional Details CLICK HERE \nFirst Time Registration Refreshing Registration
URL:https://www.wayshowerscollege.net/event/tht-training-aus/
LOCATION:Staughton Vale Outdoor Education Center\, 551 Staughton Vale. Rd\, STAUGHTON VALE. Vic.\, Victoria\, 3340\, Australia
CATEGORIES:International,Professional Training,Spiritual Development Course
ATTACH;FMTTYPE=image/jpeg:https://www.wayshowerscollege.net/wp-content/uploads/2019/10/600_443206565.jpeg
ORGANIZER;CN="John Shortell":MAILTO:john@freedombydesign.com.au
GEO:-37.8420895;144.2825158
X-APPLE-STRUCTURED-LOCATION;VALUE=URI;X-ADDRESS=Staughton Vale Outdoor Education Center 551 Staughton Vale. Rd STAUGHTON VALE. Vic. Victoria 3340 Australia;X-APPLE-RADIUS=500;X-TITLE=551 Staughton Vale. Rd:geo:144.2825158,-37.8420895
END:VEVENT
BEGIN:VEVENT
DTSTART;TZID=America/New_York:20210221T110000
DTEND;TZID=America/New_York:20210221T150000
DTSTAMP:20260419T143613
CREATED:20210209T025951Z
LAST-MODIFIED:20210209T030101Z
UID:10000496-1613905200-1613919600@www.wayshowerscollege.net
SUMMARY:Leadership Trance Tables C - PCC Circle of Love - IPM Leadership Steering
DESCRIPTION:Sunday\, February 21 Events in Australia\n \n  \n11:00 a.m. to 12:00 p.m. – Trance Healing Tables (C) for Leadership\n12:30 p.m. to 1:30 p.m. – Peace Community Church Circle of Love\n2:00 p.m. to 3:00 p.m. – IPM Steering Committee Meeting
URL:https://www.wayshowerscollege.net/event/leadership-trance-tables-c-pcc-circle-of-love-ipm-leadership-steering/
CATEGORIES:International,Wellness
END:VEVENT
BEGIN:VEVENT
DTSTART;TZID=America/New_York:20210228T080000
DTEND;TZID=America/New_York:20210228T190000
DTSTAMP:20260419T143613
CREATED:20210204T020441Z
LAST-MODIFIED:20210215T164630Z
UID:10000492-1614499200-1614538800@www.wayshowerscollege.net
SUMMARY:Sparkle With Enthusiasm - Regrouping Your Concepts\, A New Outlook at Life in AU
DESCRIPTION:Via Zoom – February 28th – 8 a.m. – 8 p.m. (approx) Sydney AU time.\nWayshowers College Course 100 is a regrouping and guide designed to expand and broaden your spiritual basis. You will see how to work with the energy and concepts maps of La Familia Nuestra program\, thereby gaining a greater understanding of energy patterns. \nExperiencing the energy patterns hitting planet earth each month you will navigate with special techniques.  You will have practical ways to utilize the monthly maps and understand how the use of the maps will give you foresight and an edge in order to bypass concepts that can work against you. \nUnderstanding the link from the past to the present helps clarify your situation now and influence a more successful future. Having the capability to know best timing of activities will enable you to accomplish the most in the least amount of time. \nYou will learn to use the energy patterns for greater success in: \n\nBusiness – Know best timing when planning your direction\nPersonal – Know the best time for regrouping and setting priorities\nSocial – Know when the energy is best for fellowshipping or sharing with others.\n\nYou will also become familiar with the characteristics of the “stickmen” who represent concepts. You will learn to discern the energy of these concepts in order to avoid the pitfalls they could create. \nVia Zoom – February 28th – 8 a.m. – 8 p.m. (approx) Sydney\, AU time. \nPrerequisites: None \nFee: $165 AU First Timer; $100 AU Refreshers \nAU REGISTRATION \nLFN Calendars                     LFN Calendars \n \n  \n  \n  \nInstructors: Ewart Gazzard\, Jan Burke\, Tomas Burke.
URL:https://www.wayshowerscollege.net/event/regrouping-your-concepts-a-new-outlook-at-life/
LOCATION:ZOOM Program
CATEGORIES:International,Online Programs,Workshops
END:VEVENT
END:VCALENDAR