BEGIN:VCALENDAR
VERSION:2.0
PRODID:-//Wayshowers College - ECPv6.15.16.1//NONSGML v1.0//EN
CALSCALE:GREGORIAN
METHOD:PUBLISH
X-WR-CALNAME:Wayshowers College
X-ORIGINAL-URL:https://www.wayshowerscollege.net
X-WR-CALDESC:Events for Wayshowers College
REFRESH-INTERVAL;VALUE=DURATION:PT1H
X-Robots-Tag:noindex
X-PUBLISHED-TTL:PT1H
BEGIN:VTIMEZONE
TZID:America/New_York
BEGIN:DAYLIGHT
TZOFFSETFROM:-0500
TZOFFSETTO:-0400
TZNAME:EDT
DTSTART:20220313T070000
END:DAYLIGHT
BEGIN:STANDARD
TZOFFSETFROM:-0400
TZOFFSETTO:-0500
TZNAME:EST
DTSTART:20221106T060000
END:STANDARD
BEGIN:DAYLIGHT
TZOFFSETFROM:-0500
TZOFFSETTO:-0400
TZNAME:EDT
DTSTART:20230312T070000
END:DAYLIGHT
BEGIN:STANDARD
TZOFFSETFROM:-0400
TZOFFSETTO:-0500
TZNAME:EST
DTSTART:20231105T060000
END:STANDARD
BEGIN:DAYLIGHT
TZOFFSETFROM:-0500
TZOFFSETTO:-0400
TZNAME:EDT
DTSTART:20240310T070000
END:DAYLIGHT
BEGIN:STANDARD
TZOFFSETFROM:-0400
TZOFFSETTO:-0500
TZNAME:EST
DTSTART:20241103T060000
END:STANDARD
END:VTIMEZONE
BEGIN:VTIMEZONE
TZID:America/New_York
BEGIN:DAYLIGHT
TZOFFSETFROM:-0500
TZOFFSETTO:-0400
TZNAME:EDT
DTSTART:20220313T070000
END:DAYLIGHT
BEGIN:STANDARD
TZOFFSETFROM:-0400
TZOFFSETTO:-0500
TZNAME:EST
DTSTART:20221106T060000
END:STANDARD
BEGIN:DAYLIGHT
TZOFFSETFROM:-0500
TZOFFSETTO:-0400
TZNAME:EDT
DTSTART:20230312T070000
END:DAYLIGHT
BEGIN:STANDARD
TZOFFSETFROM:-0400
TZOFFSETTO:-0500
TZNAME:EST
DTSTART:20231105T060000
END:STANDARD
BEGIN:DAYLIGHT
TZOFFSETFROM:-0500
TZOFFSETTO:-0400
TZNAME:EDT
DTSTART:20240310T070000
END:DAYLIGHT
BEGIN:STANDARD
TZOFFSETFROM:-0400
TZOFFSETTO:-0500
TZNAME:EST
DTSTART:20241103T060000
END:STANDARD
END:VTIMEZONE
BEGIN:VEVENT
DTSTART;TZID=America/New_York:20230804T190000
DTEND;TZID=America/New_York:20230805T220000
DTSTAMP:20260421T035112
CREATED:20230712T145137Z
LAST-MODIFIED:20230712T152431Z
UID:10000766-1691175600-1691272800@www.wayshowerscollege.net
SUMMARY:705-A: Your Intuitive Astro-Gift Experience: Punishment/Reward-Neglect/Attention
DESCRIPTION:705-A: Your Intuitive Astro-Gift Experience: Punishment/Reward-Neglect/Attention:\n1.      In this course you will refine your Astro-Gift of Intuition by understanding how it ties in with major areas of your personality.\n\n2.      You will reinforce your vibration of true concern by respecting your Intuitive part and realize how it can be a strong pivot point for better inner communication.\n\n3.      You will bring out your joy of involvement by strengthening your Intuitive part.\n\n4.      You will discover ways to know where lies the pivot point for self-respect.\n\n5.      You will find ways to pinpoint when you are in your Intellect\, your Emotions\, or your true feelings.\n\n6.      You will discover ways to release outdated modes of thinking and unrealistic ways of feeling brought from early years of training and be able to live like the individual you came to be.\n\n7.      You will realize from your early programming how your parents influenced your attitudes and habits.\n\n8.      You will experience how you can learn to live in the present moment.\n  \n705-A USA timing:\nFriday 4 Aug 7-10pm Eastern time\nSaturday 5 Aug 7-10pm Eastern \nAustralian timing:\nSaturday 5 Aug 9 – 12noon Sydney time\nSunday 6 Aug 9 – 12 noon Sydney time \n\nThis class is Virtual.
URL:https://www.wayshowerscollege.net/event/705-a-your-intuitive-astro-gift-experience-punishment-reward-neglect-attention-2/
CATEGORIES:Field
ORGANIZER;CN="Jan Burke":MAILTO:janburke@hotmail.co.nz
END:VEVENT
BEGIN:VEVENT
DTSTART;TZID=America/New_York:20230807T190000
DTEND;TZID=America/New_York:20230808T220000
DTSTAMP:20260421T035112
CREATED:20230713T021152Z
LAST-MODIFIED:20230714T131604Z
UID:10000768-1691434800-1691532000@www.wayshowerscollege.net
SUMMARY:541: Inner Communication and Guidance
DESCRIPTION:Inner Communication and Guidance\n1.      In this course you will discover where you fit with the universe and Planet Earth as you unfold your relationship with your environment and loved ones.\n\n2.      Through your Feeling nature\, gain a deeper understanding of yourself and the life you chose on Planet Earth as a time to learn\, grow and share your love.\n\n3.      Find new keys to reaching that inner balance and thereby becoming master of your situation.\n\n4.      You will understand why you need to be your own first loyalty.5. You will gain a deeper awareness of the relationship you have with your spiritual helpers and learn how to be in constant clear communication with them and use their Guidance they provide to be the success you have inside.\n  \nAugust 7 & 8 – 7-10pm each evening. Fee: $80 first time and refreshers \n\nThis class is Virtual.
URL:https://www.wayshowerscollege.net/event/541-inner-communication-and-guidance-2/
CATEGORIES:Field
ATTACH;FMTTYPE=image/jpeg:https://www.wayshowerscollege.net/wp-content/uploads/2023/04/5thdimension-e1680985916616-J7vvOQ.tmp_.jpg
ORGANIZER;CN="Dawn Overstreet":MAILTO:enthusiasticdawn@gmail.com
END:VEVENT
BEGIN:VEVENT
DTSTART;TZID=America/New_York:20230809T183000
DTEND;TZID=America/New_York:20230817T110000
DTSTAMP:20260421T035112
CREATED:20230718T015213Z
LAST-MODIFIED:20230718T015346Z
UID:10000772-1691605800-1692270000@www.wayshowerscollege.net
SUMMARY:607: Teachings of Apostle Paul
DESCRIPTION:607: Teachings of Apostle Paul:\n  \n1.      In this course you will strengthen your basic spiritual principles by seeing how they relate to Scripture.\n\n2.      You will discover the wisdom you have within and feel the love you have to share.\n\n3.      You will find the key to personal fulfillment through inner sincerity.\n\n4.      You will learn about trust and doubt and how they affect your spiritual life.\n\n5.      You will learn to use directed energy to accomplish your life’s goals.\n  \n\nThis class is Virtual.
URL:https://www.wayshowerscollege.net/event/607-teachings-of-apostle-paul/
CATEGORIES:Field
ORGANIZER;CN="Mara Spencer":MAILTO:inspiringbelief@cox.net
END:VEVENT
BEGIN:VEVENT
DTSTART;TZID=America/New_York:20230825T180000
DTEND;TZID=America/New_York:20230825T193000
DTSTAMP:20260421T035112
CREATED:20230818T191042Z
LAST-MODIFIED:20230818T193946Z
UID:10000773-1692986400-1692991800@www.wayshowerscollege.net
SUMMARY:Monthly Regrouping
DESCRIPTION:Join your colleagues for an uplifting monthly regrouping to set your energy for the New Spiritual Year.\n\n  \n\nThis class is Virtual.
URL:https://www.wayshowerscollege.net/event/000-monthly-regrouping-11/
CATEGORIES:Field
ATTACH;FMTTYPE=image/png:https://www.wayshowerscollege.net/wp-content/uploads/2023/08/August-Monthly-Regrouping.png
ORGANIZER;CN="Francisco Coll":MAILTO:facts@www.wayshowerscollege.net
END:VEVENT
BEGIN:VEVENT
DTSTART;TZID=America/New_York:20230825T200000
DTEND;TZID=America/New_York:20230826T230000
DTSTAMP:20260421T035112
CREATED:20230712T145214Z
LAST-MODIFIED:20230809T154407Z
UID:10000767-1692993600-1693090800@www.wayshowerscollege.net
SUMMARY:705-D: Your Feeling Astro-Gift Experience: Health Worries/Relaxation-Indulgent/Common Sense
DESCRIPTION:705-D: Your Feeling Astro-Gift Experience: Health Worries/Relaxation-Indulgent/Common Sense:\n1.      In this course you will discover how your feeling gift was programmed during your early childhood.\n\n2.      You will take a look at your good and bad habits and how they affect you and keep you from being as successful as you could be.\n\n3.      You will investigate possible solutions to behavior patterns that you are ready to release.\n\n4.      You will learn about your Emotions\, Feelings and Intellect\, and how they interact.\n\n5.      You will realize the importance of having yourself as your first loyalty.\n  \n705-D  USA timing:\nFriday 25 Aug 8-11pm Eastern time\nSaturday 26 Aug 8-11pm Eastern \nAustralian timing:\nSaturday 26 Aug 9 – 1pm Sydney time\nSunday 27 Aug 9 – 1pm Sydney time \n\nThis class is Virtual.
URL:https://www.wayshowerscollege.net/event/705-d-your-feeling-astro-gift-experience-health-worries-relaxation-indulgent-common-sense-2/
CATEGORIES:Field
ORGANIZER;CN="Jan Burke":MAILTO:janburke@hotmail.co.nz
END:VEVENT
BEGIN:VEVENT
DTSTART;TZID=America/New_York:20230830T200000
DTEND;TZID=America/New_York:20230831T233000
DTSTAMP:20260421T035112
CREATED:20230824T005043Z
LAST-MODIFIED:20230824T023440Z
UID:10000777-1693425600-1693524600@www.wayshowerscollege.net
SUMMARY:5001IL: Spiritual Freedom Orientation Lecture
DESCRIPTION:5001: Spiritual Freedom Orientation Lecture: Re-discover Who You Are and Why You are Here.\nThis class provides the “No holes in my spiritual understanding” essentials for your journey this lifetime. \n\nClearly understand who you are\n\nand why you are here. \n\nLive\, Online program with Spiritual Educators to present the Spiritual “Facts of Life” . To register: CLICK HERE . \n\nInvestment: $25.00\n\n\n\n\n\n\nDate\nStart Time\nEnd Time\nTime Zone\n\n\n30-Aug-2023\n08:00 PM\n09:30 PM\nEastern Standard Time (GMT-5:00)\n\n\n31-Aug-2023\n02:00 PM\n03:30 PM\nEastern Standard Time (GMT-5:00)\n\n\n31-Aug-2023\n10:00 PM\n11:30 PM\nEastern Standard Time (GMT-5:00)\n\n\n\n\n\n  \n\n  \n\nThis class is Virtual.
URL:https://www.wayshowerscollege.net/event/5001il-spiritual-freedom-orientation-lecture/
CATEGORIES:Field
ATTACH;FMTTYPE=image/jpeg:https://www.wayshowerscollege.net/wp-content/uploads/2023/07/new-chart-1.jpeg
ORGANIZER;CN="IPM International":MAILTO:ipmiworld.org@yahoo.com
END:VEVENT
END:VCALENDAR