BEGIN:VCALENDAR
VERSION:2.0
PRODID:-//Wayshowers College - ECPv6.15.16.1//NONSGML v1.0//EN
CALSCALE:GREGORIAN
METHOD:PUBLISH
X-ORIGINAL-URL:https://www.wayshowerscollege.net
X-WR-CALDESC:Events for Wayshowers College
REFRESH-INTERVAL;VALUE=DURATION:PT1H
X-Robots-Tag:noindex
X-PUBLISHED-TTL:PT1H
BEGIN:VTIMEZONE
TZID:America/New_York
BEGIN:DAYLIGHT
TZOFFSETFROM:-0500
TZOFFSETTO:-0400
TZNAME:EDT
DTSTART:20220313T070000
END:DAYLIGHT
BEGIN:STANDARD
TZOFFSETFROM:-0400
TZOFFSETTO:-0500
TZNAME:EST
DTSTART:20221106T060000
END:STANDARD
BEGIN:DAYLIGHT
TZOFFSETFROM:-0500
TZOFFSETTO:-0400
TZNAME:EDT
DTSTART:20230312T070000
END:DAYLIGHT
BEGIN:STANDARD
TZOFFSETFROM:-0400
TZOFFSETTO:-0500
TZNAME:EST
DTSTART:20231105T060000
END:STANDARD
BEGIN:DAYLIGHT
TZOFFSETFROM:-0500
TZOFFSETTO:-0400
TZNAME:EDT
DTSTART:20240310T070000
END:DAYLIGHT
BEGIN:STANDARD
TZOFFSETFROM:-0400
TZOFFSETTO:-0500
TZNAME:EST
DTSTART:20241103T060000
END:STANDARD
BEGIN:DAYLIGHT
TZOFFSETFROM:-0500
TZOFFSETTO:-0400
TZNAME:EDT
DTSTART:20250309T070000
END:DAYLIGHT
BEGIN:STANDARD
TZOFFSETFROM:-0400
TZOFFSETTO:-0500
TZNAME:EST
DTSTART:20251102T060000
END:STANDARD
END:VTIMEZONE
BEGIN:VTIMEZONE
TZID:Asia/Shanghai
BEGIN:STANDARD
TZOFFSETFROM:+0800
TZOFFSETTO:+0800
TZNAME:CST
DTSTART:20220101T000000
END:STANDARD
END:VTIMEZONE
BEGIN:VEVENT
DTSTART;TZID=America/New_York:20231202T180000
DTEND;TZID=America/New_York:20231202T210000
DTSTAMP:20260424T163613
CREATED:20231125T162937Z
LAST-MODIFIED:20231125T162937Z
UID:10000812-1701540000-1701550800@www.wayshowerscollege.net
SUMMARY:021NSH: Evolution Calendars Workshop
DESCRIPTION:021NSH: Evolution Calendars Workshop:\n1. This Workshop will inspire you to work with the New Spiritual Horizons Evolution Calendars as a way to go deeper each day in your life to experience more of the richness that Spirit has to offer.\n2. The NSH Evolution Calendars are designed as working calendars\, interweaving personal spiritual growth with your daily life opportunities.\n3. They will assist you in better integrating your material world activities and your roles in your spiritual opportunities.\n4. It will make “your spiritual” a practical success when you realize that consistency and follow-through build energy. \n\n\nThis class is Virtual.
URL:https://www.wayshowerscollege.net/event/021nsh-evolution-calendars-workshop-11/
CATEGORIES:Field
ORGANIZER;CN="Kristina Coll":MAILTO:kristina@kristinacoll.com
END:VEVENT
BEGIN:VEVENT
DTSTART;TZID=Asia/Shanghai:20231204T090000
DTEND;TZID=Asia/Shanghai:20231204T150000
DTSTAMP:20260424T163613
CREATED:20231001T190750Z
LAST-MODIFIED:20231201T173609Z
UID:10000793-1701680400-1701702000@www.wayshowerscollege.net
SUMMARY:8750: Love: The Dimension of Universal Success
DESCRIPTION:8750: Love: The Dimension of Universal Success:\n1.      In this course you will learn how your Intellect and your Emotions prevent you from being your true feelings and from communicating your love energy.\n\n2.      You will increase your self-respect and your feelings of self-worth by learning to trust your true feelings more.\n\n3.      You will see how sharing about the things you have experience in helps you stay regrouped and less vulnerable to negative influences.\n\n4.      You will learn more about patience and listening. Too often people are so much in their Intellect that they are ready to answer another person before they have even finished what they are saying.\n\n5.      You will start re-establishing and maintaining your inner spiritual balance by releasing some of the programmed concepts that hold you back.\n\n6.      You will discover how simple it is to be the confident and positive example you can be.\n  \nLas Vegas time 9:00am-3:00pm \nEastern time 12N-6pm \n\nThis class is In Person and Virtual.
URL:https://www.wayshowerscollege.net/event/8750-love-the-dimension-of-universal-success/
LOCATION:Las Vegas Community Conference Cetner\, 5500 S. Eastern\, Las Vegas\, NV\, 89119\, United States
CATEGORIES:Field
ORGANIZER;CN="PCCI International":MAILTO:pcciworld0@gmail.com
END:VEVENT
BEGIN:VEVENT
DTSTART;TZID=America/New_York:20231205T190000
DTEND;TZID=America/New_York:20240123T203000
DTSTAMP:20260424T163613
CREATED:20231110T172017Z
LAST-MODIFIED:20231110T172017Z
UID:10000806-1701802800-1706041800@www.wayshowerscollege.net
SUMMARY:759-A: In-Depth Healing of the Chakra Centres
DESCRIPTION:759-A: In-Depth Healing of the Chakra Centres:\n \n1.      With this course\, you will learn about yourself\, more than ever before throughout the whole week. \n\n2.      You will be involved in relaxing Techniques\, and consistently tune into respecting yourself and your environment. \n\n3.      As you become more relaxed\, the more energy your chakras will receive\, which they can release to the rest of your physical body. \n\n4.      As you understand yourself better each day of the week\, you will be able to use your system for the purposes you have chosen\, and can achieve the goals you have set for yourself.\n \n\nThis class is Virtual.
URL:https://www.wayshowerscollege.net/event/759-a-in-depth-healing-of-the-chakra-centres-3/
CATEGORIES:Field
ORGANIZER;CN="Melissa Kitto":MAILTO:melissa@communicatewithangels.com
END:VEVENT
BEGIN:VEVENT
DTSTART;TZID=America/New_York:20231208T190000
DTEND;TZID=America/New_York:20231215T220000
DTSTAMP:20260424T163613
CREATED:20231114T063037Z
LAST-MODIFIED:20231114T163331Z
UID:10000807-1702062000-1702677600@www.wayshowerscollege.net
SUMMARY:705-B: Your Visionary Astro-Gift Experience: Perfectionism/Realism-Rejection/Acceptance
DESCRIPTION:  \n705-B: Your Visionary Astro-Gift Experience: Perfectionism/Realism-Rejection/Acceptance:\n  \n1. In this course you will refine your Astro-Gift of Vision by seeing how it ties in with major areas of your personality.\n2. You will realize how the natural ability to organize of your Visionary gift can help you be more abundant in your life.\n3. You will see how planification and delegation can help you in your organization.\n4. You will find ways to pinpoint when you are in your Intellect\, your Emotions or your true feelings.\n5. You will see how your early programming from your parents influenced your habits and attitudes.\n6. You will experience how you can be in a high level of energy at all times.\n  \n\nThis class is Virtual.
URL:https://www.wayshowerscollege.net/event/705-b-your-visionary-astro-gift-experience-perfectionism-realism-rejection-acceptance-3/
CATEGORIES:Field
ORGANIZER;CN="Johanna White":MAILTO:johannawhite52@gmail.com
END:VEVENT
BEGIN:VEVENT
DTSTART;TZID=America/New_York:20231209T090000
DTEND;TZID=America/New_York:20231210T160000
DTSTAMP:20260424T163613
CREATED:20231118T142139Z
LAST-MODIFIED:20231118T163713Z
UID:10000814-1702112400-1702224000@www.wayshowerscollege.net
SUMMARY:00002 : Abundance Course and Workshop NJ with Tiger Coll
DESCRIPTION: Abundance Course and Workshop NJ Presented by Tiger Coll\n \nThis program is the combination of four (4) Wayshowers College abundance programs into one workshop.We will be having fun\, reviewing\, and working with the following: \n\n\nEnthusiasm for life; really being alive!\nEnjoying all things in your purpose\, and simplifying your life into a beingness.\nReleasing limitations.\nManifesting your abundant state of consciousness.\nUnfolding the mechanics of your abundance: goals – creativity – organization – communication – involvement – growth – etc.\nCommunicating the love that leads to success.\nRegrouping your energy\, the business-of-you and how you can have even more “up days.”\nAnd more …\n\n\nWe are in\, and further entering\, a tumultuous time of opportunity. It is a time where people will search more deeply for themselves and what you have pulled together; they are searching for your service & thrust.\n\n\nTiming:9th and 10th of December.\nTiming 9-5pm on the 9th and 9-4pm on the 10th\n\n\nPrerequisites:  To experience the 1001 and 1002A are requirements for Tiger’s NJ program. The 1003A is recommended. \nFees: Early Bird Registration: $250 (One week in advance of the course) $300 at the door. \n\n\nThis class is In Person.
URL:https://www.wayshowerscollege.net/event/00002-abundance-course-and-workshop-nj/
LOCATION:Homewood Suites by Hilton\, 375 Corporate Dr\, Mahwah\, New Jersey\, 07430\, United States
CATEGORIES:Field,Workshops
ATTACH;FMTTYPE=image/jpeg:https://www.wayshowerscollege.net/wp-content/uploads/2023/11/NJ-Tour-scaled.jpg
ORGANIZER;CN="Francisco Coll":MAILTO:facts@www.wayshowerscollege.net
END:VEVENT
BEGIN:VEVENT
DTSTART;TZID=America/New_York:20231228T170000
DTEND;TZID=America/New_York:20231228T200000
DTSTAMP:20260424T163613
CREATED:20231125T162623Z
LAST-MODIFIED:20231125T162623Z
UID:10000811-1703782800-1703793600@www.wayshowerscollege.net
SUMMARY:021NSH: Evolution Calendars Workshop
DESCRIPTION:021NSH: Evolution Calendars Workshop:\n1. This Workshop will inspire you to work with the New Spiritual Horizons Evolution Calendars as a way to go deeper each day in your life to experience more of the richness that Spirit has to offer.\n2. The NSH Evolution Calendars are designed as working calendars\, interweaving personal spiritual growth with your daily life opportunities.\n3. They will assist you in better integrating your material world activities and your roles in your spiritual opportunities.\n4. It will make “your spiritual” a practical success when you realize that consistency and follow-through build energy. \n\n\nThis class is Virtual.
URL:https://www.wayshowerscollege.net/event/021nsh-evolution-calendars-workshop-10/
CATEGORIES:Field
ORGANIZER;CN="Kristina Coll":MAILTO:kristina@kristinacoll.com
END:VEVENT
BEGIN:VEVENT
DTSTART;TZID=America/New_York:20231229T180000
DTEND;TZID=America/New_York:20231229T200000
DTSTAMP:20260424T163613
CREATED:20231215T232810Z
LAST-MODIFIED:20231215T233215Z
UID:10000818-1703872800-1703880000@www.wayshowerscollege.net
SUMMARY:Monthly Regrouping
DESCRIPTION:  \n\n\nJoin Your Fellow Colleagues to Welcome in the Energy of Free Flowing \nwith the Theme of the Month for January 2024 –  DESTINY \n  \n\n  \n\nThis class is Virtual.
URL:https://www.wayshowerscollege.net/event/000-monthly-regrouping-15-2/
CATEGORIES:Field
ORGANIZER;CN="Francisco Coll":MAILTO:facts@www.wayshowerscollege.net
END:VEVENT
BEGIN:VEVENT
DTSTART;TZID=America/New_York:20231230T140000
DTEND;TZID=America/New_York:20240101T180000
DTSTAMP:20260424T163613
CREATED:20231216T225933Z
LAST-MODIFIED:20231229T181937Z
UID:10000797-1703944800-1704132000@www.wayshowerscollege.net
SUMMARY:Magnetizing My Future with Positive Energy
DESCRIPTION:Magnetizing My Future with Positive Energy:\n  \n1.      In this course you will regroup your past six months to see what you have been doing for yourself spiritually.\n\n2.      You will find out how you may be wasting some of your energy by being under the pressure of man-made time or by yearning.\n\n3.      You will discover new ways to utilize your time and energy and live your life to the fullest.\n\n4.      You will get a big picture of your life and what you will be doing spiritually for the next six months by experiencing “Magnetizing My Future.”\n\n\n\n\n\n\n\n\n\n\n30-Dec-2023\n02:00 PM\n06:00 PM\nEastern Standard Time (GMT-5:00)\n\n\n31-Dec-2023\n02:00 PM\n06:00 PM\nEastern Standard Time (GMT-5:00)\n\n\n01-Jan-2024\n02:00 PM\n06:00 PM\nEastern Standard Time (GMT-5:00)\n\n\n\n\n  \nFee: $120; Refresh: $120; Audit: $25 \n\n  \nThis class is Virtual. 
URL:https://www.wayshowerscollege.net/event/783-magnetizing-my-future-with-positive-energy-2-2-2/
CATEGORIES:Field
ATTACH;FMTTYPE=image/png:https://www.wayshowerscollege.net/wp-content/uploads/2023/10/Magnetize.png
ORGANIZER;CN="Ruth McKee":MAILTO:ruthmckee146@gmail.com
END:VEVENT
END:VCALENDAR