BEGIN:VCALENDAR
VERSION:2.0
PRODID:-//Wayshowers College - ECPv6.15.16.1//NONSGML v1.0//EN
CALSCALE:GREGORIAN
METHOD:PUBLISH
X-WR-CALNAME:Wayshowers College
X-ORIGINAL-URL:https://www.wayshowerscollege.net
X-WR-CALDESC:Events for Wayshowers College
REFRESH-INTERVAL;VALUE=DURATION:PT1H
X-Robots-Tag:noindex
X-PUBLISHED-TTL:PT1H
BEGIN:VTIMEZONE
TZID:America/New_York
BEGIN:DAYLIGHT
TZOFFSETFROM:-0500
TZOFFSETTO:-0400
TZNAME:EDT
DTSTART:20240310T070000
END:DAYLIGHT
BEGIN:STANDARD
TZOFFSETFROM:-0400
TZOFFSETTO:-0500
TZNAME:EST
DTSTART:20241103T060000
END:STANDARD
BEGIN:DAYLIGHT
TZOFFSETFROM:-0500
TZOFFSETTO:-0400
TZNAME:EDT
DTSTART:20250309T070000
END:DAYLIGHT
BEGIN:STANDARD
TZOFFSETFROM:-0400
TZOFFSETTO:-0500
TZNAME:EST
DTSTART:20251102T060000
END:STANDARD
BEGIN:DAYLIGHT
TZOFFSETFROM:-0500
TZOFFSETTO:-0400
TZNAME:EDT
DTSTART:20260308T070000
END:DAYLIGHT
BEGIN:STANDARD
TZOFFSETFROM:-0400
TZOFFSETTO:-0500
TZNAME:EST
DTSTART:20261101T060000
END:STANDARD
END:VTIMEZONE
BEGIN:VEVENT
DTSTART;TZID=America/New_York:20250213T203000
DTEND;TZID=America/New_York:20250227T223000
DTSTAMP:20260419T135506
CREATED:20250127T165411Z
LAST-MODIFIED:20250127T165411Z
UID:10000968-1739478600-1740695400@www.wayshowerscollege.net
SUMMARY:701-A: The Dynamics of Astro Soul
DESCRIPTION:701-A: The Dynamics of Astro Soul:\n \n1.      This course sets the footings for a strong foundation of involvement in the entire Astro Soul Program.\n\n2.      You will work closely with your team of master souls to find experiences in your memory bank that will give you understanding for the feelings you have today.\n\n3.      You will learn about the zones of consciousness and how they affect you.\n\n4.      You will discover your life purpose and the depth of your commitment to that purpose.\n \n\nThis class is Virtual.
URL:https://www.wayshowerscollege.net/event/701-a-the-dynamics-of-astro-soul-3/
CATEGORIES:Field
ORGANIZER;CN="Melissa Kitto":MAILTO:melissa@communicatewithangels.com
END:VEVENT
BEGIN:VEVENT
DTSTART;TZID=America/New_York:20250220T140000
DTEND;TZID=America/New_York:20250220T153000
DTSTAMP:20260419T135506
CREATED:20250203T001456Z
LAST-MODIFIED:20250205T164415Z
UID:10000969-1740060000-1740065400@www.wayshowerscollege.net
SUMMARY:600 IL: Gateway to Your Spiritual Reality (PCC Orientation)
DESCRIPTION:This Gateway to Your Spiritual Reality Orientation to the Peace Community Church program tunes you into the peaceful\, loving and flowing vibration of Peace Community Church. You will explore in depth each of your “four churches” and see how they relate to the feelings in your first four cycles. It stimulates an understanding within you of the spiritual nature of mankind.\n  \n\nREGISTER HERE\nThis class is Virtual.
URL:https://www.wayshowerscollege.net/event/600-il-gateway-to-your-spiritual-reality-pcc-orientation/2025-02-20/1/
CATEGORIES:Field
ATTACH;FMTTYPE=image/png:https://www.wayshowerscollege.net/wp-content/uploads/2025/02/1738541360937_pcc-intro-chart2.png
ORGANIZER;CN="PCCI International":MAILTO:pcciworld0@gmail.com
END:VEVENT
BEGIN:VEVENT
DTSTART;TZID=America/New_York:20250220T190000
DTEND;TZID=America/New_York:20250220T203000
DTSTAMP:20260419T135506
CREATED:20250203T001456Z
LAST-MODIFIED:20250205T164415Z
UID:10000971-1740078000-1740083400@www.wayshowerscollege.net
SUMMARY:600 IL: Gateway to Your Spiritual Reality (PCC Orientation)
DESCRIPTION:This Gateway to Your Spiritual Reality Orientation to the Peace Community Church program tunes you into the peaceful\, loving and flowing vibration of Peace Community Church. You will explore in depth each of your “four churches” and see how they relate to the feelings in your first four cycles. It stimulates an understanding within you of the spiritual nature of mankind.\n  \n\nREGISTER HERE\nThis class is Virtual.
URL:https://www.wayshowerscollege.net/event/600-il-gateway-to-your-spiritual-reality-pcc-orientation/2025-02-20/2/
CATEGORIES:Field
ATTACH;FMTTYPE=image/png:https://www.wayshowerscollege.net/wp-content/uploads/2025/02/1738541360937_pcc-intro-chart2.png
ORGANIZER;CN="PCCI International":MAILTO:pcciworld0@gmail.com
END:VEVENT
BEGIN:VEVENT
DTSTART;TZID=America/New_York:20250220T220000
DTEND;TZID=America/New_York:20250220T233000
DTSTAMP:20260419T135506
CREATED:20250203T001456Z
LAST-MODIFIED:20250205T164415Z
UID:10000972-1740088800-1740094200@www.wayshowerscollege.net
SUMMARY:600 IL: Gateway to Your Spiritual Reality (PCC Orientation)
DESCRIPTION:This Gateway to Your Spiritual Reality Orientation to the Peace Community Church program tunes you into the peaceful\, loving and flowing vibration of Peace Community Church. You will explore in depth each of your “four churches” and see how they relate to the feelings in your first four cycles. It stimulates an understanding within you of the spiritual nature of mankind.\n  \n\nREGISTER HERE\nThis class is Virtual.
URL:https://www.wayshowerscollege.net/event/600-il-gateway-to-your-spiritual-reality-pcc-orientation/2025-02-20/3/
CATEGORIES:Field
ATTACH;FMTTYPE=image/png:https://www.wayshowerscollege.net/wp-content/uploads/2025/02/1738541360937_pcc-intro-chart2.png
ORGANIZER;CN="PCCI International":MAILTO:pcciworld0@gmail.com
END:VEVENT
BEGIN:VEVENT
DTSTART;TZID=America/New_York:20250222T160000
DTEND;TZID=America/New_York:20250222T213000
DTSTAMP:20260419T135506
CREATED:20250208T021509Z
LAST-MODIFIED:20250208T021509Z
UID:10000973-1740240000-1740259800@www.wayshowerscollege.net
SUMMARY:4407: Universal Laws of Abundance
DESCRIPTION:THE LAWS OF\nABUNDANCE are in your own hands.  You\ncame into this world with everything you need to be abundant.  If you are not enjoying a successful life it\nis because you are getting in your own way.  The first 7 years can make or break you\, but you can learn to unravel\nconfusions on abundance. \n\nHappiness\, success and abundance are\nalready yours.   All you need to do is claim them for yourself.  Dr. Francisco Coll \n Through course techniques\,\nyou will identify the thoughts and habits which are limiting your abundance\,\nsuch as doubts\, “shoulds”\, competition\, dependence\,\nexpecting and responsibility. \n See how to tap\nyour own inner resources and utilize them to create an unlimited flow of\nenergy. \n Learn to be inner\nmotivated by understanding what you are learning spiritually in whatever you\ndo. \nCourse of the Month for Feb 2025: Regular Price $250 but if register by 2/18/25 (4 days ahead of course) $175\, 30% OFF. 5 hour course\, pre-req. to have experienced 1001 profile. 1/2 hour meal break will occur after the first 3 hours of the course. \n\n\nThis class is Virtual.
URL:https://www.wayshowerscollege.net/event/4407-universal-laws-of-abundance/
CATEGORIES:Field
ORGANIZER;CN="IPM International":MAILTO:ipmiworld.org@yahoo.com
END:VEVENT
BEGIN:VEVENT
DTSTART;TZID=America/New_York:20250223T140000
DTEND;TZID=America/New_York:20250223T173000
DTSTAMP:20260419T135506
CREATED:20250203T002148Z
LAST-MODIFIED:20250203T002148Z
UID:10000970-1740319200-1740331800@www.wayshowerscollege.net
SUMMARY:600-CLF: The Circle of Love Fellowship (Workshop)
DESCRIPTION:600-CLF: The Circle of Love Fellowship (Workshop):\n \n1.      In this Second Step Program you will experience in depth a program that helps you get in touch with your true nature.\n\n2.      You will learn a simple way to cleanse yourself spiritually. This cleansing will help you realize that you can keep your energy positive at all times and that you can tune into the highest energy in the universe.\n\n3.      You will experience without fear the reality of the spirit world through an especially designed method. \n\n4.      You will learn about your spiritual gifts and how you can unfold them without pressure.\n\n5.      You will feel free and comfortable sharing your true feelings in the gentle\, healing vibration of the Peace Community Church Program.\n \n\nThis class is Virtual.
URL:https://www.wayshowerscollege.net/event/600-clf-the-circle-of-love-fellowship-workshop-2/
CATEGORIES:Field
ORGANIZER;CN="PCCI International":MAILTO:pcciworld0@gmail.com
END:VEVENT
BEGIN:VEVENT
DTSTART;TZID=America/New_York:20250228T180000
DTEND;TZID=America/New_York:20250228T200000
DTSTAMP:20260419T135506
CREATED:20250213T190347Z
LAST-MODIFIED:20250213T193807Z
UID:10000975-1740765600-1740772800@www.wayshowerscollege.net
SUMMARY:February Monthly Regrouping
DESCRIPTION:Join your colleagues for the February Monthly Regrouping hosted by Tiger Coll\non Friday\, February 28th\, 2025 at 6 PM Eastern Time.\nRegroup the Month of February Breakthrough and experience the energy for March of Endeavor.\nGet a glimpse into the Course of the Month\nand\, project your goals and aspirations ahead for greater success.\n \n  \n  \n\n  \n\nThis class is Virtual.
URL:https://www.wayshowerscollege.net/event/000-monthly-regrouping-26/
CATEGORIES:Field
ATTACH;FMTTYPE=image/png:https://www.wayshowerscollege.net/wp-content/uploads/2021/08/logo_200px.png
ORGANIZER;CN="Francisco Coll":MAILTO:fdcoll@me.com
END:VEVENT
END:VCALENDAR