BEGIN:VCALENDAR
VERSION:2.0
PRODID:-//Wayshowers College - ECPv6.15.16.1//NONSGML v1.0//EN
CALSCALE:GREGORIAN
METHOD:PUBLISH
X-WR-CALNAME:Wayshowers College
X-ORIGINAL-URL:https://www.wayshowerscollege.net
X-WR-CALDESC:Events for Wayshowers College
REFRESH-INTERVAL;VALUE=DURATION:PT1H
X-Robots-Tag:noindex
X-PUBLISHED-TTL:PT1H
BEGIN:VTIMEZONE
TZID:America/New_York
BEGIN:DAYLIGHT
TZOFFSETFROM:-0500
TZOFFSETTO:-0400
TZNAME:EDT
DTSTART:20240310T070000
END:DAYLIGHT
BEGIN:STANDARD
TZOFFSETFROM:-0400
TZOFFSETTO:-0500
TZNAME:EST
DTSTART:20241103T060000
END:STANDARD
BEGIN:DAYLIGHT
TZOFFSETFROM:-0500
TZOFFSETTO:-0400
TZNAME:EDT
DTSTART:20250309T070000
END:DAYLIGHT
BEGIN:STANDARD
TZOFFSETFROM:-0400
TZOFFSETTO:-0500
TZNAME:EST
DTSTART:20251102T060000
END:STANDARD
BEGIN:DAYLIGHT
TZOFFSETFROM:-0500
TZOFFSETTO:-0400
TZNAME:EDT
DTSTART:20260308T070000
END:DAYLIGHT
BEGIN:STANDARD
TZOFFSETFROM:-0400
TZOFFSETTO:-0500
TZNAME:EST
DTSTART:20261101T060000
END:STANDARD
END:VTIMEZONE
BEGIN:VEVENT
DTSTART;TZID=America/New_York:20250821T203000
DTEND;TZID=America/New_York:20250918T223000
DTSTAMP:20260424T063146
CREATED:20250818T175953Z
LAST-MODIFIED:20250818T175953Z
UID:10001025-1755808200-1758234600@www.wayshowerscollege.net
SUMMARY:714: My Past\, My Present and My Destiny
DESCRIPTION:714: My Past\, My Present and My Destiny:\n \n1.      This course is an in-depth search into your first seven years to help you see the attitudes which have been passed on to you and the role they play in your life today. \n\n2.      You will see how feelings of loneliness and resentment can be stimulated within you. \n\n3.      You take a look at your self-image and understand tendencies you have developed over lifetimes. \n\n4.      You will determine the kind of person you want to be and outline realistic steps to achieve this goal.\n \n\nThis class is Virtual.
URL:https://www.wayshowerscollege.net/event/714-my-past-my-present-and-my-destiny-3/
CATEGORIES:Field
ORGANIZER;CN="Melissa Kitto":MAILTO:melissa@communicatewithangels.com
END:VEVENT
BEGIN:VEVENT
DTSTART;TZID=America/New_York:20250907T090000
DTEND;TZID=America/New_York:20250907T180000
DTSTAMP:20260424T063146
CREATED:20250830T200416Z
LAST-MODIFIED:20250904T155054Z
UID:10001028-1757235600-1757268000@www.wayshowerscollege.net
SUMMARY:7000: How to Administer the 'Thrust Profile'\,7000-A: How to Administer the 'Personal Thrust 2' Profile
DESCRIPTION:  \n7000: How to Administer the ‘Thrust Profile’:\n1      This course will provide you with the training for course 7000: The Thrust Profile.\n\n2.      In this Profile you will find out what your client’s unique Spiritual Thrust that will impel them forward on their spiritual journey and understand their purpose better.\n\n3.      Your client will gain a deeper insight into the energy of their Spiritual Thrust and understand what can neutralize its flow.\n\n4.      You will be able to share with them how their Spiritual Thrust is expressed through each of their four spiritual gifts of Prophecy\, Vision\, Intuition and Feeling.\n\n5.      They will learn how to put their Spiritual Thrust into action and what areas of implementing their Spiritual Thrust can be strengthened for more successful living.\n\nRecommended Profile Price:  $90.00\n  \n\n  \n7000-A: How to Administer the ‘Personal Thrust 2’ Profile:\n1.      This course will provide you with the training to offer the 7000A: Part 2 of the Personal Thrust Profile.\n\n2.      This Profile will help your client gain a deeper insight into the energy of their Spiritual Thrust\, better understand their purpose and learn how to strengthen putting it into action.\n\n3.      You will help them explore the flow of working with their gifts and their Spiritual Thrust.\n\n4.      You will regroup how to implement their Spiritual Thrust through “Feel-Think-Act” as well as look for one area they can enhance and discover any pitfalls in putting their thrust into action.\n\nRecommended Profile Price:  $90.00\n  \n\nThis class is Virtual.
URL:https://www.wayshowerscollege.net/event/7000-how-to-administer-the-thrust-profile7000-a-how-to-administer-the-personal-thrust-2-profile/
CATEGORIES:Training
ATTACH;FMTTYPE=image/jpeg:https://www.wayshowerscollege.net/wp-content/uploads/2025/08/personal-thrust-level1.jpg
ORGANIZER;CN="Mara Spencer":MAILTO:inspiringbelief@cox.net
END:VEVENT
BEGIN:VEVENT
DTSTART;TZID=America/New_York:20250918T140000
DTEND;TZID=America/New_York:20250918T163000
DTSTAMP:20260424T063146
CREATED:20250909T213101Z
LAST-MODIFIED:20250909T213101Z
UID:10001029-1758204000-1758213000@www.wayshowerscollege.net
SUMMARY:SFS Orientation Lecture: Intuition\, Spirit Guides and Life Purpose
DESCRIPTION:Presented by IPM International\, Inc.\nDuring this Interactive Class You will experience:\n\nThe power of your spiritual energy/aura\nBegin to understand your life purpose and how you can unfold it\nLearn about your team of guides and how you can be aware of their messages and how to\nRecognize ANYTIME your Spiritual Helpers want to communicate with you\nDiscover how sensitive you are to your environment and why it is essential to raise your vibration to its highest positive point\nExplore the 7-year cycles and purpose of each cycle\nLearn the 4 ways you can use your intuitive (psychic) abilities and learn to develop all 4.\n\nInvestment: $15.00 Offered 3 different times on Sept. 18\, 2 PM\, 7 PM and 10 PM EDT\nWhen: Sept 18\, 2 PM\, 7 PM\, and 10 PM EDT\, New York\, USA\nWhere: virtual event on Zoom\, to register—newspiritualhorizons.com/sfs-step-1
URL:https://www.wayshowerscollege.net/event/sfs-orientation-lecture-intuition-spirit-guides-and-life-purpose/2025-09-18/
LOCATION:ONLINE – IPMI
CATEGORIES:New Spiritual Horizons
ATTACH;FMTTYPE=image/png:https://www.wayshowerscollege.net/wp-content/uploads/2025/09/Intuition-Spirit-Guides-and-Life-Purpose-wave.png
ORGANIZER;CN="Kathleen Ellis":MAILTO:kellis2worlds@yahoo.com
END:VEVENT
BEGIN:VEVENT
DTSTART;TZID=America/New_York:20250921T140000
DTEND;TZID=America/New_York:20250921T173000
DTSTAMP:20260424T063146
CREATED:20250909T214252Z
LAST-MODIFIED:20250909T214252Z
UID:10001032-1758463200-1758475800@www.wayshowerscollege.net
SUMMARY:Exploring Inner Dynamics Workshop and Man in the Universe Lecture
DESCRIPTION:Presented by IPM International\, Inc.\nExperience the Beauty and Power of Your Spiritual Nature\nWhen: Sunday\, September 21 from 2 PM to 5:30 PM\nWhere: virtual\nInvestment: $45\nTo register: newspiritualhorizons.com/sfs-step-2
URL:https://www.wayshowerscollege.net/event/exploring-inner-dynamics-workshop-and-man-in-the-universe-lecture/
LOCATION:ONLINE – IPMI
ATTACH;FMTTYPE=image/jpeg:https://www.wayshowerscollege.net/wp-content/uploads/2025/09/Apollo-Step-2-graphic.jpg
ORGANIZER;CN="Anne Earley":MAILTO:anearley@gmail.com
END:VEVENT
BEGIN:VEVENT
DTSTART;TZID=America/New_York:20250926T180000
DTEND;TZID=America/New_York:20250927T193000
DTSTAMP:20260424T063146
CREATED:20250916T205232Z
LAST-MODIFIED:20250926T133143Z
UID:10001033-1758909600-1759001400@www.wayshowerscollege.net
SUMMARY:September Monthly Regrouping
DESCRIPTION:September 26\, 2025 at 6 PM Eastern\nHost:  Sondra Kellogg\nJoin your colleagues to regroup the month of September and experience the energy of October.
URL:https://www.wayshowerscollege.net/event/september-monthly-regrouping/
LOCATION:ONLINE
ATTACH;FMTTYPE=image/jpeg:https://www.wayshowerscollege.net/wp-content/uploads/2025/02/banner-star-bkgnd.jpg
ORGANIZER;CN="Sondra Kellogg":MAILTO:sondrakellogg@me.com
END:VEVENT
END:VCALENDAR