BEGIN:VCALENDAR
VERSION:2.0
PRODID:-//Wayshowers College - ECPv6.15.16.1//NONSGML v1.0//EN
CALSCALE:GREGORIAN
METHOD:PUBLISH
X-ORIGINAL-URL:https://www.wayshowerscollege.net
X-WR-CALDESC:Events for Wayshowers College
REFRESH-INTERVAL;VALUE=DURATION:PT1H
X-Robots-Tag:noindex
X-PUBLISHED-TTL:PT1H
BEGIN:VTIMEZONE
TZID:America/Chicago
BEGIN:DAYLIGHT
TZOFFSETFROM:-0600
TZOFFSETTO:-0500
TZNAME:CDT
DTSTART:20170312T080000
END:DAYLIGHT
BEGIN:STANDARD
TZOFFSETFROM:-0500
TZOFFSETTO:-0600
TZNAME:CST
DTSTART:20171105T070000
END:STANDARD
BEGIN:DAYLIGHT
TZOFFSETFROM:-0600
TZOFFSETTO:-0500
TZNAME:CDT
DTSTART:20180311T080000
END:DAYLIGHT
BEGIN:STANDARD
TZOFFSETFROM:-0500
TZOFFSETTO:-0600
TZNAME:CST
DTSTART:20181104T070000
END:STANDARD
BEGIN:DAYLIGHT
TZOFFSETFROM:-0600
TZOFFSETTO:-0500
TZNAME:CDT
DTSTART:20190310T080000
END:DAYLIGHT
BEGIN:STANDARD
TZOFFSETFROM:-0500
TZOFFSETTO:-0600
TZNAME:CST
DTSTART:20191103T070000
END:STANDARD
END:VTIMEZONE
BEGIN:VEVENT
DTSTART;TZID=America/Chicago:20180120T130000
DTEND;TZID=America/Chicago:20180120T170000
DTSTAMP:20260419T165007
CREATED:20171216T050142Z
LAST-MODIFIED:20180731T212220Z
UID:10000080-1516453200-1516467600@www.wayshowerscollege.net
SUMMARY:Find Inner Peace Using ESP\, Angels\, and Life Purpose: New Methods for Timeless Topics
DESCRIPTION:Are you at a crossroads\, looking for new a direction?\nWould learning a practical\, effective approach to your Intuition\, Angels\, and Healing energy be of value?\nIsn’t it time you finally invested in yourself and start finding insights to life that really work? \nThis four hour program is an exploration into building a foundation for your spiritual evolution and enjoyment of life. It rotates around three fundamental topics that impact all areas of your life. \n\nIntuition and the role it plays in daily living. This one simple topic has a dramatic affect in relationships\, career choices\, and your personal law of attraction\nAngels and five important ways they assist us each day.\nHealing of a person’s past and ways to use spiritual healing with loved ones.\n\nLet’s celebrate our psychic sensitivity and healing essence. Start finding answers and solutions. Come and attend this fascinating workshop and expand your spiritual quest. Meet other like-minded people in the greater Des Moines area. \nDuring the afternoon you will experience techniques for sensing your aura and experiencing your Extra Sensory Perception. Rejuvenate your aura with Clear Channel Healing. Learn about upcoming classes where you can unfold more of your own innate sensitivity and learn about your own past lifetimes. \nPeople who attend this workshop are inspired by the insights learned and experience a rejuvenation within. \n \n  \n\nFind Inner Peace Using ESP\, Angels\, and Life Purpose: New Methods for Timeless Topics\nSat\, January 20th\, 1:00 am – 5:00 pm\nUnity Church of Des Moines\, 414 31st St\, Des Moines\, IA\nCost: $45.00 all day\nREGISTER NOW for Seminar \nWhat you will experience \n\nYou will learn no fewer than four techniques that can be used for healing yourself and loved ones\, receiving perceptive insights from your angels\, and maintaining an inner peace each day.\nBy the end of this session you will create a profound sense of inner peace as the REAL YOU blossoms\nStart experiencing glimpses of your unique life purpose\nShare and interact with other like-minded people. Find a belonging with your spiritual family – you are not alone\nThe first step in long term self-understanding\, spiritual discovery\, and technique practice\n\nREGISTER NOW for Seminar\n\nPresented by \nDiana & Roger Ringo \n \nLearn contemporary insights to these topics that will help you magnetize greater joy and meet other like minded people. You will better understand your true spiritual nature. \nIf you have any questions feel free to contact me: (877) 525-6335 \nRoger Ringo \nSpiritual Educator & Consultant \nLocation map below
URL:https://www.wayshowerscollege.net/event/find-inner-peace-using-esp-angels-and-life-purpose-new-methods-for-timeless-topics-7/
LOCATION:Unity Center of Des Moines\, 414 31st St\, Des Moines\, IA\, 50312\, United States
CATEGORIES:New Spiritual Horizons
ATTACH;FMTTYPE=image/jpeg:https://www.wayshowerscollege.net/wp-content/uploads/2017/12/wp-workshop-esp.jpg
ORGANIZER;CN="Roger Ringo":MAILTO:roger@modernspiritualliving.com
GEO:41.5830502;-93.659987
X-APPLE-STRUCTURED-LOCATION;VALUE=URI;X-ADDRESS=Unity Center of Des Moines 414 31st St Des Moines IA 50312 United States;X-APPLE-RADIUS=500;X-TITLE=414 31st St:geo:-93.659987,41.5830502
END:VEVENT
END:VCALENDAR