BEGIN:VCALENDAR
VERSION:2.0
PRODID:-//Wayshowers College - ECPv6.15.16.1//NONSGML v1.0//EN
CALSCALE:GREGORIAN
METHOD:PUBLISH
X-ORIGINAL-URL:https://www.wayshowerscollege.net
X-WR-CALDESC:Events for Wayshowers College
REFRESH-INTERVAL;VALUE=DURATION:PT1H
X-Robots-Tag:noindex
X-PUBLISHED-TTL:PT1H
BEGIN:VTIMEZONE
TZID:America/Los_Angeles
BEGIN:DAYLIGHT
TZOFFSETFROM:-0800
TZOFFSETTO:-0700
TZNAME:PDT
DTSTART:20170312T100000
END:DAYLIGHT
BEGIN:STANDARD
TZOFFSETFROM:-0700
TZOFFSETTO:-0800
TZNAME:PST
DTSTART:20171105T090000
END:STANDARD
BEGIN:DAYLIGHT
TZOFFSETFROM:-0800
TZOFFSETTO:-0700
TZNAME:PDT
DTSTART:20180311T100000
END:DAYLIGHT
BEGIN:STANDARD
TZOFFSETFROM:-0700
TZOFFSETTO:-0800
TZNAME:PST
DTSTART:20181104T090000
END:STANDARD
BEGIN:DAYLIGHT
TZOFFSETFROM:-0800
TZOFFSETTO:-0700
TZNAME:PDT
DTSTART:20190310T100000
END:DAYLIGHT
BEGIN:STANDARD
TZOFFSETFROM:-0700
TZOFFSETTO:-0800
TZNAME:PST
DTSTART:20191103T090000
END:STANDARD
END:VTIMEZONE
BEGIN:VTIMEZONE
TZID:America/New_York
BEGIN:DAYLIGHT
TZOFFSETFROM:-0500
TZOFFSETTO:-0400
TZNAME:EDT
DTSTART:20170312T070000
END:DAYLIGHT
BEGIN:STANDARD
TZOFFSETFROM:-0400
TZOFFSETTO:-0500
TZNAME:EST
DTSTART:20171105T060000
END:STANDARD
BEGIN:DAYLIGHT
TZOFFSETFROM:-0500
TZOFFSETTO:-0400
TZNAME:EDT
DTSTART:20180311T070000
END:DAYLIGHT
BEGIN:STANDARD
TZOFFSETFROM:-0400
TZOFFSETTO:-0500
TZNAME:EST
DTSTART:20181104T060000
END:STANDARD
BEGIN:DAYLIGHT
TZOFFSETFROM:-0500
TZOFFSETTO:-0400
TZNAME:EDT
DTSTART:20190310T070000
END:DAYLIGHT
BEGIN:STANDARD
TZOFFSETFROM:-0400
TZOFFSETTO:-0500
TZNAME:EST
DTSTART:20191103T060000
END:STANDARD
END:VTIMEZONE
BEGIN:VEVENT
DTSTART;TZID=America/Los_Angeles:20180220T190000
DTEND;TZID=America/Los_Angeles:20180220T210000
DTSTAMP:20260421T085722
CREATED:20180109T183018Z
LAST-MODIFIED:20180731T193124Z
UID:10000083-1519153200-1519160400@www.wayshowerscollege.net
SUMMARY:You\,Your Life\, & Your Angels
DESCRIPTION:  \n \nGreetings from April Azzolino \nLife on planet earth in this 21st century can often feel like riding a roller-coaster. We tune into many different energies daily\, but how much do we discern and understand what we sense? A person can easily be overcome with stress\, doubt\, guilt\,or uncertainty. \nLet’s celebrate our psychic sensitivity and healing essence. Start finding answers and solutions. Come and attend this fascinating program and expand your spiritual quest. Meet other like-minded people in the greater Las Vegas area. \nLearn about upcoming classes where you can unfold more of your own innate sensitivity and learn about your own past lifetimes. People who attend this program are inspired by the insights learned and experience a rejuvenation within. \n \n  \n \nThe Mystical World of You\, Your Life and Your Angels\nTues\, Feb.20\,2018\n Eclectic Reikiology and Metaphysical Center\n2760 Lake Sahara Dr. #106 · Las Vegas\nCost: $20.00 \nREGISTER NOW for Seminar \nIn this program you will delve into: \n\nThe true nature of Angels and their role in your life. The more you connect with your Angels\, the better your life will be!\nA deeper awareness of your life as a unique being that can tap into your higher resources whenever you need them.\nDiscover what your True Life Purpose means to you as you make decisions. This minimizes doubts about your life and what is best to do. You will be truly free!\nYour ESP Type (also known as Four Avenues Of Perception). Your ESP Type shapes your communication style and ways you interpret life. Prophecy\, Vision\, Intuition and Feeling are the four types.\nCommon myths and misunderstanding of your Sixth Sense will be explained. Your Sixth Sense (or commonly referred to as ESP) is a part of your ever day life..\n\nThe time is right to start \n\ntrusting your hunches more\nfinding a few moments each day for simple meditation.\nbecoming more alert to your Inner Guidance/Angels.\ndiscovering your True Life Purpose.\n\nREGISTER NOW for Seminar \nLearn contemporary insights to these topics that will help you magnetize greater joy and meet other like minded people. You will better understand your true spiritual nature. \nIf you have any questions feel free to contact me: (702) 501-4491 \nApril Azzolino \nSpiritual Educator & Consultant \nLocation map below
URL:https://www.wayshowerscollege.net/event/youyour-life-your-angels/
LOCATION:Eclectic Reikiology & Metaphysical Center\, 2760 Lake Sahara Dr. #106\, Las Vegas\, NV\, 89117\, United States
CATEGORIES:Lectures & Seminars,New Spiritual Horizons
ATTACH;FMTTYPE=image/jpeg:https://www.wayshowerscollege.net/wp-content/uploads/2018/01/yourlife-yourangels-1.jpg
GEO:36.1401296;-115.2835033
X-APPLE-STRUCTURED-LOCATION;VALUE=URI;X-ADDRESS=Eclectic Reikiology & Metaphysical Center 2760 Lake Sahara Dr. #106 Las Vegas NV 89117 United States;X-APPLE-RADIUS=500;X-TITLE=2760 Lake Sahara Dr. #106:geo:-115.2835033,36.1401296
END:VEVENT
BEGIN:VEVENT
DTSTART;TZID=America/New_York:20180228T193000
DTEND;TZID=America/New_York:20180228T210000
DTSTAMP:20260421T085722
CREATED:20180207T154816Z
LAST-MODIFIED:20180207T183037Z
UID:10000249-1519846200-1519851600@www.wayshowerscollege.net
SUMMARY:Awaken to Your Intuition & Your Angels - Christchurch\, NZ
DESCRIPTION:During the class you will:\n \n\nExperience the power of your spiritual energy/aura.\nBegin to understand your life purpose and how you can unfold it.\nLearn a technique that will help you immediately relax and be receptive to your Angels’ messages.\nLearn about your team of guides and how you can be aware of their messages. Discover how to recognize ANYTIME your angels want to communicate with you.\nDiscover how sensitive you are to your environment and why it is essential you keep your energy vibration at a high positive level.\nLearn the four ways you can use your psychic abilities and the keys to developing all of them.\nPractice using your psychic sensitivity and realize how psychic you already are!\n\nInvestment $20nz
URL:https://www.wayshowerscollege.net/event/mu-christchurch-nz/
LOCATION:W.E.A Rooms\, 59 Gloucester St\, Christchurch\, New Zealand
CATEGORIES:Lectures & Seminars,New Spiritual Horizons
ORGANIZER;CN="Melissa Kitto":MAILTO:melissa@communicatewithangels.com
GEO:-43.5295722;172.6316105
X-APPLE-STRUCTURED-LOCATION;VALUE=URI;X-ADDRESS=W.E.A Rooms 59 Gloucester St Christchurch New Zealand;X-APPLE-RADIUS=500;X-TITLE=59 Gloucester St:geo:172.6316105,-43.5295722
END:VEVENT
END:VCALENDAR