BEGIN:VCALENDAR
VERSION:2.0
PRODID:-//Wayshowers College - ECPv6.15.16.1//NONSGML v1.0//EN
CALSCALE:GREGORIAN
METHOD:PUBLISH
X-WR-CALNAME:Wayshowers College
X-ORIGINAL-URL:https://www.wayshowerscollege.net
X-WR-CALDESC:Events for Wayshowers College
REFRESH-INTERVAL;VALUE=DURATION:PT1H
X-Robots-Tag:noindex
X-PUBLISHED-TTL:PT1H
BEGIN:VTIMEZONE
TZID:America/New_York
BEGIN:DAYLIGHT
TZOFFSETFROM:-0500
TZOFFSETTO:-0400
TZNAME:EDT
DTSTART:20200308T070000
END:DAYLIGHT
BEGIN:STANDARD
TZOFFSETFROM:-0400
TZOFFSETTO:-0500
TZNAME:EST
DTSTART:20201101T060000
END:STANDARD
BEGIN:DAYLIGHT
TZOFFSETFROM:-0500
TZOFFSETTO:-0400
TZNAME:EDT
DTSTART:20210314T070000
END:DAYLIGHT
BEGIN:STANDARD
TZOFFSETFROM:-0400
TZOFFSETTO:-0500
TZNAME:EST
DTSTART:20211107T060000
END:STANDARD
BEGIN:DAYLIGHT
TZOFFSETFROM:-0500
TZOFFSETTO:-0400
TZNAME:EDT
DTSTART:20220313T070000
END:DAYLIGHT
BEGIN:STANDARD
TZOFFSETFROM:-0400
TZOFFSETTO:-0500
TZNAME:EST
DTSTART:20221106T060000
END:STANDARD
END:VTIMEZONE
BEGIN:VEVENT
DTSTART;TZID=America/New_York:20210508T140000
DTEND;TZID=America/New_York:20210508T170000
DTSTAMP:20260423T024648
CREATED:20210414T191103Z
LAST-MODIFIED:20210508T001351Z
UID:10000508-1620482400-1620493200@www.wayshowerscollege.net
SUMMARY:Dynamics of Inner Guidance and Your Spiritual Thrust – Astro Soul Course 784
DESCRIPTION:Ready for deeper clarity about your life purpose and relationship with your angels? Do you desire additional insights into attracting the people and opportunities you are here to experience?  \nIn this powerful course\, you’ll: \n\nExamine your unique “spiritual thrust” this lifetime. Your spiritual thrust is the essence\, unique to you\, that you are here on earth to express\, share and unfold. Your thrust is the spiritual contract you have with your angels to learn your lessons and evolve. It’s the natural way you attract the people and opportunities that are best for you.\n\n\nStreamline your life as you expand your spiritual thrust and live more dynamically each day.\n\n\nRefine a deeper communication with your inner guidance which will help you seek out pathways to your true life direction. \n\n\nRealize the profound energy that is part of your thrust. Use this universal force for greater spiritual and material success. \nAnticipate changes in your life by achieving a sense of purpose and honesty. You’ll tap a wellspring of energy and welcome change and growth.\nGain a practical understanding or your various talents\, work endeavors\, soul purpose/life thrust and being in your niche. Clarify your involvement in these areas for greater satisfaction and enjoyment.  \n\nThis in-depth course takes place over three\, 3-hour sessions on three consecutive weekends. You’ll have time to learn\, practice and return to the course to regroup and go further.  \nWhen: Sat.\, May 8\, 15\, 22\, 2021 at 11 am PST\, 2 pm EST \nDuration: Three hours each Saturday \nWhere: Online via zoom video conference \nIn addition to the three parts of the course\, we provide easy-to-practice ways to use what is covered between course sessions and after the program. Make the techniques and understandings a way of life and continue using what you learn for more momentum.  \nInvestment In Yourself: $120 USD\, $145 CAD  (Course Price) \npre-registration Price: $105 USD\, $120 CAD   \nWays To Pay For This Program: \nYou can make one payment or  3 payments over 3 weeks for this course. The first of three payments start the week before the first course and before each additional course.  \nClick To Register – $105 US \nClick To Register – $120 CAD \n  \nClick For Three Payments Registration – $37 US/week\, each week for 3 weeks ($111 US total). You are charged the week before each class and you can cancel any time for any additional payments and classes. \nClick For Three Payments Canadian Registration – $42 CAD/week each week for 3 weeks ($126 CAD total). You are charged the week before each class and you can cancel any time for any additional payments and classes. \nRegistration cut off time is 10 am EST\, Sat\, May 8\, 2021.  \nNote\, if not US or Canadian:  To register with other than US and Canada debit/credit cards: Use the “Click To Registration – $105 US”  link above.  Credit card companies figure and charge the amount of the program in the currency of the credit card holder. Credit card companies usually include a foreign transaction fee for changing the currency. Contact us or your credit card issuer for more details. There are no foreign transaction fees for US or Canadian charges.    \n_______________________ \nPrerequisites: 1002A Blockage Discovery Consultation. Special package price available to receive the needed private consultations from certified consultants\, such as Estelle Small\, Patrick Kilhenny\, or a wide variety of Wayshowers College consultants of your choosing. Contact us for more details.  \nCourse recorded if you miss a session or want to review the program. This is an in-depth course so it’s optimum to attend live\, but replays are available.  \n_______________________ \nInstructors: \nEstelle Small – Long-time spiritual journeyman\, consultant and touring leader in U.S.\, Canada\, and Europe. Estelle Small has helped  thousands of searchers transform their lives by connecting with their angels and living their unique purpose. She specializes in the “Inner Guidance and Life Thrust” consultation and other specialized spiritual consultations from Wayshowers College.\nEstelle is vice-president of Wayshowers Community Fellowship and a board member of Inner Peace Movement International. \n  \n  \nPatrick Kilhenny\, DD – a former nuclear engineer who has been active in the personal and spiritual development field for over 30 years and a leader with Wayshowers College and the related non-profit organizations.\nPatrick is President of Wayshowers Community Fellowship and is a spiritual consultant helping people clarify their life thrust and offers many profiles from Wayshowers College. He lectures and leads courses in the US\, Canada and Europe with Wayshowers College. He is also the founder of SpiritualGrowthKeys.com \n  \n  \nSponsors of this program: \n \n  \n_______________________ \n  \nNote on registration – after you register you will receive the Zoom Link to attend. When you decide and register\, your angels know you have committed to working more deeply with them to live your Thrust. The class begins at the time you sign up and your angels work closely with you to gain the most from the program.  \nFor additional information:  \nCall: 1 888 248-4843 US and Canada\, 917 328-8950\, +1 917 328-8950 (Worldwide) \nE-mail: Estelle Small: mestellesmall@gmail.com \nPatrick Kilhenny: gfiservices@earthlink.net \nWebsite: SpiritualGrowthKeys.com  \nFaceBook Page: GuardianAngelsConnection \nTwitter: @TranquilAngels   
URL:https://www.wayshowerscollege.net/event/the-dynamics-of-inner-guidance-and-your-spiritual-thrust-astro-soul-course-784/
LOCATION:Online using Zoom
CATEGORIES:Online Programs,Spiritual Development Course
END:VEVENT
END:VCALENDAR