BEGIN:VCALENDAR
VERSION:2.0
PRODID:-//Wayshowers College - ECPv6.15.16.1//NONSGML v1.0//EN
CALSCALE:GREGORIAN
METHOD:PUBLISH
X-ORIGINAL-URL:https://www.wayshowerscollege.net
X-WR-CALDESC:Events for Wayshowers College
REFRESH-INTERVAL;VALUE=DURATION:PT1H
X-Robots-Tag:noindex
X-PUBLISHED-TTL:PT1H
BEGIN:VTIMEZONE
TZID:America/New_York
BEGIN:DAYLIGHT
TZOFFSETFROM:-0500
TZOFFSETTO:-0400
TZNAME:EDT
DTSTART:20230312T070000
END:DAYLIGHT
BEGIN:STANDARD
TZOFFSETFROM:-0400
TZOFFSETTO:-0500
TZNAME:EST
DTSTART:20231105T060000
END:STANDARD
BEGIN:DAYLIGHT
TZOFFSETFROM:-0500
TZOFFSETTO:-0400
TZNAME:EDT
DTSTART:20240310T070000
END:DAYLIGHT
BEGIN:STANDARD
TZOFFSETFROM:-0400
TZOFFSETTO:-0500
TZNAME:EST
DTSTART:20241103T060000
END:STANDARD
BEGIN:DAYLIGHT
TZOFFSETFROM:-0500
TZOFFSETTO:-0400
TZNAME:EDT
DTSTART:20250309T070000
END:DAYLIGHT
BEGIN:STANDARD
TZOFFSETFROM:-0400
TZOFFSETTO:-0500
TZNAME:EST
DTSTART:20251102T060000
END:STANDARD
END:VTIMEZONE
BEGIN:VEVENT
DTSTART;TZID=America/New_York:20240909T100000
DTEND;TZID=America/New_York:20240909T180000
DTSTAMP:20260425T235310
CREATED:20240823T171934Z
LAST-MODIFIED:20240823T171934Z
UID:10000916-1725876000-1725904800@www.wayshowerscollege.net
SUMMARY:1004-R: How to Administer the Balance of Thought and Feeling Profile - Refresher
DESCRIPTION:1004-R: How to Administer the Balance of Thought and Feeling Profile – Refresher:\n \n1.      In this course you will have the opportunity to refresh the 1004 Profile: How to Administer the Balance of Thought and Feeling Profile. \n\n2.      You will receive more insights into how you can share with your client how they have refined and organized their Intellect (conscious mind) and how they have unfolded their Feelings (unconscious mind).\n\n3.      You will gain more insights into how being out-of-balance in their Intellect and Feeling and how it affects your client.\n \n\nThis class is Virtual.
URL:https://www.wayshowerscollege.net/event/1004-how-to-administer-the-balance-of-thought-and-feeling-profile1004-r-how-to-administer-the-balance-of-thought-and-feeling-profile-refresher/
CATEGORIES:Training
ATTACH;FMTTYPE=image/jpeg:https://www.wayshowerscollege.net/wp-content/uploads/2024/07/1004.jpg
ORGANIZER;CN="Mara Spencer":MAILTO:inspiringbelief@cox.net
END:VEVENT
END:VCALENDAR