BEGIN:VCALENDAR
VERSION:2.0
PRODID:-//Wayshowers College - ECPv6.15.16.1//NONSGML v1.0//EN
CALSCALE:GREGORIAN
METHOD:PUBLISH
X-ORIGINAL-URL:https://www.wayshowerscollege.net
X-WR-CALDESC:Events for Wayshowers College
REFRESH-INTERVAL;VALUE=DURATION:PT1H
X-Robots-Tag:noindex
X-PUBLISHED-TTL:PT1H
BEGIN:VTIMEZONE
TZID:America/New_York
BEGIN:DAYLIGHT
TZOFFSETFROM:-0500
TZOFFSETTO:-0400
TZNAME:EDT
DTSTART:20230312T070000
END:DAYLIGHT
BEGIN:STANDARD
TZOFFSETFROM:-0400
TZOFFSETTO:-0500
TZNAME:EST
DTSTART:20231105T060000
END:STANDARD
BEGIN:DAYLIGHT
TZOFFSETFROM:-0500
TZOFFSETTO:-0400
TZNAME:EDT
DTSTART:20240310T070000
END:DAYLIGHT
BEGIN:STANDARD
TZOFFSETFROM:-0400
TZOFFSETTO:-0500
TZNAME:EST
DTSTART:20241103T060000
END:STANDARD
BEGIN:DAYLIGHT
TZOFFSETFROM:-0500
TZOFFSETTO:-0400
TZNAME:EDT
DTSTART:20250309T070000
END:DAYLIGHT
BEGIN:STANDARD
TZOFFSETFROM:-0400
TZOFFSETTO:-0500
TZNAME:EST
DTSTART:20251102T060000
END:STANDARD
END:VTIMEZONE
BEGIN:VEVENT
DTSTART;TZID=America/New_York:20240624T090000
DTEND;TZID=America/New_York:20240624T170000
DTSTAMP:20260421T085633
CREATED:20240617T205332Z
LAST-MODIFIED:20240617T205332Z
UID:10000893-1719219600-1719248400@www.wayshowerscollege.net
SUMMARY:641: Unfolding Your Christ Consciousness Techniques
DESCRIPTION:641: Unfolding Your Christ Consciousness Techniques:\n \n1.      In this course you will feel secure about your communication in presenting the mechanics and purpose of the techniques in the first eight weeks of Facet 1 of the Peace Community Church Program “Circle of Love” groupwork.\n\n2.      You will strengthen your communication with yourself\, with others\, and with Spirit.\n\n3.      The Techniques presented include: \n      (1) After Image Perception\, \n      (2) Aura Vision\, \n      (3) Clear Channel Energy Elevator\, \n      (4) Facial Encounter\, \n      (5) Healing All Four Churches\, \n      (6) Intuitive Impressions\, \n      (7) Object Encounter\, \n      (8) Security Circle\, \n      (9) Shoulder Encounter\, \n      (10) Spiritual Cleansing\, and \n      (11) Spiritual Cleansing of the environment.\n \n\nThis class is In Person and Virtual.
URL:https://www.wayshowerscollege.net/event/641-unfolding-your-christ-consciousness-techniques/
LOCATION:Camp 2024\, 1447 HWY 69\, Osceola\, IA\, 50213
CATEGORIES:Camps
ATTACH;FMTTYPE=image/jpeg:https://www.wayshowerscollege.net/wp-content/uploads/2024/05/SummerCamp2024p.jpg
ORGANIZER;CN="Esther Karhu":MAILTO:estherkarhu@mac.com
END:VEVENT
BEGIN:VEVENT
DTSTART;TZID=America/New_York:20240622T090000
DTEND;TZID=America/New_York:20240622T153000
DTSTAMP:20260421T085633
CREATED:20240617T205022Z
LAST-MODIFIED:20240617T205022Z
UID:10000895-1719046800-1719070200@www.wayshowerscollege.net
SUMMARY:8835: Spiritual Evolution of Man and Woman
DESCRIPTION:8835: Spiritual Evolution of Man and Woman:\n \n1.      In this course you will discover how Society’s concepts of male and female roles affect you as a soul. \n\n2.      You will learn how you were influenced in such areas as:\n\n(1) physical and mental abilities\, \n(2) family and business roles\, \n(3) companionship\, and \n(4) sex. \n\n3.      You will look at your past and current attitudes through Techniques and become more aware of your own values and how they affect your relationships with others. \n\n4.      You will explore ways to be happier and more fulfilled as a soul.\n \n\nThis class is In Person and Virtual.
URL:https://www.wayshowerscollege.net/event/8835-spiritual-evolution-of-man-and-woman-2/
LOCATION:Camp 2024\, 1447 HWY 69\, Osceola\, IA\, 50213
CATEGORIES:Camps
ATTACH;FMTTYPE=image/jpeg:https://www.wayshowerscollege.net/wp-content/uploads/2024/05/SummerCamp2024p.jpg
ORGANIZER;CN="Esther Karhu":MAILTO:estherkarhu@mac.com
END:VEVENT
BEGIN:VEVENT
DTSTART;TZID=America/New_York:20240601T090000
DTEND;TZID=America/New_York:20240602T170000
DTSTAMP:20260421T085634
CREATED:20240605T144434Z
LAST-MODIFIED:20240605T144434Z
UID:10000871-1717232400-1717347600@www.wayshowerscollege.net
SUMMARY:764-A: Trance Healing: A Deeper Communication
DESCRIPTION:764-A: Trance Healing: A Deeper Communication:\n \n1.      In this course you will find a new key to understanding spiritual evolution and reincarnation.\n\n2.      You will learn to communicate with souls that you have known in previous reincarnations and discover what your relationship was.\n\n3.      You will understand your tendencies as you work with trance healing to cleanse souls.\n\n4.      You will discover the importance of really knowing yourself and staying relaxed so your life vibration can be positive and directed.\n\n5.      You will feel a greater degree of tolerance as you understand the impact of a confused vibration.\n\n\nCourse Prerequisites: Experienced 1002-B The Policies and Procedures of \nLife Profile; Astro Soul Group Work; To have taken\nthe following courses: 700: How to Present the\nAstro Soul Orientation Lecture\, 701-A\, 701-B\, 701-\nC – The Dynamics of Astro Soul and 760:\nSearching Within and Beyond Astro Soul Groups\n\nAlternative Prerequisites: Experience 1002-B: The Policies and Procedures of\nLife Profile and taken the following courses: 700 –\nHow to Present the Astro Soul Orientation Lecture\n744: Your Past\, Present and Future Through Trance\nCommunication and 727: Exploration into the Gift\nof Trance Healing\n\nHighly Recommended: Astro Soul Group Work\n \n\n\nThis class is In Person.
URL:https://www.wayshowerscollege.net/event/764-a-trance-healing-a-deeper-communication-3/
LOCATION:To be announced – New Jersey\, New Jersey\, USA\, Jackson\, United States
CATEGORIES:Training
ATTACH;FMTTYPE=image/png:https://www.wayshowerscollege.net/wp-content/uploads/2023/02/ASlogoMaster_09-nobkgn2.png
ORGANIZER;CN="Esther Karhu":MAILTO:estherkarhu@mac.com
GEO:40.0918895;-74.3587473
X-APPLE-STRUCTURED-LOCATION;VALUE=URI;X-ADDRESS=To be announced – New Jersey New Jersey USA Jackson United States;X-APPLE-RADIUS=500;X-TITLE=New Jersey\, USA:geo:-74.3587473,40.0918895
END:VEVENT
END:VCALENDAR