BEGIN:VCALENDAR
VERSION:2.0
PRODID:-//Wayshowers College - ECPv6.15.16.1//NONSGML v1.0//EN
CALSCALE:GREGORIAN
METHOD:PUBLISH
X-WR-CALNAME:Wayshowers College
X-ORIGINAL-URL:https://www.wayshowerscollege.net
X-WR-CALDESC:Events for Wayshowers College
REFRESH-INTERVAL;VALUE=DURATION:PT1H
X-Robots-Tag:noindex
X-PUBLISHED-TTL:PT1H
BEGIN:VTIMEZONE
TZID:America/New_York
BEGIN:DAYLIGHT
TZOFFSETFROM:-0500
TZOFFSETTO:-0400
TZNAME:EDT
DTSTART:20210314T070000
END:DAYLIGHT
BEGIN:STANDARD
TZOFFSETFROM:-0400
TZOFFSETTO:-0500
TZNAME:EST
DTSTART:20211107T060000
END:STANDARD
BEGIN:DAYLIGHT
TZOFFSETFROM:-0500
TZOFFSETTO:-0400
TZNAME:EDT
DTSTART:20220313T070000
END:DAYLIGHT
BEGIN:STANDARD
TZOFFSETFROM:-0400
TZOFFSETTO:-0500
TZNAME:EST
DTSTART:20221106T060000
END:STANDARD
BEGIN:DAYLIGHT
TZOFFSETFROM:-0500
TZOFFSETTO:-0400
TZNAME:EDT
DTSTART:20230312T070000
END:DAYLIGHT
BEGIN:STANDARD
TZOFFSETFROM:-0400
TZOFFSETTO:-0500
TZNAME:EST
DTSTART:20231105T060000
END:STANDARD
BEGIN:DAYLIGHT
TZOFFSETFROM:-0500
TZOFFSETTO:-0400
TZNAME:EDT
DTSTART:20240310T070000
END:DAYLIGHT
BEGIN:STANDARD
TZOFFSETFROM:-0400
TZOFFSETTO:-0500
TZNAME:EST
DTSTART:20241103T060000
END:STANDARD
BEGIN:DAYLIGHT
TZOFFSETFROM:-0500
TZOFFSETTO:-0400
TZNAME:EDT
DTSTART:20250309T070000
END:DAYLIGHT
BEGIN:STANDARD
TZOFFSETFROM:-0400
TZOFFSETTO:-0500
TZNAME:EST
DTSTART:20251102T060000
END:STANDARD
BEGIN:DAYLIGHT
TZOFFSETFROM:-0500
TZOFFSETTO:-0400
TZNAME:EDT
DTSTART:20260308T070000
END:DAYLIGHT
BEGIN:STANDARD
TZOFFSETFROM:-0400
TZOFFSETTO:-0500
TZNAME:EST
DTSTART:20261101T060000
END:STANDARD
BEGIN:DAYLIGHT
TZOFFSETFROM:-0500
TZOFFSETTO:-0400
TZNAME:EDT
DTSTART:20270314T070000
END:DAYLIGHT
BEGIN:STANDARD
TZOFFSETFROM:-0400
TZOFFSETTO:-0500
TZNAME:EST
DTSTART:20271107T060000
END:STANDARD
END:VTIMEZONE
BEGIN:VEVENT
DTSTART;TZID=America/New_York:20260227T180000
DTEND;TZID=America/New_York:20260227T193000
DTSTAMP:20260423T093945
CREATED:20260217T231038Z
LAST-MODIFIED:20260218T015835Z
UID:10001070-1772215200-1772220600@www.wayshowerscollege.net
SUMMARY:February Monthly Regrouping
DESCRIPTION:You are cordially invited to join your friends\, colleagues and bigger family for the \nupcoming February Monthly Regrouping. \nFacilitated by Dorinda Fox and Shannon Schilling \nSee you there!\n\n  \n\nThis class is Virtual.
URL:https://www.wayshowerscollege.net/event/000-monthly-regrouping-37/
CATEGORIES:Field
ATTACH;FMTTYPE=image/png:https://www.wayshowerscollege.net/wp-content/uploads/2026/02/Feb-2026-Regrouping-banner1.png
ORGANIZER;CN="Dorinda Fox":MAILTO:fox4joy2@gmail.com
END:VEVENT
BEGIN:VEVENT
DTSTART;TZID=America/New_York:20250220T220000
DTEND;TZID=America/New_York:20250220T233000
DTSTAMP:20260423T093945
CREATED:20250203T001456Z
LAST-MODIFIED:20250205T164415Z
UID:10000972-1740088800-1740094200@www.wayshowerscollege.net
SUMMARY:600 IL: Gateway to Your Spiritual Reality (PCC Orientation)
DESCRIPTION:This Gateway to Your Spiritual Reality Orientation to the Peace Community Church program tunes you into the peaceful\, loving and flowing vibration of Peace Community Church. You will explore in depth each of your “four churches” and see how they relate to the feelings in your first four cycles. It stimulates an understanding within you of the spiritual nature of mankind.\n  \n\nREGISTER HERE\nThis class is Virtual.
URL:https://www.wayshowerscollege.net/event/600-il-gateway-to-your-spiritual-reality-pcc-orientation/2025-02-20/3/
CATEGORIES:Field
ATTACH;FMTTYPE=image/png:https://www.wayshowerscollege.net/wp-content/uploads/2025/02/1738541360937_pcc-intro-chart2.png
ORGANIZER;CN="PCCI International":MAILTO:pcciworld0@gmail.com
END:VEVENT
BEGIN:VEVENT
DTSTART;TZID=America/New_York:20250220T190000
DTEND;TZID=America/New_York:20250220T203000
DTSTAMP:20260423T093945
CREATED:20250203T001456Z
LAST-MODIFIED:20250205T164415Z
UID:10000971-1740078000-1740083400@www.wayshowerscollege.net
SUMMARY:600 IL: Gateway to Your Spiritual Reality (PCC Orientation)
DESCRIPTION:This Gateway to Your Spiritual Reality Orientation to the Peace Community Church program tunes you into the peaceful\, loving and flowing vibration of Peace Community Church. You will explore in depth each of your “four churches” and see how they relate to the feelings in your first four cycles. It stimulates an understanding within you of the spiritual nature of mankind.\n  \n\nREGISTER HERE\nThis class is Virtual.
URL:https://www.wayshowerscollege.net/event/600-il-gateway-to-your-spiritual-reality-pcc-orientation/2025-02-20/2/
CATEGORIES:Field
ATTACH;FMTTYPE=image/png:https://www.wayshowerscollege.net/wp-content/uploads/2025/02/1738541360937_pcc-intro-chart2.png
ORGANIZER;CN="PCCI International":MAILTO:pcciworld0@gmail.com
END:VEVENT
BEGIN:VEVENT
DTSTART;TZID=America/New_York:20250220T140000
DTEND;TZID=America/New_York:20250220T153000
DTSTAMP:20260423T093945
CREATED:20250203T001456Z
LAST-MODIFIED:20250205T164415Z
UID:10000969-1740060000-1740065400@www.wayshowerscollege.net
SUMMARY:600 IL: Gateway to Your Spiritual Reality (PCC Orientation)
DESCRIPTION:This Gateway to Your Spiritual Reality Orientation to the Peace Community Church program tunes you into the peaceful\, loving and flowing vibration of Peace Community Church. You will explore in depth each of your “four churches” and see how they relate to the feelings in your first four cycles. It stimulates an understanding within you of the spiritual nature of mankind.\n  \n\nREGISTER HERE\nThis class is Virtual.
URL:https://www.wayshowerscollege.net/event/600-il-gateway-to-your-spiritual-reality-pcc-orientation/2025-02-20/1/
CATEGORIES:Field
ATTACH;FMTTYPE=image/png:https://www.wayshowerscollege.net/wp-content/uploads/2025/02/1738541360937_pcc-intro-chart2.png
ORGANIZER;CN="PCCI International":MAILTO:pcciworld0@gmail.com
END:VEVENT
BEGIN:VEVENT
DTSTART;TZID=America/New_York:20240707T060000
DTEND;TZID=America/New_York:20240707T180000
DTSTAMP:20260423T093945
CREATED:20240617T210648Z
LAST-MODIFIED:20240617T210648Z
UID:10000885-1720332000-1720375200@www.wayshowerscollege.net
SUMMARY:760: Searching Within and Beyond Astro Soul Groups
DESCRIPTION:760: Searching Within and Beyond Astro Soul Groups:\n1. This course provides the procedures for the leadership of “Searching Within and Beyond” Astro Soul groups.\n2. Through an organized group structure\, you will learn more about yourself while practising discernment and communication with your Guidance.\n3. You will also practice developing your spiritual gifts to a higher degree.\n4. Through deep meditation\, semi-trance and trance\, you will expand your consciousness by delving into deeper realms of the Universe. \n\n\nThis class is In Person.
URL:https://www.wayshowerscollege.net/event/760-searching-within-and-beyond-astro-soul-groups/
LOCATION:Camp 2024\, 1447 HWY 69\, Osceola\, IA\, 50213
CATEGORIES:Camps
ATTACH;FMTTYPE=image/jpeg:https://www.wayshowerscollege.net/wp-content/uploads/2024/05/SummerCamp2024p.jpg
ORGANIZER;CN="Shannon Schilling":MAILTO:growing4success@yahoo.com
END:VEVENT
BEGIN:VEVENT
DTSTART;TZID=America/New_York:20240627T090000
DTEND;TZID=America/New_York:20240628T180000
DTSTAMP:20260423T093945
CREATED:20240617T210237Z
LAST-MODIFIED:20240617T210237Z
UID:10000889-1719478800-1719597600@www.wayshowerscollege.net
SUMMARY:726-A: Immersion into the World of Psychic Healing
DESCRIPTION:726-A: Immersion into the World of Psychic Healing:\n \n1.      This is a simple\, factual and to the point course to help you become more familiar with spiritual healing.\n\n2.      You will discern the difference between a sensationalist vibration and a vibration of concern for souls being healed and souls doing healings.\n3.      You will regroup some of the tendencies you have that result from anger or fear which create energy for confused souls and learn to heal these tendencies.\n\n4.      You will being to understand the fear of separation through experiencing the feeling of transition from the physical world to the spiritual and heal that fear.\n\n5.      This course is a continuous healing experience of various fears that manifest themselves in different ways and a manifestation of true concern and true love.\n \n\nThis class is In Person.
URL:https://www.wayshowerscollege.net/event/726-a-immersion-into-the-world-of-psychic-healing/
LOCATION:Camp 2024\, 1447 HWY 69\, Osceola\, IA\, 50213
CATEGORIES:Camps
ATTACH;FMTTYPE=image/jpeg:https://www.wayshowerscollege.net/wp-content/uploads/2024/05/SummerCamp2024p.jpg
ORGANIZER;CN="Dorinda Fox":MAILTO:fox4joy2@gmail.com
END:VEVENT
BEGIN:VEVENT
DTSTART;TZID=America/New_York:20240522T220000
DTEND;TZID=America/New_York:20240523T213000
DTSTAMP:20260423T093945
CREATED:20240523T183302Z
LAST-MODIFIED:20240523T183302Z
UID:10000874-1716415200-1716499800@www.wayshowerscollege.net
SUMMARY:5001IL: Spiritual Freedom Orientation Lecture
DESCRIPTION:5001IL: Spiritual Freedom Orientation Lecture:\n\nDuring this Interactive Class You will experience: \n1. The power of your spiritual energy/aura \n2. Begin to understand your life purpose and how you can unfold it \n3. Learn about your team of guides and how you can be aware of their messages and how to \n4. Recognize ANYTIME your Spiritual Helpers want to communicate with you \n5. Discover how sensitive you are to your environment and why it is essential to raise your vibration to its highest positive point \n6. Explore the 7-year cycles and purpose of each cycle \n7. Learn the 4 ways you can use your intuitive (psychic) abilities and learn to develop all 4. \n\n\n\n\nThis class is Virtual.
URL:https://www.wayshowerscollege.net/event/5001il-spiritual-freedom-orientation-lecture-11/
CATEGORIES:Field
ORGANIZER;CN="IPM International":MAILTO:ipmiworld.org@yahoo.com
END:VEVENT
BEGIN:VEVENT
DTSTART;TZID=America/New_York:20231030T140000
DTEND;TZID=America/New_York:20231030T170000
DTSTAMP:20260423T093945
CREATED:20231010T003059Z
LAST-MODIFIED:20231010T003059Z
UID:10000799-1698674400-1698685200@www.wayshowerscollege.net
SUMMARY:714: My Past\, My Present and My Destiny
DESCRIPTION:714: My Past\, My Present and My Destiny:\n1. This course is an in-depth search into your first seven years to help you see the attitudes which have been passed on to you and the role they play in your life today.  \n2. You will see how feelings of loneliness and resentment can be stimulated within you. \n\n3. You take a look at your self-image and understand tendencies you have developed over lifetimes. \n\n4. You will determine the kind of person you want to be and outline realistic steps to achieve this goal.\n\n\nThis class is Virtual.
URL:https://www.wayshowerscollege.net/event/714-my-past-my-present-and-my-destiny/
CATEGORIES:Field
ORGANIZER;CN="Shannon Schilling":MAILTO:growing4success@yahoo.com
END:VEVENT
BEGIN:VEVENT
DTSTART;TZID=America/New_York:20230930T140000
DTEND;TZID=America/New_York:20230930T173000
DTSTAMP:20260423T093945
CREATED:20230929T160621Z
LAST-MODIFIED:20230929T160621Z
UID:10000791-1696082400-1696095000@www.wayshowerscollege.net
SUMMARY:500IL EID: Man and the Universe Orientation Lecture and Exploring Inner Dynamics Workshop
DESCRIPTION:500IL EID: Man and the Universe Orientation Lecture and Exploring Inner Dynamics Workshop:\n \nThe Orientation Lecture presents the individual with an expanded view of themselves and the world around them.  This program helps a person better understand their experiences in life and discover new dimensions of their own inner potential.  This Lecture will explain your relationship to yourself and the universe; the difference between the conscious and unconscous mind; the four spiritual gifts and the past\, present and future.    dimensions of existence.  In the second portion of this Program\, you will experience your innate sensitivity by working our special Techniques.  You will learn how you chose your life suitation and your parents.\n \n\nThis class is Virtual.
URL:https://www.wayshowerscollege.net/event/500il-eid-man-and-the-universe-orientation-lecture-and-exploring-inner-dynamics-workshop/
CATEGORIES:Field
ORGANIZER;CN="IPM International":MAILTO:ipmiworld.org@yahoo.com
END:VEVENT
BEGIN:VEVENT
DTSTART;TZID=America/New_York:20230927T200000
DTEND;TZID=America/New_York:20230928T233000
DTSTAMP:20260423T093945
CREATED:20230925T142546Z
LAST-MODIFIED:20230925T142546Z
UID:10000790-1695844800-1695943800@www.wayshowerscollege.net
SUMMARY:5001IL: Spiritual Freedom Orientation Lecture
DESCRIPTION:5001IL: Spiritual Freedom Orientation Lecture:\n\n  \nExploring Your\nInner Freedom \n  \nv  In this 90-minute presentation you will\nexperience your magnetic energy\, your aura. \nv  You will tune in to the sensitivity of your\nfirst impression. \nv  Experience your reality of living in two worlds\nat one time\, the physical and spiritual worlds. \nv  Become aware of your team of spiritual masters\n(angels) and the backing they provide you. \nv  Learn about your four ways of intuition/ESP and\nhow to make them more practical. \nv  Learn to expand your sense of inner peace by\nbalancing your thoughts and feelings. \nv  You will begin the steps to mastery of your life\nexperiences through your inner freedom and decision making from the perspective\nof a free soul. \nv  You will experience a bigger picture of your\nspiritual journey as a spiritual being having a physical experience. \nThis class is Virtual.
URL:https://www.wayshowerscollege.net/event/5001il-spiritual-freedom-orientation-lecture-3/
CATEGORIES:Field
ORGANIZER;CN="IPM International":MAILTO:ipmiworld.org@yahoo.com
END:VEVENT
BEGIN:VEVENT
DTSTART;TZID=America/New_York:20230830T200000
DTEND;TZID=America/New_York:20230831T233000
DTSTAMP:20260423T093945
CREATED:20230824T005043Z
LAST-MODIFIED:20230824T023440Z
UID:10000777-1693425600-1693524600@www.wayshowerscollege.net
SUMMARY:5001IL: Spiritual Freedom Orientation Lecture
DESCRIPTION:5001: Spiritual Freedom Orientation Lecture: Re-discover Who You Are and Why You are Here.\nThis class provides the “No holes in my spiritual understanding” essentials for your journey this lifetime. \n\nClearly understand who you are\n\nand why you are here. \n\nLive\, Online program with Spiritual Educators to present the Spiritual “Facts of Life” . To register: CLICK HERE . \n\nInvestment: $25.00\n\n\n\n\n\n\nDate\nStart Time\nEnd Time\nTime Zone\n\n\n30-Aug-2023\n08:00 PM\n09:30 PM\nEastern Standard Time (GMT-5:00)\n\n\n31-Aug-2023\n02:00 PM\n03:30 PM\nEastern Standard Time (GMT-5:00)\n\n\n31-Aug-2023\n10:00 PM\n11:30 PM\nEastern Standard Time (GMT-5:00)\n\n\n\n\n\n  \n\n  \n\nThis class is Virtual.
URL:https://www.wayshowerscollege.net/event/5001il-spiritual-freedom-orientation-lecture/
CATEGORIES:Field
ATTACH;FMTTYPE=image/jpeg:https://www.wayshowerscollege.net/wp-content/uploads/2023/07/new-chart-1.jpeg
ORGANIZER;CN="IPM International":MAILTO:ipmiworld.org@yahoo.com
END:VEVENT
BEGIN:VEVENT
DTSTART;TZID=America/New_York:20230417T160000
DTEND;TZID=America/New_York:20230417T190000
DTSTAMP:20260423T093945
CREATED:20230331T014623Z
LAST-MODIFIED:20230331T014623Z
UID:10000704-1681747200-1681758000@www.wayshowerscollege.net
SUMMARY:700-EFD: Exploring the Fifth Dimension (Workshop)
DESCRIPTION:700-EFD: Exploring the Fifth Dimension (Workshop):\n \n1.      In this Second Step Workshop you will experience the Fifth Dimension through Techniques that help You explore your spiritual energy.\n\n2.      You will learn to keep your energy positive at all times through Spiritual Cleansing.\n\n3.      You will understand “out of body” experiences and learn to astro-travel as a free soul in the Universe.\n\n4.      You will learn to develop your clairaudience through the Technique called “Intuitive Impressions.”\n \n\nThis class is Virtual.
URL:https://www.wayshowerscollege.net/event/700-efd-exploring-the-fifth-dimension-workshop-3/
CATEGORIES:Field
ORGANIZER;CN="Shannon Schilling":MAILTO:growing4success@yahoo.com
END:VEVENT
BEGIN:VEVENT
DTSTART;TZID=America/New_York:20230410T160000
DTEND;TZID=America/New_York:20230417T190000
DTSTAMP:20260423T093945
CREATED:20230331T002144Z
LAST-MODIFIED:20230331T002144Z
UID:10000703-1681142400-1681758000@www.wayshowerscollege.net
SUMMARY:700 IL: Astro Soul Orientation Lecture\,700-EFD: Exploring the Fifth Dimension (Workshop)
DESCRIPTION:700 IL: Astro Soul Orientation Lecture:\n \nIn the Astro Soul Orientation Lecture you will expand your awareness of who you are as a soul.  Topics include: auras\, spiritual sensitivity\, inner guidance\, life after death and intuitive hunches.\n \n\n \n700-EFD: Exploring the Fifth Dimension (Workshop):\n \n1.      In this Second Step Workshop you will experience the Fifth Dimension through Techniques that help You explore your spiritual energy.\n\n2.      You will learn to keep your energy positive at all times through Spiritual Cleansing.\n\n3.      You will understand “out of body” experiences and learn to astro-travel as a free soul in the Universe.\n\n4.      You will learn to develop your clairaudience through the Technique called “Intuitive Impressions.”\n \n\nThis class is Virtual.
URL:https://www.wayshowerscollege.net/event/700-il-astro-soul-orientation-lecture700-efd-exploring-the-fifth-dimension-workshop/
CATEGORIES:Field
ORGANIZER;CN="Shannon Schilling":MAILTO:growing4success@yahoo.com
END:VEVENT
BEGIN:VEVENT
DTSTART;TZID=America/New_York:20220902T180000
DTEND;TZID=America/New_York:20220902T180000
DTSTAMP:20260423T093945
CREATED:20220908T012048Z
LAST-MODIFIED:20220908T012048Z
UID:10000397-1662141600-1662141600@www.wayshowerscollege.net
SUMMARY:1003-A: How to Administer the Percentage of Balance in the Glandular System
DESCRIPTION:1003-A: How to Administer the Percentage of Balance in the Glandular System:\n \n1.      his spiritual Profile will allow your clients to clarify their relationship between the spiritual and physical natures of their lives.\n\n2.      This is a Profile of the seven spiritual energy centers which helps people understand the flow of energy in each chakra.\n\n3.      It also includes a personal growth program for your clients can help increase the level of energy flowing through their system.\n \n\nThis class is Virtual.
URL:https://www.wayshowerscollege.net/event/1003-a-how-to-administer-the-percentage-of-balance-in-the-glandular-system/
CATEGORIES:Field
ATTACH;FMTTYPE=image/jpeg:https://www.wayshowerscollege.net/wp-content/uploads/2022/08/1003A.jpg
ORGANIZER;CN="Shannon Schilling":MAILTO:growing4success@yahoo.com
END:VEVENT
BEGIN:VEVENT
DTSTART;TZID=America/New_York:20220826T180000
DTEND;TZID=America/New_York:20220826T180000
DTSTAMP:20260423T093945
CREATED:20220907T221809Z
LAST-MODIFIED:20220907T221809Z
UID:10000395-1661536800-1661536800@www.wayshowerscollege.net
SUMMARY:1002-A-R: How to Administer the Blockage Discover Profile - Refresher
DESCRIPTION:1002-A-R: How to Administer the Blockage Discover Profile – Refresher:\n \n1.      This course will help you refresh yourself and strengthen your foundation for the Blockage Discovery Profile\, as well as being an example to new people in the course.\n\n2.      You will have the opportunity to experience the course for refreshers only.\n\n3.      This will give an expanded picture of this profile and help you pinpoint areas where you may still limit yourself as a spiritual Consultant.\n \n\nThis class is Virtual.
URL:https://www.wayshowerscollege.net/event/1002-a-r-how-to-administer-the-blockage-discover-profile-refresher/
CATEGORIES:Field
ATTACH;FMTTYPE=image/jpeg:https://www.wayshowerscollege.net/wp-content/uploads/2022/08/1002.jpg
ORGANIZER;CN="Shannon Schilling":MAILTO:growing4success@yahoo.com
END:VEVENT
END:VCALENDAR