BEGIN:VCALENDAR
VERSION:2.0
PRODID:-//Wayshowers College - ECPv6.15.16.1//NONSGML v1.0//EN
CALSCALE:GREGORIAN
METHOD:PUBLISH
X-WR-CALNAME:Wayshowers College
X-ORIGINAL-URL:https://www.wayshowerscollege.net
X-WR-CALDESC:Events for Wayshowers College
REFRESH-INTERVAL;VALUE=DURATION:PT1H
X-Robots-Tag:noindex
X-PUBLISHED-TTL:PT1H
BEGIN:VTIMEZONE
TZID:America/New_York
BEGIN:DAYLIGHT
TZOFFSETFROM:-0500
TZOFFSETTO:-0400
TZNAME:EDT
DTSTART:20220313T070000
END:DAYLIGHT
BEGIN:STANDARD
TZOFFSETFROM:-0400
TZOFFSETTO:-0500
TZNAME:EST
DTSTART:20221106T060000
END:STANDARD
BEGIN:DAYLIGHT
TZOFFSETFROM:-0500
TZOFFSETTO:-0400
TZNAME:EDT
DTSTART:20230312T070000
END:DAYLIGHT
BEGIN:STANDARD
TZOFFSETFROM:-0400
TZOFFSETTO:-0500
TZNAME:EST
DTSTART:20231105T060000
END:STANDARD
BEGIN:DAYLIGHT
TZOFFSETFROM:-0500
TZOFFSETTO:-0400
TZNAME:EDT
DTSTART:20240310T070000
END:DAYLIGHT
BEGIN:STANDARD
TZOFFSETFROM:-0400
TZOFFSETTO:-0500
TZNAME:EST
DTSTART:20241103T060000
END:STANDARD
END:VTIMEZONE
BEGIN:VEVENT
DTSTART;TZID=America/New_York:20230616T130000
DTEND;TZID=America/New_York:20230616T180000
DTSTAMP:20260423T110955
CREATED:20230607T222345Z
LAST-MODIFIED:20230607T222345Z
UID:10000727-1686920400-1686938400@www.wayshowerscollege.net
SUMMARY:8835: Spiritual Evolution of Man and Woman
DESCRIPTION:8835: Spiritual Evolution of Man and Woman:\n \n1.      In this course you will discover how Society’s concepts of male and female roles affect you as a soul. \n\n2.      You will learn how you were influenced in such areas as:\n\n(1) physical and mental abilities\, \n(2) family and business roles\, \n(3) companionship\, and \n(4) sex. \n\n3.      You will look at your past and current attitudes through Techniques and become more aware of your own values and how they affect your relationships with others. \n\n4.      You will explore ways to be happier and more fulfilled as a soul.\n \n  JUNE 16TH 1PM-6PM\n\nPrerequisite to have experienced\nthe 1002A Profile.   \n\n\n\nThis class is In Person and Virtual.
URL:https://www.wayshowerscollege.net/event/8835-spiritual-evolution-of-man-and-woman/
LOCATION:International Conference Center\, 1447 HWY 69\, Osceola\, IA\, 50213\, United States
CATEGORIES:Camps
ORGANIZER;CN="Paul Kellogg":MAILTO:pkellogg1@gmail.com
GEO:41.0342618;-93.766759
X-APPLE-STRUCTURED-LOCATION;VALUE=URI;X-ADDRESS=International Conference Center 1447 HWY 69 Osceola IA 50213 United States;X-APPLE-RADIUS=500;X-TITLE=1447 HWY 69:geo:-93.766759,41.0342618
END:VEVENT
BEGIN:VEVENT
DTSTART;TZID=America/New_York:20230615T060000
DTEND;TZID=America/New_York:20230615T180000
DTSTAMP:20260423T110955
CREATED:20230607T222238Z
LAST-MODIFIED:20230607T222238Z
UID:10000726-1686808800-1686852000@www.wayshowerscollege.net
SUMMARY:8101: How to Administer the Family Traditions and Concepts Profile
DESCRIPTION:8101: How to Administer the Family Traditions and Concepts Profile:\n1. This course prepares you to offer the 8101 Profile: Family Concepts and Traditions Profile.  \n2. In this Profile you will be looking into your family concepts and traditions to find out how you are affected and what you can do about it.  This will be a deep healing on your family maze. \n\n3. You will clarify concepts that have infiltrated your family for four generations. \n\n4. You will begin to heal a concept on each parent’s side that has been affecting you all your life. \n\n5. You will find out what chakra is affected and whether your “inner” or “outer” communication is influenced by this maze and what triggers it. \n\n6. You will find out if the tradition is affecting you in Business\, Personal or Social and the time of day.\n\nJUNE 15TH 6AM-6PM\n\n\n\nThis class is In Person and Virtual.
URL:https://www.wayshowerscollege.net/event/8101-how-to-administer-the-family-traditions-and-concepts-profile/
LOCATION:International Conference Center\, 1447 HWY 69\, Osceola\, IA\, 50213\, United States
CATEGORIES:Camps
ORGANIZER;CN="Mara Spencer":MAILTO:inspiringbelief@cox.net
GEO:41.0342618;-93.766759
X-APPLE-STRUCTURED-LOCATION;VALUE=URI;X-ADDRESS=International Conference Center 1447 HWY 69 Osceola IA 50213 United States;X-APPLE-RADIUS=500;X-TITLE=1447 HWY 69:geo:-93.766759,41.0342618
END:VEVENT
END:VCALENDAR