BEGIN:VCALENDAR
VERSION:2.0
PRODID:-//Wayshowers College - ECPv6.15.16.1//NONSGML v1.0//EN
CALSCALE:GREGORIAN
METHOD:PUBLISH
X-ORIGINAL-URL:https://www.wayshowerscollege.net
X-WR-CALDESC:Events for Wayshowers College
REFRESH-INTERVAL;VALUE=DURATION:PT1H
X-Robots-Tag:noindex
X-PUBLISHED-TTL:PT1H
BEGIN:VTIMEZONE
TZID:America/New_York
BEGIN:DAYLIGHT
TZOFFSETFROM:-0500
TZOFFSETTO:-0400
TZNAME:EDT
DTSTART:20220313T070000
END:DAYLIGHT
BEGIN:STANDARD
TZOFFSETFROM:-0400
TZOFFSETTO:-0500
TZNAME:EST
DTSTART:20221106T060000
END:STANDARD
BEGIN:DAYLIGHT
TZOFFSETFROM:-0500
TZOFFSETTO:-0400
TZNAME:EDT
DTSTART:20230312T070000
END:DAYLIGHT
BEGIN:STANDARD
TZOFFSETFROM:-0400
TZOFFSETTO:-0500
TZNAME:EST
DTSTART:20231105T060000
END:STANDARD
BEGIN:DAYLIGHT
TZOFFSETFROM:-0500
TZOFFSETTO:-0400
TZNAME:EDT
DTSTART:20240310T070000
END:DAYLIGHT
BEGIN:STANDARD
TZOFFSETFROM:-0400
TZOFFSETTO:-0500
TZNAME:EST
DTSTART:20241103T060000
END:STANDARD
END:VTIMEZONE
BEGIN:VTIMEZONE
TZID:America/New_York
BEGIN:DAYLIGHT
TZOFFSETFROM:-0500
TZOFFSETTO:-0400
TZNAME:EDT
DTSTART:20210314T070000
END:DAYLIGHT
BEGIN:STANDARD
TZOFFSETFROM:-0400
TZOFFSETTO:-0500
TZNAME:EST
DTSTART:20211107T060000
END:STANDARD
BEGIN:DAYLIGHT
TZOFFSETFROM:-0500
TZOFFSETTO:-0400
TZNAME:EDT
DTSTART:20220313T070000
END:DAYLIGHT
BEGIN:STANDARD
TZOFFSETFROM:-0400
TZOFFSETTO:-0500
TZNAME:EST
DTSTART:20221106T060000
END:STANDARD
BEGIN:DAYLIGHT
TZOFFSETFROM:-0500
TZOFFSETTO:-0400
TZNAME:EDT
DTSTART:20230312T070000
END:DAYLIGHT
BEGIN:STANDARD
TZOFFSETFROM:-0400
TZOFFSETTO:-0500
TZNAME:EST
DTSTART:20231105T060000
END:STANDARD
BEGIN:DAYLIGHT
TZOFFSETFROM:-0500
TZOFFSETTO:-0400
TZNAME:EDT
DTSTART:20240310T070000
END:DAYLIGHT
BEGIN:STANDARD
TZOFFSETFROM:-0400
TZOFFSETTO:-0500
TZNAME:EST
DTSTART:20241103T060000
END:STANDARD
END:VTIMEZONE
BEGIN:VTIMEZONE
TZID:America/Denver
BEGIN:DAYLIGHT
TZOFFSETFROM:-0700
TZOFFSETTO:-0600
TZNAME:MDT
DTSTART:20210314T090000
END:DAYLIGHT
BEGIN:STANDARD
TZOFFSETFROM:-0600
TZOFFSETTO:-0700
TZNAME:MST
DTSTART:20211107T080000
END:STANDARD
BEGIN:DAYLIGHT
TZOFFSETFROM:-0700
TZOFFSETTO:-0600
TZNAME:MDT
DTSTART:20220313T090000
END:DAYLIGHT
BEGIN:STANDARD
TZOFFSETFROM:-0600
TZOFFSETTO:-0700
TZNAME:MST
DTSTART:20221106T080000
END:STANDARD
BEGIN:DAYLIGHT
TZOFFSETFROM:-0700
TZOFFSETTO:-0600
TZNAME:MDT
DTSTART:20230312T090000
END:DAYLIGHT
BEGIN:STANDARD
TZOFFSETFROM:-0600
TZOFFSETTO:-0700
TZNAME:MST
DTSTART:20231105T080000
END:STANDARD
END:VTIMEZONE
BEGIN:VEVENT
DTSTART;TZID=America/New_York:20230916T100000
DTEND;TZID=America/New_York:20230916T180000
DTSTAMP:20260421T123757
CREATED:20230905T154125Z
LAST-MODIFIED:20230905T161936Z
UID:10000783-1694858400-1694887200@www.wayshowerscollege.net
SUMMARY:How to Present Steps 1 and 2 of the Spiritual Freedom Series Online
DESCRIPTION:
URL:https://www.wayshowerscollege.net/event/spiritual-freedom-lecture-workshop-1-and-2-training/
LOCATION:Online Event
CATEGORIES:Lectures & Workshops,Training
ATTACH;FMTTYPE=image/jpeg:https://www.wayshowerscollege.net/wp-content/uploads/2023/07/new-chart-1.jpeg
END:VEVENT
BEGIN:VEVENT
DTSTART;TZID=America/New_York:20230630T180000
DTEND;TZID=America/New_York:20230630T193000
DTSTAMP:20260421T123757
CREATED:20230622T161332Z
LAST-MODIFIED:20230622T224222Z
UID:10000763-1688148000-1688153400@www.wayshowerscollege.net
SUMMARY:June Monthly Regrouping
DESCRIPTION:Monthly Regrouping June 30th – 6-7:30PM Eastern – 5-6:30 PM Central\nJoin your colleagues in wrapping up the month of June.  Get a preview of the energy for the month of July.\n\nFee: $35 for non Spiritual Freedom Members\nSpiritual Freedom Members will receive an email with the link for the call 3 days in advance of the call.\n  \n\n  \n\nThis class is Virtual.
URL:https://www.wayshowerscollege.net/event/000-monthly-regrouping-10/
LOCATION:Online Event
CATEGORIES:Field
ATTACH;FMTTYPE=image/jpeg:https://www.wayshowerscollege.net/wp-content/uploads/2023/06/June-Monthly-regrouping.jpg
ORGANIZER;CN="Francisco Coll":MAILTO:facts@www.wayshowerscollege.net
END:VEVENT
BEGIN:VEVENT
DTSTART;TZID=America/New_York:20220810T203000
DTEND;TZID=America/New_York:20220810T220000
DTSTAMP:20260421T123757
CREATED:20220806T230144Z
LAST-MODIFIED:20220806T230144Z
UID:10000610-1660163400-1660168800@www.wayshowerscollege.net
SUMMARY:What about the "thrills and chills" of life? Delve deeply into them during this "WOW" Workshop on Aug. 10
DESCRIPTION:Workshop Theme: “Chills and Thrills: The Spiritual Evolution of the Soul” 90 minute Online Workshop sponsored by Wayshowers Community Fellowship\, a non-profit educational organization\, a member of the Spiritual Alliance with Wayshowers College\, IPM International \, and Peace Community Church International. \nBenefits of month’s WOW Workshop… \n\nTheme of the Month: Regrouping of July theme of “EPISODE” and energize August with the theme of “THRILL”\nExperience techniques for increased awareness and healing of body\, mind and soul\n“Self Love”: A special guided meditation\nExploring “Life as an Adventure on Planet Earth”\nRegroup the year of “RALLYING THE FORCES”\nSet your energy for the Spiritual New Year of “ELEVATION\, INNOVATION”\nEnjoy a fun\, uplifting fellowship with like-minded souls.\n\nFREE for first time attendees. \nThe workshop is FREE (yes\, free!) for first-time attendees. Register below: \nThe regular fee is $20 and half price for WCF members\, seniors and people with disabilities. \nSTEP 1: Your payment for the WOW Workshop is done via PayPal. \nOn PayPal\, you send your payment to: \ntreasurer@WayshowersCommunityFellowship.org \nSTEP 2: After your payment you will need to register here and you will be e-mailed the Zoom link to attend. Note that it is best to register early and be on time for the WOW Workshop to ensure all is working. \n‘WOW’ is a fund-raiser for WCF \nFor further info: \nSecretary@WayshowersCommunityFellowship.org
URL:https://www.wayshowerscollege.net/event/what-about-the-thrills-and-chills-of-life-delve-deeply-into-them-during-this-wow-workshop-on-aug-10/
LOCATION:Online Event
CATEGORIES:Lectures & Workshops,Online Programs,Workshops
ORGANIZER;CN="Kathleen Ellis":MAILTO:kellis2worlds@yahoo.com
END:VEVENT
BEGIN:VEVENT
DTSTART;TZID=America/Denver:20220410T110000
DTEND;TZID=America/Denver:20220410T140000
DTSTAMP:20260421T123757
CREATED:20220406T020249Z
LAST-MODIFIED:20220409T023134Z
UID:10000592-1649588400-1649599200@www.wayshowerscollege.net
SUMMARY:TRUST: A Way of LIFE
DESCRIPTION:You are invited to experience a 3 hour Wayshowers College course\, TRUST: a WAY of LIFE  Sunday\, April 10\, 2022  1 pm –  4 pm EDT (noon – 3 pm CDT\, 11 am – 2 pm MDT\, 10 am – 1 pm PDT) \nExperience the Creator in you as you expand your trust\, sensitivity and imagination. \nYour true nature is pure feeling. Learn to live from your inner pivot without dogma.\nTune into your spiritual beingness with the richness of your intuitive abilities.\nBecome more aware of your “way of living”\, which is your “religion.”\nFeel the unifying power of your energy when connected with the energy of Spirit & people.\nClarify how you have been indoctrinated\, the purpose of religions\, and the evolution of your personal consciousness in Cycles of Life.\nSense your true feelings – your Crystal Clear or Christ Consciousness.\n \nFacilitators: John Pease (Portland\, OR) & Dorinda Fox\, (Placitas\, NM) \nContact Info: \nJohn Pease\nWayshowers College Facilitator/Consultant\nAstro-Soul®\, Inner Peace Movement®\, PCC ® Programs\nhttps://nwmystical.com/ \njohn@NWMystical.com\n503.869.9104 \n Dorinda Fox\, D. D.\nWayshowers College Spiritual Educator/Consultant\nNew Spiritual Horizons®\, Inner Peace Movement®\, Astro-Soul®\, PCCI ® Programs \nfox4joy2@gmail.com\n703-898-6459                                                                                          
URL:https://www.wayshowerscollege.net/event/trust-a-way-of-life/
LOCATION:Online Event
CATEGORIES:Workshops
END:VEVENT
BEGIN:VEVENT
DTSTART;TZID=America/Denver:20220409T140000
DTEND;TZID=America/Denver:20220409T153000
DTSTAMP:20260421T123757
CREATED:20220401T010219Z
LAST-MODIFIED:20220409T013039Z
UID:10000590-1649512800-1649518200@www.wayshowerscollege.net
SUMMARY:Unfolding My Imagination with Love
DESCRIPTION:Unfolding Your Imagination with Love – An Orientation to PCC Programs \nThis 1.5 hour interactive presentation reveals the foundation of our life’s evolution through the soul’s clear direction\, cycles and early influences.  \n\nReturn to the garden\, your true feelings\, the God within you.\nExplore how family\, religion and society impact the soul and its brilliance. When we are secure and balanced\, we are consistent love. \nWhere do we detour from loving and trusting ourselves and feeling one with all? \nLearn the importance of the first four 7 Year Cycles of life.\nFind ways to expand trusting your feelings\, connecting with guidance\, sharing and acting on your inner core of love and inner direction.\n\nInvestment: $15.  Register at https://dorindafox.com/events/ \nPresented by: Dorinda Fox\, D.D. “PCC Program involvement has helped me heal fears of death\, separation\, self-judgement and doubt. It has given me understanding of the role of religions\, the reality of the soul’s evolution and angels\, and the joy of sharing with others and living without fear. That’s real freedom!” \nPart of YOUR IMAGINATION JOURNEY Tour guided by Dorinda Fox and John Pease\, Wayshowers College Consultants. \n 
URL:https://www.wayshowerscollege.net/event/unfolding-my-imagination-with-love/
LOCATION:Online Event
CATEGORIES:Lectures & Workshops
END:VEVENT
END:VCALENDAR